{"text_format":"1","workbook":"xlsx","n_sheets":11,"sheets":["Pretest_Correction","ES from Mean ","ES from F","ES from r","ES from Dichot Prop","ES from t ","Weighted Effect Size","ES from Omnibus F","Homogeneity Test","Random Variance Component","Random Effects Model Summary"],"not_rendered":{"charts":0,"images":0,"macros":0,"external_links":0,"defined_names":1,"comments":0,"pivot_tables":0},"unopened":[],"bounds":{"document_bytes":16777216,"sheet_cells":100000,"rows_first":2000,"rows_last":500,"rows_between":2000,"halvings":0,"cell_chars":16384,"cell_head_chars":4096},"cells_cut":0,"cells_raw":0,"read":"whole","date_system":"1900"}

{"sheet":"Pretest_Correction","index":0,"n_rows":92,"n_cols":12,"rows_kept":92,"cut":false,"hidden":false,"merged":[[0,4,0,6],[0,7,0,9],[1,11,5,17],[8,11,12,17]]}
[null,null,null,null,"Control Group",null,null,"Treatment Group"]
["Coder","Study ID","Study","Description of Group Comparison","Pretest","Posttest","Mean to Enter","Pretest","Posttest","Mean to Enter",null,"To be consistent, Always Enter the SD from the Posttest "]
[null,null,null,null,null,null,{"$f":"F3-E3","v":0},null,null,{"$f":"I3-H3","v":0}]
[null,null,null,null,null,null,{"$f":"F4-E4","v":0},null,null,{"$f":"I4-H4","v":0}]
[null,null,null,null,null,null,0,null,null,0]
[null,null,null,null,null,null,0,null,null,0]
[null,null,null,null,null,null,0,null,null,0]
[null,null,null,null,null,null,0,null,null,0]
[null,null,null,null,null,null,0,null,null,0,null,"If the Pretest and Posttest are not on the same scale, use the Posttest only"]
[null,null,null,null,null,null,0,null,null,0]
[null,null,null,null,null,null,0,null,null,0]
[null,null,null,null,null,null,0,null,null,0]
[null,null,null,null,null,null,0,null,null,0]
[null,null,null,null,null,null,0,null,null,0]
[null,null,null,null,null,null,0,null,null,0]
[null,null,null,null,null,null,0,null,null,0]
[null,null,null,null,null,null,0,null,null,0]
[null,null,null,null,null,null,0,null,null,0]
[null,null,null,null,null,null,0,null,null,0]
[null,null,null,null,null,null,0,null,null,0]
[null,null,null,null,null,null,0,null,null,0]
[null,null,null,null,null,null,0,null,null,0]
[null,null,null,null,null,null,0,null,null,0]
[null,null,null,null,null,null,0,null,null,0]
[null,null,null,null,null,null,0,null,null,0]
[null,null,null,null,null,null,0,null,null,0]
[null,null,null,null,null,null,0,null,null,0]
[null,null,null,null,null,null,0,null,null,0]
[null,null,null,null,null,null,0,null,null,0]
[null,null,null,null,null,null,0,null,null,0]
[null,null,null,null,null,null,0,null,null,0]
[null,null,null,null,null,null,0,null,null,0]
[null,null,null,null,null,null,0,null,null,0]
[null,null,null,null,null,null,0,null,null,0]
[null,null,null,null,null,null,0,null,null,0]
[null,null,null,null,null,null,0,null,null,0]
[null,null,null,null,null,null,0,null,null,0]
[null,null,null,null,null,null,0,null,null,0]
[null,null,null,null,null,null,0,null,null,0]
[null,null,null,null,null,null,0,null,null,0]
[null,null,null,null,null,null,0,null,null,0]
[null,null,null,null,null,null,0,null,null,0]
[null,null,null,null,null,null,0,null,null,0]
[null,null,null,null,null,null,0,null,null,0]
[null,null,null,null,null,null,0,null,null,0]
[null,null,null,null,null,null,0,null,null,0]
[null,null,null,null,null,null,0,null,null,0]
[null,null,null,null,null,null,0,null,null,0]
[null,null,null,null,null,null,0,null,null,0]
[null,null,null,null,null,null,0,null,null,0]
[null,null,null,null,null,null,0,null,null,0]
[null,null,null,null,null,null,0,null,null,0]
[null,null,null,null,null,null,0,null,null,0]
[null,null,null,null,null,null,0,null,null,0]
[null,null,null,null,null,null,0,null,null,0]
[null,null,null,null,null,null,0,null,null,0]
[null,null,null,null,null,null,0,null,null,0]
[null,null,null,null,null,null,0,null,null,0]
[null,null,null,null,null,null,0,null,null,0]
[null,null,null,null,null,null,0,null,null,0]
[null,null,null,null,null,null,0,null,null,0]
[null,null,null,null,null,null,0,null,null,0]
[null,null,null,null,null,null,0,null,null,0]
[null,null,null,null,null,null,0,null,null,0]
[null,null,null,null,null,null,0,null,null,0]
[null,null,null,null,null,null,0,null,null,0]
[null,null,null,null,null,null,0,null,null,0]
[null,null,null,null,null,null,{"$f":"F68-E68","v":0},null,null,{"$f":"I68-H68","v":0}]
[null,null,null,null,null,null,0,null,null,0]
[null,null,null,null,null,null,0,null,null,0]
[null,null,null,null,null,null,0,null,null,0]
[null,null,null,null,null,null,0,null,null,0]
[null,null,null,null,null,null,0,null,null,0]
[null,null,null,null,null,null,0,null,null,0]
[null,null,null,null,null,null,0,null,null,0]
[null,null,null,null,null,null,0,null,null,0]
[null,null,null,null,null,null,0,null,null,0]
[null,null,null,null,null,null,0,null,null,0]
[null,null,null,null,null,null,0,null,null,0]
[null,null,null,null,null,null,0,null,null,0]
[null,null,null,null,null,null,0,null,null,0]
[null,null,null,null,null,null,0,null,null,0]
[null,null,null,null,null,null,0,null,null,0]
[null,null,null,null,null,null,0,null,null,0]
[null,null,null,null,null,null,0,null,null,0]
[null,null,null,null,null,null,0,null,null,0]
[null,null,null,null,null,null,0,null,null,0]
[null,null,null,null,null,null,0,null,null,0]
[null,null,null,null,null,null,0,null,null,0]
[null,null,null,null,null,null,0,null,null,0]
[null,null,null,null,null,null,0,null,null,0]
[null,null,null,null,null,null,0,null,null,0]

{"sheet":"ES from Mean ","index":1,"n_rows":391,"n_cols":18,"rows_kept":391,"cut":false,"hidden":false,"merged":[[0,2,0,5],[0,6,0,9]]}
[null,null,"Control Group",null,null,null,"Treatment Group"]
["Study","Description of the measure","n1","Ȳ1","s1","(s1)2","n2","Ȳ2","s2","(s2)2","sp","d","d2","n1n2","n1 + n2","SEd","Lo95d","Hi95d"]
[null,null,null,null,null,{"$f":"E3^2","v":0},null,null,null,{"$f":"I3^2","v":0},{"$f":"SQRT((F3+J3)/2)","v":0},{"$f":"(H3-D3)/K3","v":{"$error":"#DIV/0!"}},{"$f":"L3^2","v":{"$error":"#DIV/0!"}},{"$f":"C3*G3","v":0},{"$f":"C3+G3","v":0},{"$f":"SQRT((O3/N3)+(M3/(2*O3)))","v":{"$error":"#DIV/0!"}},{"$f":"L3-(1.96*P3)","v":{"$error":"#DIV/0!"}},{"$f":"L3+(1.96*P3)","v":{"$error":"#DIV/0!"}}]
[null,null,null,null,null,{"$f":"E4^2","v":0},null,null,null,{"$f":"I4^2","v":0},{"$f":"SQRT((F4+J4)/2)","v":0},{"$f":"(H4-D4)/K4","v":{"$error":"#DIV/0!"}},{"$f":"L4^2","v":{"$error":"#DIV/0!"}},{"$f":"C4*G4","v":0},{"$f":"C4+G4","v":0},{"$f":"SQRT((O4/N4)+(M4/(2*O4)))","v":{"$error":"#DIV/0!"}},{"$f":"L4-(1.96*P4)","v":{"$error":"#DIV/0!"}},{"$f":"L4+(1.96*P4)","v":{"$error":"#DIV/0!"}}]
[null,null,null,null,null,0,null,null,null,0,0,{"$error":"#DIV/0!"},{"$error":"#DIV/0!"},0,0,{"$error":"#DIV/0!"},{"$error":"#DIV/0!"},{"$error":"#DIV/0!"}]
[null,null,null,null,null,0,null,null,null,0,0,{"$error":"#DIV/0!"},{"$error":"#DIV/0!"},0,0,{"$error":"#DIV/0!"},{"$error":"#DIV/0!"},{"$error":"#DIV/0!"}]
[null,null,null,null,null,0,null,null,null,0,0,{"$error":"#DIV/0!"},{"$error":"#DIV/0!"},0,0,{"$error":"#DIV/0!"},{"$error":"#DIV/0!"},{"$error":"#DIV/0!"}]
[null,null,null,null,null,0,null,null,null,0,0,{"$error":"#DIV/0!"},{"$error":"#DIV/0!"},0,0,{"$error":"#DIV/0!"},{"$error":"#DIV/0!"},{"$error":"#DIV/0!"}]
[null,null,null,null,null,0,null,null,null,0,0,{"$error":"#DIV/0!"},{"$error":"#DIV/0!"},0,0,{"$error":"#DIV/0!"},{"$error":"#DIV/0!"},{"$error":"#DIV/0!"}]
[null,null,null,null,null,0,null,null,null,0,0,{"$error":"#DIV/0!"},{"$error":"#DIV/0!"},0,0,{"$error":"#DIV/0!"},{"$error":"#DIV/0!"},{"$error":"#DIV/0!"}]
[null,null,null,null,null,0,null,null,null,0,0,{"$error":"#DIV/0!"},{"$error":"#DIV/0!"},0,0,{"$error":"#DIV/0!"},{"$error":"#DIV/0!"},{"$error":"#DIV/0!"}]
[null,null,null,null,null,0,null,null,null,0,0,{"$error":"#DIV/0!"},{"$error":"#DIV/0!"},0,0,{"$error":"#DIV/0!"},{"$error":"#DIV/0!"},{"$error":"#DIV/0!"}]
[null,null,null,null,null,0,null,null,null,0,0,{"$error":"#DIV/0!"},{"$error":"#DIV/0!"},0,0,{"$error":"#DIV/0!"},{"$error":"#DIV/0!"},{"$error":"#DIV/0!"}]
[null,null,null,null,null,0,null,null,null,0,0,{"$error":"#DIV/0!"},{"$error":"#DIV/0!"},0,0,{"$error":"#DIV/0!"},{"$error":"#DIV/0!"},{"$error":"#DIV/0!"}]
[null,null,null,null,null,0,null,null,null,0,0,{"$error":"#DIV/0!"},{"$error":"#DIV/0!"},0,0,{"$error":"#DIV/0!"},{"$error":"#DIV/0!"},{"$error":"#DIV/0!"}]
[null,null,null,null,null,0,null,null,null,0,0,{"$error":"#DIV/0!"},{"$error":"#DIV/0!"},0,0,{"$error":"#DIV/0!"},{"$error":"#DIV/0!"},{"$error":"#DIV/0!"}]
[null,null,null,null,null,0,null,null,null,0,{"$f":"SQRT((F17+J17)/2)","v":0},{"$f":"(H17-D17)/K17","v":{"$error":"#DIV/0!"}},{"$error":"#DIV/0!"},{"$f":"C17*G17","v":0},{"$f":"C17+G17","v":0},{"$error":"#DIV/0!"},{"$error":"#DIV/0!"},{"$error":"#DIV/0!"}]
[null,null,null,null,null,0,null,null,null,0,0,{"$error":"#DIV/0!"},{"$error":"#DIV/0!"},0,0,{"$error":"#DIV/0!"},{"$error":"#DIV/0!"},{"$error":"#DIV/0!"}]
[null,null,null,null,null,0,null,null,null,0,0,{"$error":"#DIV/0!"},{"$error":"#DIV/0!"},0,0,{"$error":"#DIV/0!"},{"$error":"#DIV/0!"},{"$error":"#DIV/0!"}]
[null,null,null,null,null,0,null,null,null,0,0,{"$error":"#DIV/0!"},{"$error":"#DIV/0!"},0,0,{"$error":"#DIV/0!"},{"$error":"#DIV/0!"},{"$error":"#DIV/0!"}]
[null,null,null,null,null,0,null,null,null,0,0,{"$error":"#DIV/0!"},{"$error":"#DIV/0!"},0,0,{"$error":"#DIV/0!"},{"$error":"#DIV/0!"},{"$error":"#DIV/0!"}]
[null,null,null,null,null,0,null,null,null,0,0,{"$error":"#DIV/0!"},{"$error":"#DIV/0!"},0,0,{"$error":"#DIV/0!"},{"$error":"#DIV/0!"},{"$error":"#DIV/0!"}]
[null,null,null,null,null,0,null,null,null,0,0,{"$error":"#DIV/0!"},{"$error":"#DIV/0!"},0,0,{"$error":"#DIV/0!"},{"$error":"#DIV/0!"},{"$error":"#DIV/0!"}]
[null,null,null,null,null,0,null,null,null,0,0,{"$error":"#DIV/0!"},{"$error":"#DIV/0!"},0,0,{"$error":"#DIV/0!"},{"$error":"#DIV/0!"},{"$error":"#DIV/0!"}]
[null,null,null,null,null,0,null,null,null,0,0,{"$error":"#DIV/0!"},{"$error":"#DIV/0!"},0,0,{"$error":"#DIV/0!"},{"$error":"#DIV/0!"},{"$error":"#DIV/0!"}]
[null,null,null,null,null,0,null,null,null,0,0,{"$error":"#DIV/0!"},{"$error":"#DIV/0!"},0,0,{"$error":"#DIV/0!"},{"$error":"#DIV/0!"},{"$error":"#DIV/0!"}]
[null,null,null,null,null,0,null,null,null,0,0,{"$error":"#DIV/0!"},{"$error":"#DIV/0!"},0,0,{"$error":"#DIV/0!"},{"$error":"#DIV/0!"},{"$error":"#DIV/0!"}]
[null,null,null,null,null,{"$f":"E28^2","v":0},null,null,null,{"$f":"I28^2","v":0},0,{"$error":"#DIV/0!"},{"$f":"L28^2","v":{"$error":"#DIV/0!"}},0,0,{"$f":"SQRT((O28/N28)+(M28/(2*O28)))","v":{"$error":"#DIV/0!"}},{"$f":"L28-(1.96*P28)","v":{"$error":"#DIV/0!"}},{"$f":"L28+(1.96*P28)","v":{"$error":"#DIV/0!"}}]
[null,null,null,null,null,0,null,null,null,0,0,{"$error":"#DIV/0!"},{"$error":"#DIV/0!"},0,0,{"$error":"#DIV/0!"},{"$error":"#DIV/0!"},{"$error":"#DIV/0!"}]
[null,null,null,null,null,0,null,null,null,0,0,{"$error":"#DIV/0!"},{"$error":"#DIV/0!"},0,0,{"$error":"#DIV/0!"},{"$error":"#DIV/0!"},{"$error":"#DIV/0!"}]
[null,null,null,null,null,0,null,null,null,0,0,{"$error":"#DIV/0!"},{"$error":"#DIV/0!"},0,0,{"$error":"#DIV/0!"},{"$error":"#DIV/0!"},{"$error":"#DIV/0!"}]
[null,null,null,null,null,0,null,null,null,0,0,{"$error":"#DIV/0!"},{"$error":"#DIV/0!"},0,0,{"$error":"#DIV/0!"},{"$error":"#DIV/0!"},{"$error":"#DIV/0!"}]
[null,null,null,null,null,0,null,null,null,0,0,{"$error":"#DIV/0!"},{"$error":"#DIV/0!"},0,0,{"$error":"#DIV/0!"},{"$error":"#DIV/0!"},{"$error":"#DIV/0!"}]
[null,null,null,null,null,0,null,null,null,0,0,{"$error":"#DIV/0!"},{"$error":"#DIV/0!"},0,0,{"$error":"#DIV/0!"},{"$error":"#DIV/0!"},{"$error":"#DIV/0!"}]
[null,null,null,null,null,0,null,null,null,0,0,{"$error":"#DIV/0!"},{"$error":"#DIV/0!"},0,0,{"$error":"#DIV/0!"},{"$error":"#DIV/0!"},{"$error":"#DIV/0!"}]
[null,null,null,null,null,0,null,null,null,0,0,{"$error":"#DIV/0!"},{"$error":"#DIV/0!"},0,0,{"$error":"#DIV/0!"},{"$error":"#DIV/0!"},{"$error":"#DIV/0!"}]
[null,null,null,null,null,0,null,null,null,0,0,{"$error":"#DIV/0!"},{"$error":"#DIV/0!"},0,0,{"$error":"#DIV/0!"},{"$error":"#DIV/0!"},{"$error":"#DIV/0!"}]
[null,null,null,null,null,0,null,null,null,0,0,{"$error":"#DIV/0!"},{"$error":"#DIV/0!"},0,0,{"$error":"#DIV/0!"},{"$error":"#DIV/0!"},{"$error":"#DIV/0!"}]
[null,null,null,null,null,0,null,null,null,0,0,{"$error":"#DIV/0!"},{"$error":"#DIV/0!"},0,0,{"$error":"#DIV/0!"},{"$error":"#DIV/0!"},{"$error":"#DIV/0!"}]
[null,null,null,null,null,0,null,null,null,0,0,{"$error":"#DIV/0!"},{"$error":"#DIV/0!"},0,0,{"$error":"#DIV/0!"},{"$error":"#DIV/0!"},{"$error":"#DIV/0!"}]
[null,null,null,null,null,0,null,null,null,0,0,{"$error":"#DIV/0!"},{"$error":"#DIV/0!"},0,0,{"$error":"#DIV/0!"},{"$error":"#DIV/0!"},{"$error":"#DIV/0!"}]
[null,null,null,null,null,0,null,null,null,0,0,{"$error":"#DIV/0!"},{"$error":"#DIV/0!"},0,0,{"$error":"#DIV/0!"},{"$error":"#DIV/0!"},{"$error":"#DIV/0!"}]
[null,null,null,null,null,0,null,null,null,0,0,{"$error":"#DIV/0!"},{"$error":"#DIV/0!"},0,0,{"$error":"#DIV/0!"},{"$error":"#DIV/0!"},{"$error":"#DIV/0!"}]
[null,null,null,null,null,0,null,null,null,0,0,{"$error":"#DIV/0!"},{"$error":"#DIV/0!"},0,0,{"$error":"#DIV/0!"},{"$error":"#DIV/0!"},{"$error":"#DIV/0!"}]
[null,null,null,null,null,0,null,null,null,0,0,{"$error":"#DIV/0!"},{"$error":"#DIV/0!"},0,0,{"$error":"#DIV/0!"},{"$error":"#DIV/0!"},{"$error":"#DIV/0!"}]
[null,null,null,null,null,0,null,null,null,0,0,{"$error":"#DIV/0!"},{"$error":"#DIV/0!"},0,0,{"$error":"#DIV/0!"},{"$error":"#DIV/0!"},{"$error":"#DIV/0!"}]
[null,null,null,null,null,0,null,null,null,0,0,{"$error":"#DIV/0!"},{"$error":"#DIV/0!"},0,0,{"$error":"#DIV/0!"},{"$error":"#DIV/0!"},{"$error":"#DIV/0!"}]
[null,null,null,null,null,0,null,null,null,0,0,{"$error":"#DIV/0!"},{"$error":"#DIV/0!"},0,0,{"$error":"#DIV/0!"},{"$error":"#DIV/0!"},{"$error":"#DIV/0!"}]
[null,null,null,null,null,0,null,null,null,0,0,{"$error":"#DIV/0!"},{"$error":"#DIV/0!"},0,0,{"$error":"#DIV/0!"},{"$error":"#DIV/0!"},{"$error":"#DIV/0!"}]
[null,null,null,null,null,0,null,null,null,0,0,{"$error":"#DIV/0!"},{"$error":"#DIV/0!"},0,0,{"$error":"#DIV/0!"},{"$error":"#DIV/0!"},{"$error":"#DIV/0!"}]
[null,null,null,null,null,0,null,null,null,0,0,{"$error":"#DIV/0!"},{"$error":"#DIV/0!"},0,0,{"$error":"#DIV/0!"},{"$error":"#DIV/0!"},{"$error":"#DIV/0!"}]
[null,null,null,null,null,0,null,null,null,0,0,{"$error":"#DIV/0!"},{"$error":"#DIV/0!"},0,0,{"$error":"#DIV/0!"},{"$error":"#DIV/0!"},{"$error":"#DIV/0!"}]
[null,null,null,null,null,0,null,null,null,0,0,{"$error":"#DIV/0!"},{"$error":"#DIV/0!"},0,0,{"$error":"#DIV/0!"},{"$error":"#DIV/0!"},{"$error":"#DIV/0!"}]
[null,null,null,null,null,0,null,null,null,0,0,{"$error":"#DIV/0!"},{"$error":"#DIV/0!"},0,0,{"$error":"#DIV/0!"},{"$error":"#DIV/0!"},{"$error":"#DIV/0!"}]
[null,null,null,null,null,0,null,null,null,0,0,{"$error":"#DIV/0!"},{"$error":"#DIV/0!"},0,0,{"$error":"#DIV/0!"},{"$error":"#DIV/0!"},{"$error":"#DIV/0!"}]
[null,null,null,null,null,0,null,null,null,0,0,{"$error":"#DIV/0!"},{"$error":"#DIV/0!"},0,0,{"$error":"#DIV/0!"},{"$error":"#DIV/0!"},{"$error":"#DIV/0!"}]
[null,null,null,null,null,0,null,null,null,0,0,{"$error":"#DIV/0!"},{"$error":"#DIV/0!"},0,0,{"$error":"#DIV/0!"},{"$error":"#DIV/0!"},{"$error":"#DIV/0!"}]
[null,null,null,null,null,0,null,null,null,0,0,{"$error":"#DIV/0!"},{"$error":"#DIV/0!"},0,0,{"$error":"#DIV/0!"},{"$error":"#DIV/0!"},{"$error":"#DIV/0!"}]
[null,null,null,null,null,0,null,null,null,0,0,{"$error":"#DIV/0!"},{"$error":"#DIV/0!"},0,0,{"$error":"#DIV/0!"},{"$error":"#DIV/0!"},{"$error":"#DIV/0!"}]
[null,null,null,null,null,0,null,null,null,0,0,{"$error":"#DIV/0!"},{"$error":"#DIV/0!"},0,0,{"$error":"#DIV/0!"},{"$error":"#DIV/0!"},{"$error":"#DIV/0!"}]
[null,null,null,null,null,0,null,null,null,0,0,{"$error":"#DIV/0!"},{"$error":"#DIV/0!"},0,0,{"$error":"#DIV/0!"},{"$error":"#DIV/0!"},{"$error":"#DIV/0!"}]
[null,null,null,null,null,0,null,null,null,0,0,{"$error":"#DIV/0!"},{"$error":"#DIV/0!"},0,0,{"$error":"#DIV/0!"},{"$error":"#DIV/0!"},{"$error":"#DIV/0!"}]
[null,null,null,null,null,0,null,null,null,0,0,{"$error":"#DIV/0!"},{"$error":"#DIV/0!"},0,0,{"$error":"#DIV/0!"},{"$error":"#DIV/0!"},{"$error":"#DIV/0!"}]
[null,null,null,null,null,0,null,null,null,0,0,{"$error":"#DIV/0!"},{"$error":"#DIV/0!"},0,0,{"$error":"#DIV/0!"},{"$error":"#DIV/0!"},{"$error":"#DIV/0!"}]
[null,null,null,null,null,0,null,null,null,0,0,{"$error":"#DIV/0!"},{"$error":"#DIV/0!"},0,0,{"$error":"#DIV/0!"},{"$error":"#DIV/0!"},{"$error":"#DIV/0!"}]
[null,null,null,null,null,0,null,null,null,0,0,{"$error":"#DIV/0!"},{"$error":"#DIV/0!"},0,0,{"$error":"#DIV/0!"},{"$error":"#DIV/0!"},{"$error":"#DIV/0!"}]
[null,null,null,null,null,0,null,null,null,0,0,{"$error":"#DIV/0!"},{"$error":"#DIV/0!"},0,0,{"$error":"#DIV/0!"},{"$error":"#DIV/0!"},{"$error":"#DIV/0!"}]
[null,null,null,null,null,0,null,null,null,0,0,{"$error":"#DIV/0!"},{"$error":"#DIV/0!"},0,0,{"$error":"#DIV/0!"},{"$error":"#DIV/0!"},{"$error":"#DIV/0!"}]
[null,null,null,null,null,0,null,null,null,0,0,{"$error":"#DIV/0!"},{"$error":"#DIV/0!"},0,0,{"$error":"#DIV/0!"},{"$error":"#DIV/0!"},{"$error":"#DIV/0!"}]
[null,null,null,null,null,0,null,null,null,0,0,{"$error":"#DIV/0!"},{"$error":"#DIV/0!"},0,0,{"$error":"#DIV/0!"},{"$error":"#DIV/0!"},{"$error":"#DIV/0!"}]
[null,null,null,null,null,0,null,null,null,0,0,{"$error":"#DIV/0!"},{"$error":"#DIV/0!"},0,0,{"$error":"#DIV/0!"},{"$error":"#DIV/0!"},{"$error":"#DIV/0!"}]
[null,null,null,null,null,0,null,null,null,0,0,{"$error":"#DIV/0!"},{"$error":"#DIV/0!"},0,0,{"$error":"#DIV/0!"},{"$error":"#DIV/0!"},{"$error":"#DIV/0!"}]
[null,null,null,null,null,0,null,null,null,0,0,{"$error":"#DIV/0!"},{"$error":"#DIV/0!"},0,0,{"$error":"#DIV/0!"},{"$error":"#DIV/0!"},{"$error":"#DIV/0!"}]
[null,null,null,null,null,0,null,null,null,0,0,{"$error":"#DIV/0!"},{"$error":"#DIV/0!"},0,0,{"$error":"#DIV/0!"},{"$error":"#DIV/0!"},{"$error":"#DIV/0!"}]
[null,null,null,null,null,0,null,null,null,0,0,{"$error":"#DIV/0!"},{"$error":"#DIV/0!"},0,0,{"$error":"#DIV/0!"},{"$error":"#DIV/0!"},{"$error":"#DIV/0!"}]
[null,null,null,null,null,0,null,null,null,0,0,{"$error":"#DIV/0!"},{"$error":"#DIV/0!"},0,0,{"$error":"#DIV/0!"},{"$error":"#DIV/0!"},{"$error":"#DIV/0!"}]
[null,null,null,null,null,0,null,null,null,0,0,{"$error":"#DIV/0!"},{"$error":"#DIV/0!"},0,0,{"$error":"#DIV/0!"},{"$error":"#DIV/0!"},{"$error":"#DIV/0!"}]
[null,null,null,null,null,0,null,null,null,0,0,{"$error":"#DIV/0!"},{"$error":"#DIV/0!"},0,0,{"$error":"#DIV/0!"},{"$error":"#DIV/0!"},{"$error":"#DIV/0!"}]
[null,null,null,null,null,0,null,null,null,0,0,{"$error":"#DIV/0!"},{"$error":"#DIV/0!"},0,0,{"$error":"#DIV/0!"},{"$error":"#DIV/0!"},{"$error":"#DIV/0!"}]
[null,null,null,null,null,0,null,null,null,0,0,{"$error":"#DIV/0!"},{"$error":"#DIV/0!"},0,0,{"$error":"#DIV/0!"},{"$error":"#DIV/0!"},{"$error":"#DIV/0!"}]
[null,null,null,null,null,0,null,null,null,0,{"$f":"SQRT((F81+J81)/2)","v":0},{"$f":"(H81-D81)/K81","v":{"$error":"#DIV/0!"}},{"$error":"#DIV/0!"},{"$f":"C81*G81","v":0},{"$f":"C81+G81","v":0},{"$error":"#DIV/0!"},{"$error":"#DIV/0!"},{"$error":"#DIV/0!"}]
[null,null,null,null,null,0,null,null,null,0,0,{"$error":"#DIV/0!"},{"$error":"#DIV/0!"},0,0,{"$error":"#DIV/0!"},{"$error":"#DIV/0!"},{"$error":"#DIV/0!"}]
[null,null,null,null,null,0,null,null,null,0,0,{"$error":"#DIV/0!"},{"$error":"#DIV/0!"},0,0,{"$error":"#DIV/0!"},{"$error":"#DIV/0!"},{"$error":"#DIV/0!"}]
[null,null,null,null,null,0,null,null,null,0,0,{"$error":"#DIV/0!"},{"$error":"#DIV/0!"},0,0,{"$error":"#DIV/0!"},{"$error":"#DIV/0!"},{"$error":"#DIV/0!"}]
[null,null,null,null,null,0,null,null,null,0,0,{"$error":"#DIV/0!"},{"$error":"#DIV/0!"},0,0,{"$error":"#DIV/0!"},{"$error":"#DIV/0!"},{"$error":"#DIV/0!"}]
[null,null,null,null,null,0,null,null,null,0,0,{"$error":"#DIV/0!"},{"$error":"#DIV/0!"},0,0,{"$error":"#DIV/0!"},{"$error":"#DIV/0!"},{"$error":"#DIV/0!"}]
[null,null,null,null,null,0,null,null,null,0,0,{"$error":"#DIV/0!"},{"$error":"#DIV/0!"},0,0,{"$error":"#DIV/0!"},{"$error":"#DIV/0!"},{"$error":"#DIV/0!"}]
[null,null,null,null,null,0,null,null,null,0,0,{"$error":"#DIV/0!"},{"$error":"#DIV/0!"},0,0,{"$error":"#DIV/0!"},{"$error":"#DIV/0!"},{"$error":"#DIV/0!"}]
[null,null,null,null,null,0,null,null,null,0,0,{"$error":"#DIV/0!"},{"$error":"#DIV/0!"},0,0,{"$error":"#DIV/0!"},{"$error":"#DIV/0!"},{"$error":"#DIV/0!"}]
[null,null,null,null,null,0,null,null,null,0,0,{"$error":"#DIV/0!"},{"$error":"#DIV/0!"},0,0,{"$error":"#DIV/0!"},{"$error":"#DIV/0!"},{"$error":"#DIV/0!"}]
[null,null,null,null,null,0,null,null,null,0,0,{"$error":"#DIV/0!"},{"$error":"#DIV/0!"},0,0,{"$error":"#DIV/0!"},{"$error":"#DIV/0!"},{"$error":"#DIV/0!"}]
[null,null,null,null,null,{"$f":"E92^2","v":0},null,null,null,{"$f":"I92^2","v":0},0,{"$error":"#DIV/0!"},{"$f":"L92^2","v":{"$error":"#DIV/0!"}},0,0,{"$f":"SQRT((O92/N92)+(M92/(2*O92)))","v":{"$error":"#DIV/0!"}},{"$f":"L92-(1.96*P92)","v":{"$error":"#DIV/0!"}},{"$f":"L92+(1.96*P92)","v":{"$error":"#DIV/0!"}}]
[null,null,null,null,null,0,null,null,null,0,0,{"$error":"#DIV/0!"},{"$error":"#DIV/0!"},0,0,{"$error":"#DIV/0!"},{"$error":"#DIV/0!"},{"$error":"#DIV/0!"}]
[null,null,null,null,null,0,null,null,null,0,0,{"$error":"#DIV/0!"},{"$error":"#DIV/0!"},0,0,{"$error":"#DIV/0!"},{"$error":"#DIV/0!"},{"$error":"#DIV/0!"}]
[null,null,null,null,null,0,null,null,null,0,0,{"$error":"#DIV/0!"},{"$error":"#DIV/0!"},0,0,{"$error":"#DIV/0!"},{"$error":"#DIV/0!"},{"$error":"#DIV/0!"}]
[null,null,null,null,null,0,null,null,null,0,0,{"$error":"#DIV/0!"},{"$error":"#DIV/0!"},0,0,{"$error":"#DIV/0!"},{"$error":"#DIV/0!"},{"$error":"#DIV/0!"}]
[null,null,null,null,null,0,null,null,null,0,0,{"$error":"#DIV/0!"},{"$error":"#DIV/0!"},0,0,{"$error":"#DIV/0!"},{"$error":"#DIV/0!"},{"$error":"#DIV/0!"}]
[null,null,null,null,null,0,null,null,null,0,0,{"$error":"#DIV/0!"},{"$error":"#DIV/0!"},0,0,{"$error":"#DIV/0!"},{"$error":"#DIV/0!"},{"$error":"#DIV/0!"}]
[null,null,null,null,null,0,null,null,null,0,0,{"$error":"#DIV/0!"},{"$error":"#DIV/0!"},0,0,{"$error":"#DIV/0!"},{"$error":"#DIV/0!"},{"$error":"#DIV/0!"}]
[null,null,null,null,null,0,null,null,null,0,0,{"$error":"#DIV/0!"},{"$error":"#DIV/0!"},0,0,{"$error":"#DIV/0!"},{"$error":"#DIV/0!"},{"$error":"#DIV/0!"}]
[null,null,null,null,null,0,null,null,null,0,0,{"$error":"#DIV/0!"},{"$error":"#DIV/0!"},0,0,{"$error":"#DIV/0!"},{"$error":"#DIV/0!"},{"$error":"#DIV/0!"}]
[null,null,null,null,null,0,null,null,null,0,0,{"$error":"#DIV/0!"},{"$error":"#DIV/0!"},0,0,{"$error":"#DIV/0!"},{"$error":"#DIV/0!"},{"$error":"#DIV/0!"}]
[null,null,null,null,null,0,null,null,null,0,0,{"$error":"#DIV/0!"},{"$error":"#DIV/0!"},0,0,{"$error":"#DIV/0!"},{"$error":"#DIV/0!"},{"$error":"#DIV/0!"}]
[null,null,null,null,null,0,null,null,null,0,0,{"$error":"#DIV/0!"},{"$error":"#DIV/0!"},0,0,{"$error":"#DIV/0!"},{"$error":"#DIV/0!"},{"$error":"#DIV/0!"}]
[null,null,null,null,null,0,null,null,null,0,0,{"$error":"#DIV/0!"},{"$error":"#DIV/0!"},0,0,{"$error":"#DIV/0!"},{"$error":"#DIV/0!"},{"$error":"#DIV/0!"}]
[null,null,null,null,null,0,null,null,null,0,0,{"$error":"#DIV/0!"},{"$error":"#DIV/0!"},0,0,{"$error":"#DIV/0!"},{"$error":"#DIV/0!"},{"$error":"#DIV/0!"}]
[null,null,null,null,null,0,null,null,null,0,0,{"$error":"#DIV/0!"},{"$error":"#DIV/0!"},0,0,{"$error":"#DIV/0!"},{"$error":"#DIV/0!"},{"$error":"#DIV/0!"}]
[null,null,null,null,null,0,null,null,null,0,0,{"$error":"#DIV/0!"},{"$error":"#DIV/0!"},0,0,{"$error":"#DIV/0!"},{"$error":"#DIV/0!"},{"$error":"#DIV/0!"}]
[null,null,null,null,null,0,null,null,null,0,0,{"$error":"#DIV/0!"},{"$error":"#DIV/0!"},0,0,{"$error":"#DIV/0!"},{"$error":"#DIV/0!"},{"$error":"#DIV/0!"}]
[null,null,null,null,null,0,null,null,null,0,0,{"$error":"#DIV/0!"},{"$error":"#DIV/0!"},0,0,{"$error":"#DIV/0!"},{"$error":"#DIV/0!"},{"$error":"#DIV/0!"}]
[null,null,null,null,null,0,null,null,null,0,0,{"$error":"#DIV/0!"},{"$error":"#DIV/0!"},0,0,{"$error":"#DIV/0!"},{"$error":"#DIV/0!"},{"$error":"#DIV/0!"}]
[null,null,null,null,null,0,null,null,null,0,0,{"$error":"#DIV/0!"},{"$error":"#DIV/0!"},0,0,{"$error":"#DIV/0!"},{"$error":"#DIV/0!"},{"$error":"#DIV/0!"}]
[null,null,null,null,null,0,null,null,null,0,0,{"$error":"#DIV/0!"},{"$error":"#DIV/0!"},0,0,{"$error":"#DIV/0!"},{"$error":"#DIV/0!"},{"$error":"#DIV/0!"}]
[null,null,null,null,null,0,null,null,null,0,0,{"$error":"#DIV/0!"},{"$error":"#DIV/0!"},0,0,{"$error":"#DIV/0!"},{"$error":"#DIV/0!"},{"$error":"#DIV/0!"}]
[null,null,null,null,null,0,null,null,null,0,0,{"$error":"#DIV/0!"},{"$error":"#DIV/0!"},0,0,{"$error":"#DIV/0!"},{"$error":"#DIV/0!"},{"$error":"#DIV/0!"}]
[null,null,null,null,null,0,null,null,null,0,0,{"$error":"#DIV/0!"},{"$error":"#DIV/0!"},0,0,{"$error":"#DIV/0!"},{"$error":"#DIV/0!"},{"$error":"#DIV/0!"}]
[null,null,null,null,null,0,null,null,null,0,0,{"$error":"#DIV/0!"},{"$error":"#DIV/0!"},0,0,{"$error":"#DIV/0!"},{"$error":"#DIV/0!"},{"$error":"#DIV/0!"}]
[null,null,null,null,null,0,null,null,null,0,0,{"$error":"#DIV/0!"},{"$error":"#DIV/0!"},0,0,{"$error":"#DIV/0!"},{"$error":"#DIV/0!"},{"$error":"#DIV/0!"}]
[null,null,null,null,null,0,null,null,null,0,0,{"$error":"#DIV/0!"},{"$error":"#DIV/0!"},0,0,{"$error":"#DIV/0!"},{"$error":"#DIV/0!"},{"$error":"#DIV/0!"}]
[null,null,null,null,null,0,null,null,null,0,0,{"$error":"#DIV/0!"},{"$error":"#DIV/0!"},0,0,{"$error":"#DIV/0!"},{"$error":"#DIV/0!"},{"$error":"#DIV/0!"}]
[null,null,null,null,null,0,null,null,null,0,0,{"$error":"#DIV/0!"},{"$error":"#DIV/0!"},0,0,{"$error":"#DIV/0!"},{"$error":"#DIV/0!"},{"$error":"#DIV/0!"}]
[null,null,null,null,null,0,null,null,null,0,0,{"$error":"#DIV/0!"},{"$error":"#DIV/0!"},0,0,{"$error":"#DIV/0!"},{"$error":"#DIV/0!"},{"$error":"#DIV/0!"}]
[null,null,null,null,null,0,null,null,null,0,0,{"$error":"#DIV/0!"},{"$error":"#DIV/0!"},0,0,{"$error":"#DIV/0!"},{"$error":"#DIV/0!"},{"$error":"#DIV/0!"}]
[null,null,null,null,null,0,null,null,null,0,0,{"$error":"#DIV/0!"},{"$error":"#DIV/0!"},0,0,{"$error":"#DIV/0!"},{"$error":"#DIV/0!"},{"$error":"#DIV/0!"}]
[null,null,null,null,null,0,null,null,null,0,0,{"$error":"#DIV/0!"},{"$error":"#DIV/0!"},0,0,{"$error":"#DIV/0!"},{"$error":"#DIV/0!"},{"$error":"#DIV/0!"}]
[null,null,null,null,null,0,null,null,null,0,0,{"$error":"#DIV/0!"},{"$error":"#DIV/0!"},0,0,{"$error":"#DIV/0!"},{"$error":"#DIV/0!"},{"$error":"#DIV/0!"}]
[null,null,null,null,null,0,null,null,null,0,0,{"$error":"#DIV/0!"},{"$error":"#DIV/0!"},0,0,{"$error":"#DIV/0!"},{"$error":"#DIV/0!"},{"$error":"#DIV/0!"}]
[null,null,null,null,null,0,null,null,null,0,0,{"$error":"#DIV/0!"},{"$error":"#DIV/0!"},0,0,{"$error":"#DIV/0!"},{"$error":"#DIV/0!"},{"$error":"#DIV/0!"}]
[null,null,null,null,null,0,null,null,null,0,0,{"$error":"#DIV/0!"},{"$error":"#DIV/0!"},0,0,{"$error":"#DIV/0!"},{"$error":"#DIV/0!"},{"$error":"#DIV/0!"}]
[null,null,null,null,null,0,null,null,null,0,0,{"$error":"#DIV/0!"},{"$error":"#DIV/0!"},0,0,{"$error":"#DIV/0!"},{"$error":"#DIV/0!"},{"$error":"#DIV/0!"}]
[null,null,null,null,null,0,null,null,null,0,0,{"$error":"#DIV/0!"},{"$error":"#DIV/0!"},0,0,{"$error":"#DIV/0!"},{"$error":"#DIV/0!"},{"$error":"#DIV/0!"}]
[null,null,null,null,null,0,null,null,null,0,0,{"$error":"#DIV/0!"},{"$error":"#DIV/0!"},0,0,{"$error":"#DIV/0!"},{"$error":"#DIV/0!"},{"$error":"#DIV/0!"}]
[null,null,null,null,null,0,null,null,null,0,0,{"$error":"#DIV/0!"},{"$error":"#DIV/0!"},0,0,{"$error":"#DIV/0!"},{"$error":"#DIV/0!"},{"$error":"#DIV/0!"}]
[null,null,null,null,null,0,null,null,null,0,0,{"$error":"#DIV/0!"},{"$error":"#DIV/0!"},0,0,{"$error":"#DIV/0!"},{"$error":"#DIV/0!"},{"$error":"#DIV/0!"}]
[null,null,null,null,null,0,null,null,null,0,0,{"$error":"#DIV/0!"},{"$error":"#DIV/0!"},0,0,{"$error":"#DIV/0!"},{"$error":"#DIV/0!"},{"$error":"#DIV/0!"}]
[null,null,null,null,null,0,null,null,null,0,0,{"$error":"#DIV/0!"},{"$error":"#DIV/0!"},0,0,{"$error":"#DIV/0!"},{"$error":"#DIV/0!"},{"$error":"#DIV/0!"}]
[null,null,null,null,null,0,null,null,null,0,0,{"$error":"#DIV/0!"},{"$error":"#DIV/0!"},0,0,{"$error":"#DIV/0!"},{"$error":"#DIV/0!"},{"$error":"#DIV/0!"}]
[null,null,null,null,null,0,null,null,null,0,0,{"$error":"#DIV/0!"},{"$error":"#DIV/0!"},0,0,{"$error":"#DIV/0!"},{"$error":"#DIV/0!"},{"$error":"#DIV/0!"}]
[null,null,null,null,null,0,null,null,null,0,0,{"$error":"#DIV/0!"},{"$error":"#DIV/0!"},0,0,{"$error":"#DIV/0!"},{"$error":"#DIV/0!"},{"$error":"#DIV/0!"}]
[null,null,null,null,null,0,null,null,null,0,0,{"$error":"#DIV/0!"},{"$error":"#DIV/0!"},0,0,{"$error":"#DIV/0!"},{"$error":"#DIV/0!"},{"$error":"#DIV/0!"}]
[null,null,null,null,null,0,null,null,null,0,0,{"$error":"#DIV/0!"},{"$error":"#DIV/0!"},0,0,{"$error":"#DIV/0!"},{"$error":"#DIV/0!"},{"$error":"#DIV/0!"}]
[null,null,null,null,null,0,null,null,null,0,0,{"$error":"#DIV/0!"},{"$error":"#DIV/0!"},0,0,{"$error":"#DIV/0!"},{"$error":"#DIV/0!"},{"$error":"#DIV/0!"}]
[null,null,null,null,null,0,null,null,null,0,0,{"$error":"#DIV/0!"},{"$error":"#DIV/0!"},0,0,{"$error":"#DIV/0!"},{"$error":"#DIV/0!"},{"$error":"#DIV/0!"}]
[null,null,null,null,null,0,null,null,null,0,0,{"$error":"#DIV/0!"},{"$error":"#DIV/0!"},0,0,{"$error":"#DIV/0!"},{"$error":"#DIV/0!"},{"$error":"#DIV/0!"}]
[null,null,null,null,null,0,null,null,null,0,{"$f":"SQRT((F145+J145)/2)","v":0},{"$f":"(H145-D145)/K145","v":{"$error":"#DIV/0!"}},{"$error":"#DIV/0!"},{"$f":"C145*G145","v":0},{"$f":"C145+G145","v":0},{"$error":"#DIV/0!"},{"$error":"#DIV/0!"},{"$error":"#DIV/0!"}]
[null,null,null,null,null,0,null,null,null,0,0,{"$error":"#DIV/0!"},{"$error":"#DIV/0!"},0,0,{"$error":"#DIV/0!"},{"$error":"#DIV/0!"},{"$error":"#DIV/0!"}]
[null,null,null,null,null,0,null,null,null,0,0,{"$error":"#DIV/0!"},{"$error":"#DIV/0!"},0,0,{"$error":"#DIV/0!"},{"$error":"#DIV/0!"},{"$error":"#DIV/0!"}]
[null,null,null,null,null,0,null,null,null,0,0,{"$error":"#DIV/0!"},{"$error":"#DIV/0!"},0,0,{"$error":"#DIV/0!"},{"$error":"#DIV/0!"},{"$error":"#DIV/0!"}]
[null,null,null,null,null,0,null,null,null,0,0,{"$error":"#DIV/0!"},{"$error":"#DIV/0!"},0,0,{"$error":"#DIV/0!"},{"$error":"#DIV/0!"},{"$error":"#DIV/0!"}]
[null,null,null,null,null,0,null,null,null,0,0,{"$error":"#DIV/0!"},{"$error":"#DIV/0!"},0,0,{"$error":"#DIV/0!"},{"$error":"#DIV/0!"},{"$error":"#DIV/0!"}]
[null,null,null,null,null,0,null,null,null,0,0,{"$error":"#DIV/0!"},{"$error":"#DIV/0!"},0,0,{"$error":"#DIV/0!"},{"$error":"#DIV/0!"},{"$error":"#DIV/0!"}]
[null,null,null,null,null,0,null,null,null,0,0,{"$error":"#DIV/0!"},{"$error":"#DIV/0!"},0,0,{"$error":"#DIV/0!"},{"$error":"#DIV/0!"},{"$error":"#DIV/0!"}]
[null,null,null,null,null,0,null,null,null,0,0,{"$error":"#DIV/0!"},{"$error":"#DIV/0!"},0,0,{"$error":"#DIV/0!"},{"$error":"#DIV/0!"},{"$error":"#DIV/0!"}]
[null,null,null,null,null,0,null,null,null,0,0,{"$error":"#DIV/0!"},{"$error":"#DIV/0!"},0,0,{"$error":"#DIV/0!"},{"$error":"#DIV/0!"},{"$error":"#DIV/0!"}]
[null,null,null,null,null,0,null,null,null,0,0,{"$error":"#DIV/0!"},{"$error":"#DIV/0!"},0,0,{"$error":"#DIV/0!"},{"$error":"#DIV/0!"},{"$error":"#DIV/0!"}]
[null,null,null,null,null,{"$f":"E156^2","v":0},null,null,null,{"$f":"I156^2","v":0},0,{"$error":"#DIV/0!"},{"$f":"L156^2","v":{"$error":"#DIV/0!"}},0,0,{"$f":"SQRT((O156/N156)+(M156/(2*O156)))","v":{"$error":"#DIV/0!"}},{"$f":"L156-(1.96*P156)","v":{"$error":"#DIV/0!"}},{"$f":"L156+(1.96*P156)","v":{"$error":"#DIV/0!"}}]
[null,null,null,null,null,0,null,null,null,0,0,{"$error":"#DIV/0!"},{"$error":"#DIV/0!"},0,0,{"$error":"#DIV/0!"},{"$error":"#DIV/0!"},{"$error":"#DIV/0!"}]
[null,null,null,null,null,0,null,null,null,0,0,{"$error":"#DIV/0!"},{"$error":"#DIV/0!"},0,0,{"$error":"#DIV/0!"},{"$error":"#DIV/0!"},{"$error":"#DIV/0!"}]
[null,null,null,null,null,0,null,null,null,0,0,{"$error":"#DIV/0!"},{"$error":"#DIV/0!"},0,0,{"$error":"#DIV/0!"},{"$error":"#DIV/0!"},{"$error":"#DIV/0!"}]
[null,null,null,null,null,0,null,null,null,0,0,{"$error":"#DIV/0!"},{"$error":"#DIV/0!"},0,0,{"$error":"#DIV/0!"},{"$error":"#DIV/0!"},{"$error":"#DIV/0!"}]
[null,null,null,null,null,0,null,null,null,0,0,{"$error":"#DIV/0!"},{"$error":"#DIV/0!"},0,0,{"$error":"#DIV/0!"},{"$error":"#DIV/0!"},{"$error":"#DIV/0!"}]
[null,null,null,null,null,0,null,null,null,0,0,{"$error":"#DIV/0!"},{"$error":"#DIV/0!"},0,0,{"$error":"#DIV/0!"},{"$error":"#DIV/0!"},{"$error":"#DIV/0!"}]
[null,null,null,null,null,0,null,null,null,0,0,{"$error":"#DIV/0!"},{"$error":"#DIV/0!"},0,0,{"$error":"#DIV/0!"},{"$error":"#DIV/0!"},{"$error":"#DIV/0!"}]
[null,null,null,null,null,0,null,null,null,0,0,{"$error":"#DIV/0!"},{"$error":"#DIV/0!"},0,0,{"$error":"#DIV/0!"},{"$error":"#DIV/0!"},{"$error":"#DIV/0!"}]
[null,null,null,null,null,0,null,null,null,0,0,{"$error":"#DIV/0!"},{"$error":"#DIV/0!"},0,0,{"$error":"#DIV/0!"},{"$error":"#DIV/0!"},{"$error":"#DIV/0!"}]
[null,null,null,null,null,0,null,null,null,0,0,{"$error":"#DIV/0!"},{"$error":"#DIV/0!"},0,0,{"$error":"#DIV/0!"},{"$error":"#DIV/0!"},{"$error":"#DIV/0!"}]
[null,null,null,null,null,0,null,null,null,0,0,{"$error":"#DIV/0!"},{"$error":"#DIV/0!"},0,0,{"$error":"#DIV/0!"},{"$error":"#DIV/0!"},{"$error":"#DIV/0!"}]
[null,null,null,null,null,0,null,null,null,0,0,{"$error":"#DIV/0!"},{"$error":"#DIV/0!"},0,0,{"$error":"#DIV/0!"},{"$error":"#DIV/0!"},{"$error":"#DIV/0!"}]
[null,null,null,null,null,0,null,null,null,0,0,{"$error":"#DIV/0!"},{"$error":"#DIV/0!"},0,0,{"$error":"#DIV/0!"},{"$error":"#DIV/0!"},{"$error":"#DIV/0!"}]
[null,null,null,null,null,0,null,null,null,0,0,{"$error":"#DIV/0!"},{"$error":"#DIV/0!"},0,0,{"$error":"#DIV/0!"},{"$error":"#DIV/0!"},{"$error":"#DIV/0!"}]
[null,null,null,null,null,0,null,null,null,0,0,{"$error":"#DIV/0!"},{"$error":"#DIV/0!"},0,0,{"$error":"#DIV/0!"},{"$error":"#DIV/0!"},{"$error":"#DIV/0!"}]
[null,null,null,null,null,0,null,null,null,0,0,{"$error":"#DIV/0!"},{"$error":"#DIV/0!"},0,0,{"$error":"#DIV/0!"},{"$error":"#DIV/0!"},{"$error":"#DIV/0!"}]
[null,null,null,null,null,0,null,null,null,0,0,{"$error":"#DIV/0!"},{"$error":"#DIV/0!"},0,0,{"$error":"#DIV/0!"},{"$error":"#DIV/0!"},{"$error":"#DIV/0!"}]
[null,null,null,null,null,0,null,null,null,0,0,{"$error":"#DIV/0!"},{"$error":"#DIV/0!"},0,0,{"$error":"#DIV/0!"},{"$error":"#DIV/0!"},{"$error":"#DIV/0!"}]
[null,null,null,null,null,0,null,null,null,0,0,{"$error":"#DIV/0!"},{"$error":"#DIV/0!"},0,0,{"$error":"#DIV/0!"},{"$error":"#DIV/0!"},{"$error":"#DIV/0!"}]
[null,null,null,null,null,0,null,null,null,0,0,{"$error":"#DIV/0!"},{"$error":"#DIV/0!"},0,0,{"$error":"#DIV/0!"},{"$error":"#DIV/0!"},{"$error":"#DIV/0!"}]
[null,null,null,null,null,0,null,null,null,0,0,{"$error":"#DIV/0!"},{"$error":"#DIV/0!"},0,0,{"$error":"#DIV/0!"},{"$error":"#DIV/0!"},{"$error":"#DIV/0!"}]
[null,null,null,null,null,0,null,null,null,0,0,{"$error":"#DIV/0!"},{"$error":"#DIV/0!"},0,0,{"$error":"#DIV/0!"},{"$error":"#DIV/0!"},{"$error":"#DIV/0!"}]
[null,null,null,null,null,0,null,null,null,0,0,{"$error":"#DIV/0!"},{"$error":"#DIV/0!"},0,0,{"$error":"#DIV/0!"},{"$error":"#DIV/0!"},{"$error":"#DIV/0!"}]
[null,null,null,null,null,0,null,null,null,0,0,{"$error":"#DIV/0!"},{"$error":"#DIV/0!"},0,0,{"$error":"#DIV/0!"},{"$error":"#DIV/0!"},{"$error":"#DIV/0!"}]
[null,null,null,null,null,0,null,null,null,0,0,{"$error":"#DIV/0!"},{"$error":"#DIV/0!"},0,0,{"$error":"#DIV/0!"},{"$error":"#DIV/0!"},{"$error":"#DIV/0!"}]
[null,null,null,null,null,0,null,null,null,0,0,{"$error":"#DIV/0!"},{"$error":"#DIV/0!"},0,0,{"$error":"#DIV/0!"},{"$error":"#DIV/0!"},{"$error":"#DIV/0!"}]
[null,null,null,null,null,0,null,null,null,0,0,{"$error":"#DIV/0!"},{"$error":"#DIV/0!"},0,0,{"$error":"#DIV/0!"},{"$error":"#DIV/0!"},{"$error":"#DIV/0!"}]
[null,null,null,null,null,0,null,null,null,0,0,{"$error":"#DIV/0!"},{"$error":"#DIV/0!"},0,0,{"$error":"#DIV/0!"},{"$error":"#DIV/0!"},{"$error":"#DIV/0!"}]
[null,null,null,null,null,0,null,null,null,0,0,{"$error":"#DIV/0!"},{"$error":"#DIV/0!"},0,0,{"$error":"#DIV/0!"},{"$error":"#DIV/0!"},{"$error":"#DIV/0!"}]
[null,null,null,null,null,0,null,null,null,0,0,{"$error":"#DIV/0!"},{"$error":"#DIV/0!"},0,0,{"$error":"#DIV/0!"},{"$error":"#DIV/0!"},{"$error":"#DIV/0!"}]
[null,null,null,null,null,0,null,null,null,0,0,{"$error":"#DIV/0!"},{"$error":"#DIV/0!"},0,0,{"$error":"#DIV/0!"},{"$error":"#DIV/0!"},{"$error":"#DIV/0!"}]
[null,null,null,null,null,0,null,null,null,0,0,{"$error":"#DIV/0!"},{"$error":"#DIV/0!"},0,0,{"$error":"#DIV/0!"},{"$error":"#DIV/0!"},{"$error":"#DIV/0!"}]
[null,null,null,null,null,0,null,null,null,0,0,{"$error":"#DIV/0!"},{"$error":"#DIV/0!"},0,0,{"$error":"#DIV/0!"},{"$error":"#DIV/0!"},{"$error":"#DIV/0!"}]
[null,null,null,null,null,0,null,null,null,0,0,{"$error":"#DIV/0!"},{"$error":"#DIV/0!"},0,0,{"$error":"#DIV/0!"},{"$error":"#DIV/0!"},{"$error":"#DIV/0!"}]
[null,null,null,null,null,0,null,null,null,0,0,{"$error":"#DIV/0!"},{"$error":"#DIV/0!"},0,0,{"$error":"#DIV/0!"},{"$error":"#DIV/0!"},{"$error":"#DIV/0!"}]
[null,null,null,null,null,0,null,null,null,0,0,{"$error":"#DIV/0!"},{"$error":"#DIV/0!"},0,0,{"$error":"#DIV/0!"},{"$error":"#DIV/0!"},{"$error":"#DIV/0!"}]
[null,null,null,null,null,0,null,null,null,0,0,{"$error":"#DIV/0!"},{"$error":"#DIV/0!"},0,0,{"$error":"#DIV/0!"},{"$error":"#DIV/0!"},{"$error":"#DIV/0!"}]
[null,null,null,null,null,0,null,null,null,0,0,{"$error":"#DIV/0!"},{"$error":"#DIV/0!"},0,0,{"$error":"#DIV/0!"},{"$error":"#DIV/0!"},{"$error":"#DIV/0!"}]
[null,null,null,null,null,0,null,null,null,0,0,{"$error":"#DIV/0!"},{"$error":"#DIV/0!"},0,0,{"$error":"#DIV/0!"},{"$error":"#DIV/0!"},{"$error":"#DIV/0!"}]
[null,null,null,null,null,0,null,null,null,0,0,{"$error":"#DIV/0!"},{"$error":"#DIV/0!"},0,0,{"$error":"#DIV/0!"},{"$error":"#DIV/0!"},{"$error":"#DIV/0!"}]
[null,null,null,null,null,0,null,null,null,0,0,{"$error":"#DIV/0!"},{"$error":"#DIV/0!"},0,0,{"$error":"#DIV/0!"},{"$error":"#DIV/0!"},{"$error":"#DIV/0!"}]
[null,null,null,null,null,0,null,null,null,0,0,{"$error":"#DIV/0!"},{"$error":"#DIV/0!"},0,0,{"$error":"#DIV/0!"},{"$error":"#DIV/0!"},{"$error":"#DIV/0!"}]
[null,null,null,null,null,0,null,null,null,0,0,{"$error":"#DIV/0!"},{"$error":"#DIV/0!"},0,0,{"$error":"#DIV/0!"},{"$error":"#DIV/0!"},{"$error":"#DIV/0!"}]
[null,null,null,null,null,0,null,null,null,0,0,{"$error":"#DIV/0!"},{"$error":"#DIV/0!"},0,0,{"$error":"#DIV/0!"},{"$error":"#DIV/0!"},{"$error":"#DIV/0!"}]
[null,null,null,null,null,0,null,null,null,0,0,{"$error":"#DIV/0!"},{"$error":"#DIV/0!"},0,0,{"$error":"#DIV/0!"},{"$error":"#DIV/0!"},{"$error":"#DIV/0!"}]
[null,null,null,null,null,0,null,null,null,0,0,{"$error":"#DIV/0!"},{"$error":"#DIV/0!"},0,0,{"$error":"#DIV/0!"},{"$error":"#DIV/0!"},{"$error":"#DIV/0!"}]
[null,null,null,null,null,0,null,null,null,0,0,{"$error":"#DIV/0!"},{"$error":"#DIV/0!"},0,0,{"$error":"#DIV/0!"},{"$error":"#DIV/0!"},{"$error":"#DIV/0!"}]
[null,null,null,null,null,0,null,null,null,0,0,{"$error":"#DIV/0!"},{"$error":"#DIV/0!"},0,0,{"$error":"#DIV/0!"},{"$error":"#DIV/0!"},{"$error":"#DIV/0!"}]
[null,null,null,null,null,0,null,null,null,0,0,{"$error":"#DIV/0!"},{"$error":"#DIV/0!"},0,0,{"$error":"#DIV/0!"},{"$error":"#DIV/0!"},{"$error":"#DIV/0!"}]
[null,null,null,null,null,0,null,null,null,0,0,{"$error":"#DIV/0!"},{"$error":"#DIV/0!"},0,0,{"$error":"#DIV/0!"},{"$error":"#DIV/0!"},{"$error":"#DIV/0!"}]
[null,null,null,null,null,0,null,null,null,0,0,{"$error":"#DIV/0!"},{"$error":"#DIV/0!"},0,0,{"$error":"#DIV/0!"},{"$error":"#DIV/0!"},{"$error":"#DIV/0!"}]
[null,null,null,null,null,0,null,null,null,0,0,{"$error":"#DIV/0!"},{"$error":"#DIV/0!"},0,0,{"$error":"#DIV/0!"},{"$error":"#DIV/0!"},{"$error":"#DIV/0!"}]
[null,null,null,null,null,0,null,null,null,0,{"$f":"SQRT((F209+J209)/2)","v":0},{"$f":"(H209-D209)/K209","v":{"$error":"#DIV/0!"}},{"$error":"#DIV/0!"},{"$f":"C209*G209","v":0},{"$f":"C209+G209","v":0},{"$error":"#DIV/0!"},{"$error":"#DIV/0!"},{"$error":"#DIV/0!"}]
[null,null,null,null,null,0,null,null,null,0,0,{"$error":"#DIV/0!"},{"$error":"#DIV/0!"},0,0,{"$error":"#DIV/0!"},{"$error":"#DIV/0!"},{"$error":"#DIV/0!"}]
[null,null,null,null,null,0,null,null,null,0,0,{"$error":"#DIV/0!"},{"$error":"#DIV/0!"},0,0,{"$error":"#DIV/0!"},{"$error":"#DIV/0!"},{"$error":"#DIV/0!"}]
[null,null,null,null,null,0,null,null,null,0,0,{"$error":"#DIV/0!"},{"$error":"#DIV/0!"},0,0,{"$error":"#DIV/0!"},{"$error":"#DIV/0!"},{"$error":"#DIV/0!"}]
[null,null,null,null,null,0,null,null,null,0,0,{"$error":"#DIV/0!"},{"$error":"#DIV/0!"},0,0,{"$error":"#DIV/0!"},{"$error":"#DIV/0!"},{"$error":"#DIV/0!"}]
[null,null,null,null,null,0,null,null,null,0,0,{"$error":"#DIV/0!"},{"$error":"#DIV/0!"},0,0,{"$error":"#DIV/0!"},{"$error":"#DIV/0!"},{"$error":"#DIV/0!"}]
[null,null,null,null,null,0,null,null,null,0,0,{"$error":"#DIV/0!"},{"$error":"#DIV/0!"},0,0,{"$error":"#DIV/0!"},{"$error":"#DIV/0!"},{"$error":"#DIV/0!"}]
[null,null,null,null,null,0,null,null,null,0,0,{"$error":"#DIV/0!"},{"$error":"#DIV/0!"},0,0,{"$error":"#DIV/0!"},{"$error":"#DIV/0!"},{"$error":"#DIV/0!"}]
[null,null,null,null,null,0,null,null,null,0,0,{"$error":"#DIV/0!"},{"$error":"#DIV/0!"},0,0,{"$error":"#DIV/0!"},{"$error":"#DIV/0!"},{"$error":"#DIV/0!"}]
[null,null,null,null,null,0,null,null,null,0,0,{"$error":"#DIV/0!"},{"$error":"#DIV/0!"},0,0,{"$error":"#DIV/0!"},{"$error":"#DIV/0!"},{"$error":"#DIV/0!"}]
[null,null,null,null,null,0,null,null,null,0,0,{"$error":"#DIV/0!"},{"$error":"#DIV/0!"},0,0,{"$error":"#DIV/0!"},{"$error":"#DIV/0!"},{"$error":"#DIV/0!"}]
[null,null,null,null,null,{"$f":"E220^2","v":0},null,null,null,{"$f":"I220^2","v":0},0,{"$error":"#DIV/0!"},{"$f":"L220^2","v":{"$error":"#DIV/0!"}},0,0,{"$f":"SQRT((O220/N220)+(M220/(2*O220)))","v":{"$error":"#DIV/0!"}},{"$f":"L220-(1.96*P220)","v":{"$error":"#DIV/0!"}},{"$f":"L220+(1.96*P220)","v":{"$error":"#DIV/0!"}}]
[null,null,null,null,null,0,null,null,null,0,0,{"$error":"#DIV/0!"},{"$error":"#DIV/0!"},0,0,{"$error":"#DIV/0!"},{"$error":"#DIV/0!"},{"$error":"#DIV/0!"}]
[null,null,null,null,null,0,null,null,null,0,0,{"$error":"#DIV/0!"},{"$error":"#DIV/0!"},0,0,{"$error":"#DIV/0!"},{"$error":"#DIV/0!"},{"$error":"#DIV/0!"}]
[null,null,null,null,null,0,null,null,null,0,0,{"$error":"#DIV/0!"},{"$error":"#DIV/0!"},0,0,{"$error":"#DIV/0!"},{"$error":"#DIV/0!"},{"$error":"#DIV/0!"}]
[null,null,null,null,null,0,null,null,null,0,0,{"$error":"#DIV/0!"},{"$error":"#DIV/0!"},0,0,{"$error":"#DIV/0!"},{"$error":"#DIV/0!"},{"$error":"#DIV/0!"}]
[null,null,null,null,null,0,null,null,null,0,0,{"$error":"#DIV/0!"},{"$error":"#DIV/0!"},0,0,{"$error":"#DIV/0!"},{"$error":"#DIV/0!"},{"$error":"#DIV/0!"}]
[null,null,null,null,null,0,null,null,null,0,0,{"$error":"#DIV/0!"},{"$error":"#DIV/0!"},0,0,{"$error":"#DIV/0!"},{"$error":"#DIV/0!"},{"$error":"#DIV/0!"}]
[null,null,null,null,null,0,null,null,null,0,0,{"$error":"#DIV/0!"},{"$error":"#DIV/0!"},0,0,{"$error":"#DIV/0!"},{"$error":"#DIV/0!"},{"$error":"#DIV/0!"}]
[null,null,null,null,null,0,null,null,null,0,0,{"$error":"#DIV/0!"},{"$error":"#DIV/0!"},0,0,{"$error":"#DIV/0!"},{"$error":"#DIV/0!"},{"$error":"#DIV/0!"}]
[null,null,null,null,null,0,null,null,null,0,0,{"$error":"#DIV/0!"},{"$error":"#DIV/0!"},0,0,{"$error":"#DIV/0!"},{"$error":"#DIV/0!"},{"$error":"#DIV/0!"}]
[null,null,null,null,null,0,null,null,null,0,0,{"$error":"#DIV/0!"},{"$error":"#DIV/0!"},0,0,{"$error":"#DIV/0!"},{"$error":"#DIV/0!"},{"$error":"#DIV/0!"}]
[null,null,null,null,null,0,null,null,null,0,0,{"$error":"#DIV/0!"},{"$error":"#DIV/0!"},0,0,{"$error":"#DIV/0!"},{"$error":"#DIV/0!"},{"$error":"#DIV/0!"}]
[null,null,null,null,null,0,null,null,null,0,0,{"$error":"#DIV/0!"},{"$error":"#DIV/0!"},0,0,{"$error":"#DIV/0!"},{"$error":"#DIV/0!"},{"$error":"#DIV/0!"}]
[null,null,null,null,null,0,null,null,null,0,0,{"$error":"#DIV/0!"},{"$error":"#DIV/0!"},0,0,{"$error":"#DIV/0!"},{"$error":"#DIV/0!"},{"$error":"#DIV/0!"}]
[null,null,null,null,null,0,null,null,null,0,0,{"$error":"#DIV/0!"},{"$error":"#DIV/0!"},0,0,{"$error":"#DIV/0!"},{"$error":"#DIV/0!"},{"$error":"#DIV/0!"}]
[null,null,null,null,null,0,null,null,null,0,0,{"$error":"#DIV/0!"},{"$error":"#DIV/0!"},0,0,{"$error":"#DIV/0!"},{"$error":"#DIV/0!"},{"$error":"#DIV/0!"}]
[null,null,null,null,null,0,null,null,null,0,0,{"$error":"#DIV/0!"},{"$error":"#DIV/0!"},0,0,{"$error":"#DIV/0!"},{"$error":"#DIV/0!"},{"$error":"#DIV/0!"}]
[null,null,null,null,null,0,null,null,null,0,0,{"$error":"#DIV/0!"},{"$error":"#DIV/0!"},0,0,{"$error":"#DIV/0!"},{"$error":"#DIV/0!"},{"$error":"#DIV/0!"}]
[null,null,null,null,null,0,null,null,null,0,0,{"$error":"#DIV/0!"},{"$error":"#DIV/0!"},0,0,{"$error":"#DIV/0!"},{"$error":"#DIV/0!"},{"$error":"#DIV/0!"}]
[null,null,null,null,null,0,null,null,null,0,0,{"$error":"#DIV/0!"},{"$error":"#DIV/0!"},0,0,{"$error":"#DIV/0!"},{"$error":"#DIV/0!"},{"$error":"#DIV/0!"}]
[null,null,null,null,null,0,null,null,null,0,0,{"$error":"#DIV/0!"},{"$error":"#DIV/0!"},0,0,{"$error":"#DIV/0!"},{"$error":"#DIV/0!"},{"$error":"#DIV/0!"}]
[null,null,null,null,null,0,null,null,null,0,0,{"$error":"#DIV/0!"},{"$error":"#DIV/0!"},0,0,{"$error":"#DIV/0!"},{"$error":"#DIV/0!"},{"$error":"#DIV/0!"}]
[null,null,null,null,null,0,null,null,null,0,0,{"$error":"#DIV/0!"},{"$error":"#DIV/0!"},0,0,{"$error":"#DIV/0!"},{"$error":"#DIV/0!"},{"$error":"#DIV/0!"}]
[null,null,null,null,null,0,null,null,null,0,0,{"$error":"#DIV/0!"},{"$error":"#DIV/0!"},0,0,{"$error":"#DIV/0!"},{"$error":"#DIV/0!"},{"$error":"#DIV/0!"}]
[null,null,null,null,null,0,null,null,null,0,0,{"$error":"#DIV/0!"},{"$error":"#DIV/0!"},0,0,{"$error":"#DIV/0!"},{"$error":"#DIV/0!"},{"$error":"#DIV/0!"}]
[null,null,null,null,null,0,null,null,null,0,0,{"$error":"#DIV/0!"},{"$error":"#DIV/0!"},0,0,{"$error":"#DIV/0!"},{"$error":"#DIV/0!"},{"$error":"#DIV/0!"}]
[null,null,null,null,null,0,null,null,null,0,0,{"$error":"#DIV/0!"},{"$error":"#DIV/0!"},0,0,{"$error":"#DIV/0!"},{"$error":"#DIV/0!"},{"$error":"#DIV/0!"}]
[null,null,null,null,null,0,null,null,null,0,0,{"$error":"#DIV/0!"},{"$error":"#DIV/0!"},0,0,{"$error":"#DIV/0!"},{"$error":"#DIV/0!"},{"$error":"#DIV/0!"}]
[null,null,null,null,null,0,null,null,null,0,0,{"$error":"#DIV/0!"},{"$error":"#DIV/0!"},0,0,{"$error":"#DIV/0!"},{"$error":"#DIV/0!"},{"$error":"#DIV/0!"}]
[null,null,null,null,null,0,null,null,null,0,0,{"$error":"#DIV/0!"},{"$error":"#DIV/0!"},0,0,{"$error":"#DIV/0!"},{"$error":"#DIV/0!"},{"$error":"#DIV/0!"}]
[null,null,null,null,null,0,null,null,null,0,0,{"$error":"#DIV/0!"},{"$error":"#DIV/0!"},0,0,{"$error":"#DIV/0!"},{"$error":"#DIV/0!"},{"$error":"#DIV/0!"}]
[null,null,null,null,null,0,null,null,null,0,0,{"$error":"#DIV/0!"},{"$error":"#DIV/0!"},0,0,{"$error":"#DIV/0!"},{"$error":"#DIV/0!"},{"$error":"#DIV/0!"}]
[null,null,null,null,null,0,null,null,null,0,0,{"$error":"#DIV/0!"},{"$error":"#DIV/0!"},0,0,{"$error":"#DIV/0!"},{"$error":"#DIV/0!"},{"$error":"#DIV/0!"}]
[null,null,null,null,null,0,null,null,null,0,0,{"$error":"#DIV/0!"},{"$error":"#DIV/0!"},0,0,{"$error":"#DIV/0!"},{"$error":"#DIV/0!"},{"$error":"#DIV/0!"}]
[null,null,null,null,null,0,null,null,null,0,0,{"$error":"#DIV/0!"},{"$error":"#DIV/0!"},0,0,{"$error":"#DIV/0!"},{"$error":"#DIV/0!"},{"$error":"#DIV/0!"}]
[null,null,null,null,null,0,null,null,null,0,0,{"$error":"#DIV/0!"},{"$error":"#DIV/0!"},0,0,{"$error":"#DIV/0!"},{"$error":"#DIV/0!"},{"$error":"#DIV/0!"}]
[null,null,null,null,null,0,null,null,null,0,0,{"$error":"#DIV/0!"},{"$error":"#DIV/0!"},0,0,{"$error":"#DIV/0!"},{"$error":"#DIV/0!"},{"$error":"#DIV/0!"}]
[null,null,null,null,null,0,null,null,null,0,0,{"$error":"#DIV/0!"},{"$error":"#DIV/0!"},0,0,{"$error":"#DIV/0!"},{"$error":"#DIV/0!"},{"$error":"#DIV/0!"}]
[null,null,null,null,null,0,null,null,null,0,0,{"$error":"#DIV/0!"},{"$error":"#DIV/0!"},0,0,{"$error":"#DIV/0!"},{"$error":"#DIV/0!"},{"$error":"#DIV/0!"}]
[null,null,null,null,null,0,null,null,null,0,0,{"$error":"#DIV/0!"},{"$error":"#DIV/0!"},0,0,{"$error":"#DIV/0!"},{"$error":"#DIV/0!"},{"$error":"#DIV/0!"}]
[null,null,null,null,null,0,null,null,null,0,0,{"$error":"#DIV/0!"},{"$error":"#DIV/0!"},0,0,{"$error":"#DIV/0!"},{"$error":"#DIV/0!"},{"$error":"#DIV/0!"}]
[null,null,null,null,null,0,null,null,null,0,0,{"$error":"#DIV/0!"},{"$error":"#DIV/0!"},0,0,{"$error":"#DIV/0!"},{"$error":"#DIV/0!"},{"$error":"#DIV/0!"}]
[null,null,null,null,null,0,null,null,null,0,0,{"$error":"#DIV/0!"},{"$error":"#DIV/0!"},0,0,{"$error":"#DIV/0!"},{"$error":"#DIV/0!"},{"$error":"#DIV/0!"}]
[null,null,null,null,null,0,null,null,null,0,0,{"$error":"#DIV/0!"},{"$error":"#DIV/0!"},0,0,{"$error":"#DIV/0!"},{"$error":"#DIV/0!"},{"$error":"#DIV/0!"}]
[null,null,null,null,null,0,null,null,null,0,0,{"$error":"#DIV/0!"},{"$error":"#DIV/0!"},0,0,{"$error":"#DIV/0!"},{"$error":"#DIV/0!"},{"$error":"#DIV/0!"}]
[null,null,null,null,null,0,null,null,null,0,0,{"$error":"#DIV/0!"},{"$error":"#DIV/0!"},0,0,{"$error":"#DIV/0!"},{"$error":"#DIV/0!"},{"$error":"#DIV/0!"}]
[null,null,null,null,null,0,null,null,null,0,0,{"$error":"#DIV/0!"},{"$error":"#DIV/0!"},0,0,{"$error":"#DIV/0!"},{"$error":"#DIV/0!"},{"$error":"#DIV/0!"}]
[null,null,null,null,null,0,null,null,null,0,0,{"$error":"#DIV/0!"},{"$error":"#DIV/0!"},0,0,{"$error":"#DIV/0!"},{"$error":"#DIV/0!"},{"$error":"#DIV/0!"}]
[null,null,null,null,null,0,null,null,null,0,0,{"$error":"#DIV/0!"},{"$error":"#DIV/0!"},0,0,{"$error":"#DIV/0!"},{"$error":"#DIV/0!"},{"$error":"#DIV/0!"}]
[null,null,null,null,null,0,null,null,null,0,0,{"$error":"#DIV/0!"},{"$error":"#DIV/0!"},0,0,{"$error":"#DIV/0!"},{"$error":"#DIV/0!"},{"$error":"#DIV/0!"}]
[null,null,null,null,null,0,null,null,null,0,0,{"$error":"#DIV/0!"},{"$error":"#DIV/0!"},0,0,{"$error":"#DIV/0!"},{"$error":"#DIV/0!"},{"$error":"#DIV/0!"}]
[null,null,null,null,null,0,null,null,null,0,0,{"$error":"#DIV/0!"},{"$error":"#DIV/0!"},0,0,{"$error":"#DIV/0!"},{"$error":"#DIV/0!"},{"$error":"#DIV/0!"}]
[null,null,null,null,null,0,null,null,null,0,0,{"$error":"#DIV/0!"},{"$error":"#DIV/0!"},0,0,{"$error":"#DIV/0!"},{"$error":"#DIV/0!"},{"$error":"#DIV/0!"}]
[null,null,null,null,null,0,null,null,null,0,{"$f":"SQRT((F273+J273)/2)","v":0},{"$f":"(H273-D273)/K273","v":{"$error":"#DIV/0!"}},{"$error":"#DIV/0!"},{"$f":"C273*G273","v":0},{"$f":"C273+G273","v":0},{"$error":"#DIV/0!"},{"$error":"#DIV/0!"},{"$error":"#DIV/0!"}]
[null,null,null,null,null,0,null,null,null,0,0,{"$error":"#DIV/0!"},{"$error":"#DIV/0!"},0,0,{"$error":"#DIV/0!"},{"$error":"#DIV/0!"},{"$error":"#DIV/0!"}]
[null,null,null,null,null,0,null,null,null,0,0,{"$error":"#DIV/0!"},{"$error":"#DIV/0!"},0,0,{"$error":"#DIV/0!"},{"$error":"#DIV/0!"},{"$error":"#DIV/0!"}]
[null,null,null,null,null,0,null,null,null,0,0,{"$error":"#DIV/0!"},{"$error":"#DIV/0!"},0,0,{"$error":"#DIV/0!"},{"$error":"#DIV/0!"},{"$error":"#DIV/0!"}]
[null,null,null,null,null,0,null,null,null,0,0,{"$error":"#DIV/0!"},{"$error":"#DIV/0!"},0,0,{"$error":"#DIV/0!"},{"$error":"#DIV/0!"},{"$error":"#DIV/0!"}]
[null,null,null,null,null,0,null,null,null,0,0,{"$error":"#DIV/0!"},{"$error":"#DIV/0!"},0,0,{"$error":"#DIV/0!"},{"$error":"#DIV/0!"},{"$error":"#DIV/0!"}]
[null,null,null,null,null,0,null,null,null,0,0,{"$error":"#DIV/0!"},{"$error":"#DIV/0!"},0,0,{"$error":"#DIV/0!"},{"$error":"#DIV/0!"},{"$error":"#DIV/0!"}]
[null,null,null,null,null,0,null,null,null,0,0,{"$error":"#DIV/0!"},{"$error":"#DIV/0!"},0,0,{"$error":"#DIV/0!"},{"$error":"#DIV/0!"},{"$error":"#DIV/0!"}]
[null,null,null,null,null,0,null,null,null,0,0,{"$error":"#DIV/0!"},{"$error":"#DIV/0!"},0,0,{"$error":"#DIV/0!"},{"$error":"#DIV/0!"},{"$error":"#DIV/0!"}]
[null,null,null,null,null,0,null,null,null,0,0,{"$error":"#DIV/0!"},{"$error":"#DIV/0!"},0,0,{"$error":"#DIV/0!"},{"$error":"#DIV/0!"},{"$error":"#DIV/0!"}]
[null,null,null,null,null,0,null,null,null,0,0,{"$error":"#DIV/0!"},{"$error":"#DIV/0!"},0,0,{"$error":"#DIV/0!"},{"$error":"#DIV/0!"},{"$error":"#DIV/0!"}]
[null,null,null,null,null,{"$f":"E284^2","v":0},null,null,null,{"$f":"I284^2","v":0},0,{"$error":"#DIV/0!"},{"$f":"L284^2","v":{"$error":"#DIV/0!"}},0,0,{"$f":"SQRT((O284/N284)+(M284/(2*O284)))","v":{"$error":"#DIV/0!"}},{"$f":"L284-(1.96*P284)","v":{"$error":"#DIV/0!"}},{"$f":"L284+(1.96*P284)","v":{"$error":"#DIV/0!"}}]
[null,null,null,null,null,0,null,null,null,0,0,{"$error":"#DIV/0!"},{"$error":"#DIV/0!"},0,0,{"$error":"#DIV/0!"},{"$error":"#DIV/0!"},{"$error":"#DIV/0!"}]
[null,null,null,null,null,0,null,null,null,0,0,{"$error":"#DIV/0!"},{"$error":"#DIV/0!"},0,0,{"$error":"#DIV/0!"},{"$error":"#DIV/0!"},{"$error":"#DIV/0!"}]
[null,null,null,null,null,0,null,null,null,0,0,{"$error":"#DIV/0!"},{"$error":"#DIV/0!"},0,0,{"$error":"#DIV/0!"},{"$error":"#DIV/0!"},{"$error":"#DIV/0!"}]
[null,null,null,null,null,0,null,null,null,0,0,{"$error":"#DIV/0!"},{"$error":"#DIV/0!"},0,0,{"$error":"#DIV/0!"},{"$error":"#DIV/0!"},{"$error":"#DIV/0!"}]
[null,null,null,null,null,0,null,null,null,0,0,{"$error":"#DIV/0!"},{"$error":"#DIV/0!"},0,0,{"$error":"#DIV/0!"},{"$error":"#DIV/0!"},{"$error":"#DIV/0!"}]
[null,null,null,null,null,0,null,null,null,0,0,{"$error":"#DIV/0!"},{"$error":"#DIV/0!"},0,0,{"$error":"#DIV/0!"},{"$error":"#DIV/0!"},{"$error":"#DIV/0!"}]
[null,null,null,null,null,0,null,null,null,0,0,{"$error":"#DIV/0!"},{"$error":"#DIV/0!"},0,0,{"$error":"#DIV/0!"},{"$error":"#DIV/0!"},{"$error":"#DIV/0!"}]
[null,null,null,null,null,0,null,null,null,0,0,{"$error":"#DIV/0!"},{"$error":"#DIV/0!"},0,0,{"$error":"#DIV/0!"},{"$error":"#DIV/0!"},{"$error":"#DIV/0!"}]
[null,null,null,null,null,0,null,null,null,0,0,{"$error":"#DIV/0!"},{"$error":"#DIV/0!"},0,0,{"$error":"#DIV/0!"},{"$error":"#DIV/0!"},{"$error":"#DIV/0!"}]
[null,null,null,null,null,0,null,null,null,0,0,{"$error":"#DIV/0!"},{"$error":"#DIV/0!"},0,0,{"$error":"#DIV/0!"},{"$error":"#DIV/0!"},{"$error":"#DIV/0!"}]
[null,null,null,null,null,0,null,null,null,0,0,{"$error":"#DIV/0!"},{"$error":"#DIV/0!"},0,0,{"$error":"#DIV/0!"},{"$error":"#DIV/0!"},{"$error":"#DIV/0!"}]
[null,null,null,null,null,0,null,null,null,0,0,{"$error":"#DIV/0!"},{"$error":"#DIV/0!"},0,0,{"$error":"#DIV/0!"},{"$error":"#DIV/0!"},{"$error":"#DIV/0!"}]
[null,null,null,null,null,0,null,null,null,0,0,{"$error":"#DIV/0!"},{"$error":"#DIV/0!"},0,0,{"$error":"#DIV/0!"},{"$error":"#DIV/0!"},{"$error":"#DIV/0!"}]
[null,null,null,null,null,0,null,null,null,0,0,{"$error":"#DIV/0!"},{"$error":"#DIV/0!"},0,0,{"$error":"#DIV/0!"},{"$error":"#DIV/0!"},{"$error":"#DIV/0!"}]
[null,null,null,null,null,0,null,null,null,0,0,{"$error":"#DIV/0!"},{"$error":"#DIV/0!"},0,0,{"$error":"#DIV/0!"},{"$error":"#DIV/0!"},{"$error":"#DIV/0!"}]
[null,null,null,null,null,0,null,null,null,0,0,{"$error":"#DIV/0!"},{"$error":"#DIV/0!"},0,0,{"$error":"#DIV/0!"},{"$error":"#DIV/0!"},{"$error":"#DIV/0!"}]
[null,null,null,null,null,0,null,null,null,0,0,{"$error":"#DIV/0!"},{"$error":"#DIV/0!"},0,0,{"$error":"#DIV/0!"},{"$error":"#DIV/0!"},{"$error":"#DIV/0!"}]
[null,null,null,null,null,0,null,null,null,0,0,{"$error":"#DIV/0!"},{"$error":"#DIV/0!"},0,0,{"$error":"#DIV/0!"},{"$error":"#DIV/0!"},{"$error":"#DIV/0!"}]
[null,null,null,null,null,0,null,null,null,0,0,{"$error":"#DIV/0!"},{"$error":"#DIV/0!"},0,0,{"$error":"#DIV/0!"},{"$error":"#DIV/0!"},{"$error":"#DIV/0!"}]
[null,null,null,null,null,0,null,null,null,0,0,{"$error":"#DIV/0!"},{"$error":"#DIV/0!"},0,0,{"$error":"#DIV/0!"},{"$error":"#DIV/0!"},{"$error":"#DIV/0!"}]
[null,null,null,null,null,0,null,null,null,0,0,{"$error":"#DIV/0!"},{"$error":"#DIV/0!"},0,0,{"$error":"#DIV/0!"},{"$error":"#DIV/0!"},{"$error":"#DIV/0!"}]
[null,null,null,null,null,0,null,null,null,0,0,{"$error":"#DIV/0!"},{"$error":"#DIV/0!"},0,0,{"$error":"#DIV/0!"},{"$error":"#DIV/0!"},{"$error":"#DIV/0!"}]
[null,null,null,null,null,0,null,null,null,0,0,{"$error":"#DIV/0!"},{"$error":"#DIV/0!"},0,0,{"$error":"#DIV/0!"},{"$error":"#DIV/0!"},{"$error":"#DIV/0!"}]
[null,null,null,null,null,0,null,null,null,0,0,{"$error":"#DIV/0!"},{"$error":"#DIV/0!"},0,0,{"$error":"#DIV/0!"},{"$error":"#DIV/0!"},{"$error":"#DIV/0!"}]
[null,null,null,null,null,0,null,null,null,0,0,{"$error":"#DIV/0!"},{"$error":"#DIV/0!"},0,0,{"$error":"#DIV/0!"},{"$error":"#DIV/0!"},{"$error":"#DIV/0!"}]
[null,null,null,null,null,0,null,null,null,0,0,{"$error":"#DIV/0!"},{"$error":"#DIV/0!"},0,0,{"$error":"#DIV/0!"},{"$error":"#DIV/0!"},{"$error":"#DIV/0!"}]
[null,null,null,null,null,0,null,null,null,0,0,{"$error":"#DIV/0!"},{"$error":"#DIV/0!"},0,0,{"$error":"#DIV/0!"},{"$error":"#DIV/0!"},{"$error":"#DIV/0!"}]
[null,null,null,null,null,0,null,null,null,0,0,{"$error":"#DIV/0!"},{"$error":"#DIV/0!"},0,0,{"$error":"#DIV/0!"},{"$error":"#DIV/0!"},{"$error":"#DIV/0!"}]
[null,null,null,null,null,0,null,null,null,0,0,{"$error":"#DIV/0!"},{"$error":"#DIV/0!"},0,0,{"$error":"#DIV/0!"},{"$error":"#DIV/0!"},{"$error":"#DIV/0!"}]
[null,null,null,null,null,0,null,null,null,0,0,{"$error":"#DIV/0!"},{"$error":"#DIV/0!"},0,0,{"$error":"#DIV/0!"},{"$error":"#DIV/0!"},{"$error":"#DIV/0!"}]
[null,null,null,null,null,0,null,null,null,0,0,{"$error":"#DIV/0!"},{"$error":"#DIV/0!"},0,0,{"$error":"#DIV/0!"},{"$error":"#DIV/0!"},{"$error":"#DIV/0!"}]
[null,null,null,null,null,0,null,null,null,0,0,{"$error":"#DIV/0!"},{"$error":"#DIV/0!"},0,0,{"$error":"#DIV/0!"},{"$error":"#DIV/0!"},{"$error":"#DIV/0!"}]
[null,null,null,null,null,0,null,null,null,0,0,{"$error":"#DIV/0!"},{"$error":"#DIV/0!"},0,0,{"$error":"#DIV/0!"},{"$error":"#DIV/0!"},{"$error":"#DIV/0!"}]
[null,null,null,null,null,0,null,null,null,0,0,{"$error":"#DIV/0!"},{"$error":"#DIV/0!"},0,0,{"$error":"#DIV/0!"},{"$error":"#DIV/0!"},{"$error":"#DIV/0!"}]
[null,null,null,null,null,0,null,null,null,0,0,{"$error":"#DIV/0!"},{"$error":"#DIV/0!"},0,0,{"$error":"#DIV/0!"},{"$error":"#DIV/0!"},{"$error":"#DIV/0!"}]
[null,null,null,null,null,0,null,null,null,0,0,{"$error":"#DIV/0!"},{"$error":"#DIV/0!"},0,0,{"$error":"#DIV/0!"},{"$error":"#DIV/0!"},{"$error":"#DIV/0!"}]
[null,null,null,null,null,0,null,null,null,0,0,{"$error":"#DIV/0!"},{"$error":"#DIV/0!"},0,0,{"$error":"#DIV/0!"},{"$error":"#DIV/0!"},{"$error":"#DIV/0!"}]
[null,null,null,null,null,0,null,null,null,0,0,{"$error":"#DIV/0!"},{"$error":"#DIV/0!"},0,0,{"$error":"#DIV/0!"},{"$error":"#DIV/0!"},{"$error":"#DIV/0!"}]
[null,null,null,null,null,0,null,null,null,0,0,{"$error":"#DIV/0!"},{"$error":"#DIV/0!"},0,0,{"$error":"#DIV/0!"},{"$error":"#DIV/0!"},{"$error":"#DIV/0!"}]
[null,null,null,null,null,0,null,null,null,0,0,{"$error":"#DIV/0!"},{"$error":"#DIV/0!"},0,0,{"$error":"#DIV/0!"},{"$error":"#DIV/0!"},{"$error":"#DIV/0!"}]
[null,null,null,null,null,0,null,null,null,0,0,{"$error":"#DIV/0!"},{"$error":"#DIV/0!"},0,0,{"$error":"#DIV/0!"},{"$error":"#DIV/0!"},{"$error":"#DIV/0!"}]
[null,null,null,null,null,0,null,null,null,0,0,{"$error":"#DIV/0!"},{"$error":"#DIV/0!"},0,0,{"$error":"#DIV/0!"},{"$error":"#DIV/0!"},{"$error":"#DIV/0!"}]
[null,null,null,null,null,0,null,null,null,0,0,{"$error":"#DIV/0!"},{"$error":"#DIV/0!"},0,0,{"$error":"#DIV/0!"},{"$error":"#DIV/0!"},{"$error":"#DIV/0!"}]
[null,null,null,null,null,0,null,null,null,0,0,{"$error":"#DIV/0!"},{"$error":"#DIV/0!"},0,0,{"$error":"#DIV/0!"},{"$error":"#DIV/0!"},{"$error":"#DIV/0!"}]
[null,null,null,null,null,0,null,null,null,0,0,{"$error":"#DIV/0!"},{"$error":"#DIV/0!"},0,0,{"$error":"#DIV/0!"},{"$error":"#DIV/0!"},{"$error":"#DIV/0!"}]
[null,null,null,null,null,0,null,null,null,0,0,{"$error":"#DIV/0!"},{"$error":"#DIV/0!"},0,0,{"$error":"#DIV/0!"},{"$error":"#DIV/0!"},{"$error":"#DIV/0!"}]
[null,null,null,null,null,0,null,null,null,0,0,{"$error":"#DIV/0!"},{"$error":"#DIV/0!"},0,0,{"$error":"#DIV/0!"},{"$error":"#DIV/0!"},{"$error":"#DIV/0!"}]
[null,null,null,null,null,0,null,null,null,0,0,{"$error":"#DIV/0!"},{"$error":"#DIV/0!"},0,0,{"$error":"#DIV/0!"},{"$error":"#DIV/0!"},{"$error":"#DIV/0!"}]
[null,null,null,null,null,0,null,null,null,0,0,{"$error":"#DIV/0!"},{"$error":"#DIV/0!"},0,0,{"$error":"#DIV/0!"},{"$error":"#DIV/0!"},{"$error":"#DIV/0!"}]
[null,null,null,null,null,0,null,null,null,0,0,{"$error":"#DIV/0!"},{"$error":"#DIV/0!"},0,0,{"$error":"#DIV/0!"},{"$error":"#DIV/0!"},{"$error":"#DIV/0!"}]
[null,null,null,null,null,0,null,null,null,0,0,{"$error":"#DIV/0!"},{"$error":"#DIV/0!"},0,0,{"$error":"#DIV/0!"},{"$error":"#DIV/0!"},{"$error":"#DIV/0!"}]
[null,null,null,null,null,0,null,null,null,0,0,{"$error":"#DIV/0!"},{"$error":"#DIV/0!"},0,0,{"$error":"#DIV/0!"},{"$error":"#DIV/0!"},{"$error":"#DIV/0!"}]
[null,null,null,null,null,0,null,null,null,0,{"$f":"SQRT((F337+J337)/2)","v":0},{"$f":"(H337-D337)/K337","v":{"$error":"#DIV/0!"}},{"$error":"#DIV/0!"},{"$f":"C337*G337","v":0},{"$f":"C337+G337","v":0},{"$error":"#DIV/0!"},{"$error":"#DIV/0!"},{"$error":"#DIV/0!"}]
[null,null,null,null,null,0,null,null,null,0,0,{"$error":"#DIV/0!"},{"$error":"#DIV/0!"},0,0,{"$error":"#DIV/0!"},{"$error":"#DIV/0!"},{"$error":"#DIV/0!"}]
[null,null,null,null,null,0,null,null,null,0,0,{"$error":"#DIV/0!"},{"$error":"#DIV/0!"},0,0,{"$error":"#DIV/0!"},{"$error":"#DIV/0!"},{"$error":"#DIV/0!"}]
[null,null,null,null,null,0,null,null,null,0,0,{"$error":"#DIV/0!"},{"$error":"#DIV/0!"},0,0,{"$error":"#DIV/0!"},{"$error":"#DIV/0!"},{"$error":"#DIV/0!"}]
[null,null,null,null,null,0,null,null,null,0,0,{"$error":"#DIV/0!"},{"$error":"#DIV/0!"},0,0,{"$error":"#DIV/0!"},{"$error":"#DIV/0!"},{"$error":"#DIV/0!"}]
[null,null,null,null,null,0,null,null,null,0,0,{"$error":"#DIV/0!"},{"$error":"#DIV/0!"},0,0,{"$error":"#DIV/0!"},{"$error":"#DIV/0!"},{"$error":"#DIV/0!"}]
[null,null,null,null,null,0,null,null,null,0,0,{"$error":"#DIV/0!"},{"$error":"#DIV/0!"},0,0,{"$error":"#DIV/0!"},{"$error":"#DIV/0!"},{"$error":"#DIV/0!"}]
[null,null,null,null,null,0,null,null,null,0,0,{"$error":"#DIV/0!"},{"$error":"#DIV/0!"},0,0,{"$error":"#DIV/0!"},{"$error":"#DIV/0!"},{"$error":"#DIV/0!"}]
[null,null,null,null,null,0,null,null,null,0,0,{"$error":"#DIV/0!"},{"$error":"#DIV/0!"},0,0,{"$error":"#DIV/0!"},{"$error":"#DIV/0!"},{"$error":"#DIV/0!"}]
[null,null,null,null,null,0,null,null,null,0,0,{"$error":"#DIV/0!"},{"$error":"#DIV/0!"},0,0,{"$error":"#DIV/0!"},{"$error":"#DIV/0!"},{"$error":"#DIV/0!"}]
[null,null,null,null,null,0,null,null,null,0,0,{"$error":"#DIV/0!"},{"$error":"#DIV/0!"},0,0,{"$error":"#DIV/0!"},{"$error":"#DIV/0!"},{"$error":"#DIV/0!"}]
[null,null,null,null,null,{"$f":"E348^2","v":0},null,null,null,{"$f":"I348^2","v":0},0,{"$error":"#DIV/0!"},{"$f":"L348^2","v":{"$error":"#DIV/0!"}},0,0,{"$f":"SQRT((O348/N348)+(M348/(2*O348)))","v":{"$error":"#DIV/0!"}},{"$f":"L348-(1.96*P348)","v":{"$error":"#DIV/0!"}},{"$f":"L348+(1.96*P348)","v":{"$error":"#DIV/0!"}}]
[null,null,null,null,null,0,null,null,null,0,0,{"$error":"#DIV/0!"},{"$error":"#DIV/0!"},0,0,{"$error":"#DIV/0!"},{"$error":"#DIV/0!"},{"$error":"#DIV/0!"}]
[null,null,null,null,null,0,null,null,null,0,0,{"$error":"#DIV/0!"},{"$error":"#DIV/0!"},0,0,{"$error":"#DIV/0!"},{"$error":"#DIV/0!"},{"$error":"#DIV/0!"}]
[null,null,null,null,null,0,null,null,null,0,0,{"$error":"#DIV/0!"},{"$error":"#DIV/0!"},0,0,{"$error":"#DIV/0!"},{"$error":"#DIV/0!"},{"$error":"#DIV/0!"}]
[null,null,null,null,null,0,null,null,null,0,0,{"$error":"#DIV/0!"},{"$error":"#DIV/0!"},0,0,{"$error":"#DIV/0!"},{"$error":"#DIV/0!"},{"$error":"#DIV/0!"}]
[null,null,null,null,null,0,null,null,null,0,0,{"$error":"#DIV/0!"},{"$error":"#DIV/0!"},0,0,{"$error":"#DIV/0!"},{"$error":"#DIV/0!"},{"$error":"#DIV/0!"}]
[null,null,null,null,null,0,null,null,null,0,0,{"$error":"#DIV/0!"},{"$error":"#DIV/0!"},0,0,{"$error":"#DIV/0!"},{"$error":"#DIV/0!"},{"$error":"#DIV/0!"}]
[null,null,null,null,null,0,null,null,null,0,0,{"$error":"#DIV/0!"},{"$error":"#DIV/0!"},0,0,{"$error":"#DIV/0!"},{"$error":"#DIV/0!"},{"$error":"#DIV/0!"}]
[null,null,null,null,null,0,null,null,null,0,0,{"$error":"#DIV/0!"},{"$error":"#DIV/0!"},0,0,{"$error":"#DIV/0!"},{"$error":"#DIV/0!"},{"$error":"#DIV/0!"}]
[null,null,null,null,null,0,null,null,null,0,0,{"$error":"#DIV/0!"},{"$error":"#DIV/0!"},0,0,{"$error":"#DIV/0!"},{"$error":"#DIV/0!"},{"$error":"#DIV/0!"}]
[null,null,null,null,null,0,null,null,null,0,0,{"$error":"#DIV/0!"},{"$error":"#DIV/0!"},0,0,{"$error":"#DIV/0!"},{"$error":"#DIV/0!"},{"$error":"#DIV/0!"}]
[null,null,null,null,null,0,null,null,null,0,0,{"$error":"#DIV/0!"},{"$error":"#DIV/0!"},0,0,{"$error":"#DIV/0!"},{"$error":"#DIV/0!"},{"$error":"#DIV/0!"}]
[null,null,null,null,null,0,null,null,null,0,0,{"$error":"#DIV/0!"},{"$error":"#DIV/0!"},0,0,{"$error":"#DIV/0!"},{"$error":"#DIV/0!"},{"$error":"#DIV/0!"}]
[null,null,null,null,null,0,null,null,null,0,0,{"$error":"#DIV/0!"},{"$error":"#DIV/0!"},0,0,{"$error":"#DIV/0!"},{"$error":"#DIV/0!"},{"$error":"#DIV/0!"}]
[null,null,null,null,null,0,null,null,null,0,0,{"$error":"#DIV/0!"},{"$error":"#DIV/0!"},0,0,{"$error":"#DIV/0!"},{"$error":"#DIV/0!"},{"$error":"#DIV/0!"}]
[null,null,null,null,null,0,null,null,null,0,0,{"$error":"#DIV/0!"},{"$error":"#DIV/0!"},0,0,{"$error":"#DIV/0!"},{"$error":"#DIV/0!"},{"$error":"#DIV/0!"}]
[null,null,null,null,null,0,null,null,null,0,0,{"$error":"#DIV/0!"},{"$error":"#DIV/0!"},0,0,{"$error":"#DIV/0!"},{"$error":"#DIV/0!"},{"$error":"#DIV/0!"}]
[null,null,null,null,null,0,null,null,null,0,0,{"$error":"#DIV/0!"},{"$error":"#DIV/0!"},0,0,{"$error":"#DIV/0!"},{"$error":"#DIV/0!"},{"$error":"#DIV/0!"}]
[null,null,null,null,null,0,null,null,null,0,0,{"$error":"#DIV/0!"},{"$error":"#DIV/0!"},0,0,{"$error":"#DIV/0!"},{"$error":"#DIV/0!"},{"$error":"#DIV/0!"}]
[null,null,null,null,null,0,null,null,null,0,0,{"$error":"#DIV/0!"},{"$error":"#DIV/0!"},0,0,{"$error":"#DIV/0!"},{"$error":"#DIV/0!"},{"$error":"#DIV/0!"}]
[null,null,null,null,null,0,null,null,null,0,0,{"$error":"#DIV/0!"},{"$error":"#DIV/0!"},0,0,{"$error":"#DIV/0!"},{"$error":"#DIV/0!"},{"$error":"#DIV/0!"}]
[null,null,null,null,null,0,null,null,null,0,0,{"$error":"#DIV/0!"},{"$error":"#DIV/0!"},0,0,{"$error":"#DIV/0!"},{"$error":"#DIV/0!"},{"$error":"#DIV/0!"}]
[null,null,null,null,null,0,null,null,null,0,0,{"$error":"#DIV/0!"},{"$error":"#DIV/0!"},0,0,{"$error":"#DIV/0!"},{"$error":"#DIV/0!"},{"$error":"#DIV/0!"}]
[null,null,null,null,null,0,null,null,null,0,0,{"$error":"#DIV/0!"},{"$error":"#DIV/0!"},0,0,{"$error":"#DIV/0!"},{"$error":"#DIV/0!"},{"$error":"#DIV/0!"}]
[null,null,null,null,null,0,null,null,null,0,0,{"$error":"#DIV/0!"},{"$error":"#DIV/0!"},0,0,{"$error":"#DIV/0!"},{"$error":"#DIV/0!"},{"$error":"#DIV/0!"}]
[null,null,null,null,null,0,null,null,null,0,0,{"$error":"#DIV/0!"},{"$error":"#DIV/0!"},0,0,{"$error":"#DIV/0!"},{"$error":"#DIV/0!"},{"$error":"#DIV/0!"}]
[null,null,null,null,null,0,null,null,null,0,0,{"$error":"#DIV/0!"},{"$error":"#DIV/0!"},0,0,{"$error":"#DIV/0!"},{"$error":"#DIV/0!"},{"$error":"#DIV/0!"}]
[null,null,null,null,null,0,null,null,null,0,0,{"$error":"#DIV/0!"},{"$error":"#DIV/0!"},0,0,{"$error":"#DIV/0!"},{"$error":"#DIV/0!"},{"$error":"#DIV/0!"}]
[null,null,null,null,null,0,null,null,null,0,0,{"$error":"#DIV/0!"},{"$error":"#DIV/0!"},0,0,{"$error":"#DIV/0!"},{"$error":"#DIV/0!"},{"$error":"#DIV/0!"}]
[null,null,null,null,null,0,null,null,null,0,0,{"$error":"#DIV/0!"},{"$error":"#DIV/0!"},0,0,{"$error":"#DIV/0!"},{"$error":"#DIV/0!"},{"$error":"#DIV/0!"}]
[null,null,null,null,null,0,null,null,null,0,0,{"$error":"#DIV/0!"},{"$error":"#DIV/0!"},0,0,{"$error":"#DIV/0!"},{"$error":"#DIV/0!"},{"$error":"#DIV/0!"}]
[null,null,null,null,null,0,null,null,null,0,0,{"$error":"#DIV/0!"},{"$error":"#DIV/0!"},0,0,{"$error":"#DIV/0!"},{"$error":"#DIV/0!"},{"$error":"#DIV/0!"}]
[null,null,null,null,null,0,null,null,null,0,0,{"$error":"#DIV/0!"},{"$error":"#DIV/0!"},0,0,{"$error":"#DIV/0!"},{"$error":"#DIV/0!"},{"$error":"#DIV/0!"}]
[null,null,null,null,null,0,null,null,null,0,0,{"$error":"#DIV/0!"},{"$error":"#DIV/0!"},0,0,{"$error":"#DIV/0!"},{"$error":"#DIV/0!"},{"$error":"#DIV/0!"}]
[null,null,null,null,null,0,null,null,null,0,0,{"$error":"#DIV/0!"},{"$error":"#DIV/0!"},0,0,{"$error":"#DIV/0!"},{"$error":"#DIV/0!"},{"$error":"#DIV/0!"}]
[null,null,null,null,null,0,null,null,null,0,0,{"$error":"#DIV/0!"},{"$error":"#DIV/0!"},0,0,{"$error":"#DIV/0!"},{"$error":"#DIV/0!"},{"$error":"#DIV/0!"}]
[null,null,null,null,null,0,null,null,null,0,0,{"$error":"#DIV/0!"},{"$error":"#DIV/0!"},0,0,{"$error":"#DIV/0!"},{"$error":"#DIV/0!"},{"$error":"#DIV/0!"}]
[null,null,null,null,null,0,null,null,null,0,0,{"$error":"#DIV/0!"},{"$error":"#DIV/0!"},0,0,{"$error":"#DIV/0!"},{"$error":"#DIV/0!"},{"$error":"#DIV/0!"}]
[null,null,null,null,null,0,null,null,null,0,0,{"$error":"#DIV/0!"},{"$error":"#DIV/0!"},0,0,{"$error":"#DIV/0!"},{"$error":"#DIV/0!"},{"$error":"#DIV/0!"}]
[null,null,null,null,null,0,null,null,null,0,0,{"$error":"#DIV/0!"},{"$error":"#DIV/0!"},0,0,{"$error":"#DIV/0!"},{"$error":"#DIV/0!"},{"$error":"#DIV/0!"}]
[null,null,null,null,null,0,null,null,null,0,0,{"$error":"#DIV/0!"},{"$error":"#DIV/0!"},0,0,{"$error":"#DIV/0!"},{"$error":"#DIV/0!"},{"$error":"#DIV/0!"}]
[null,null,null,null,null,0,null,null,null,0,0,{"$error":"#DIV/0!"},{"$error":"#DIV/0!"},0,0,{"$error":"#DIV/0!"},{"$error":"#DIV/0!"},{"$error":"#DIV/0!"}]
[null,null,null,null,null,0,null,null,null,0,0,{"$error":"#DIV/0!"},{"$error":"#DIV/0!"},0,0,{"$error":"#DIV/0!"},{"$error":"#DIV/0!"},{"$error":"#DIV/0!"}]
[null,null,null,null,null,0,null,null,null,0,0,{"$error":"#DIV/0!"},{"$error":"#DIV/0!"},0,0,{"$error":"#DIV/0!"},{"$error":"#DIV/0!"},{"$error":"#DIV/0!"}]

{"sheet":"ES from F","index":2,"n_rows":671,"n_cols":13,"rows_kept":671,"cut":false,"hidden":false,"merged":[]}
["Study","F","n1 (Control)","n2(Treatment)","n1+n2","n1*n2","F(n1+n2)","F(n1+n2)/n1n2","d","d2","SEd","LO95d","HI95d"]
[null,null,null,null,{"$f":"C2+D2","v":0},{"$f":"C2*D2","v":0},{"$f":"B2*E2","v":0},{"$f":"G2/F2","v":{"$error":"#DIV/0!"}},{"$f":"SQRT(H2)","v":{"$error":"#DIV/0!"}},{"$f":"I2^2","v":{"$error":"#DIV/0!"}},{"$f":"SQRT(((E2/F2)+(J2/(2*E2))))","v":{"$error":"#DIV/0!"}},{"$f":"I2-(1.96*K2)","v":{"$error":"#DIV/0!"}},{"$f":"I2+(1.96*K2)","v":{"$error":"#DIV/0!"}}]
[null,null,null,null,0,0,0,{"$error":"#DIV/0!"},{"$error":"#DIV/0!"},{"$error":"#DIV/0!"},{"$error":"#DIV/0!"},{"$error":"#DIV/0!"},{"$error":"#DIV/0!"}]
[null,null,null,null,0,0,0,{"$error":"#DIV/0!"},{"$error":"#DIV/0!"},{"$error":"#DIV/0!"},{"$error":"#DIV/0!"},{"$error":"#DIV/0!"},{"$error":"#DIV/0!"}]
[null,null,null,null,0,0,0,{"$error":"#DIV/0!"},{"$error":"#DIV/0!"},{"$error":"#DIV/0!"},{"$error":"#DIV/0!"},{"$error":"#DIV/0!"},{"$error":"#DIV/0!"}]
[null,null,null,null,0,0,0,{"$error":"#DIV/0!"},{"$error":"#DIV/0!"},{"$error":"#DIV/0!"},{"$error":"#DIV/0!"},{"$error":"#DIV/0!"},{"$error":"#DIV/0!"}]
[null,null,null,null,0,0,0,{"$error":"#DIV/0!"},{"$error":"#DIV/0!"},{"$error":"#DIV/0!"},{"$error":"#DIV/0!"},{"$error":"#DIV/0!"},{"$error":"#DIV/0!"}]
[null,null,null,null,0,0,0,{"$error":"#DIV/0!"},{"$error":"#DIV/0!"},{"$error":"#DIV/0!"},{"$error":"#DIV/0!"},{"$error":"#DIV/0!"},{"$error":"#DIV/0!"}]
[null,null,null,null,0,0,0,{"$error":"#DIV/0!"},{"$error":"#DIV/0!"},{"$error":"#DIV/0!"},{"$error":"#DIV/0!"},{"$error":"#DIV/0!"},{"$error":"#DIV/0!"}]
[null,null,null,null,0,0,0,{"$error":"#DIV/0!"},{"$error":"#DIV/0!"},{"$error":"#DIV/0!"},{"$error":"#DIV/0!"},{"$error":"#DIV/0!"},{"$error":"#DIV/0!"}]
[null,null,null,null,0,0,0,{"$error":"#DIV/0!"},{"$error":"#DIV/0!"},{"$error":"#DIV/0!"},{"$error":"#DIV/0!"},{"$error":"#DIV/0!"},{"$error":"#DIV/0!"}]
[null,null,null,null,0,0,0,{"$error":"#DIV/0!"},{"$error":"#DIV/0!"},{"$error":"#DIV/0!"},{"$error":"#DIV/0!"},{"$error":"#DIV/0!"},{"$error":"#DIV/0!"}]
[null,null,null,null,0,0,0,{"$error":"#DIV/0!"},{"$error":"#DIV/0!"},{"$error":"#DIV/0!"},{"$error":"#DIV/0!"},{"$error":"#DIV/0!"},{"$error":"#DIV/0!"}]
[null,null,null,null,0,0,0,{"$error":"#DIV/0!"},{"$error":"#DIV/0!"},{"$error":"#DIV/0!"},{"$error":"#DIV/0!"},{"$error":"#DIV/0!"},{"$error":"#DIV/0!"}]
[null,null,null,null,0,0,0,{"$error":"#DIV/0!"},{"$error":"#DIV/0!"},{"$error":"#DIV/0!"},{"$error":"#DIV/0!"},{"$error":"#DIV/0!"},{"$error":"#DIV/0!"}]
[null,null,null,null,0,0,0,{"$error":"#DIV/0!"},{"$error":"#DIV/0!"},{"$error":"#DIV/0!"},{"$error":"#DIV/0!"},{"$error":"#DIV/0!"},{"$error":"#DIV/0!"}]
[null,null,null,null,0,0,0,{"$error":"#DIV/0!"},{"$error":"#DIV/0!"},{"$error":"#DIV/0!"},{"$error":"#DIV/0!"},{"$error":"#DIV/0!"},{"$error":"#DIV/0!"}]
[null,null,null,null,0,0,0,{"$error":"#DIV/0!"},{"$error":"#DIV/0!"},{"$error":"#DIV/0!"},{"$error":"#DIV/0!"},{"$error":"#DIV/0!"},{"$error":"#DIV/0!"}]
[null,null,null,null,0,0,0,{"$error":"#DIV/0!"},{"$error":"#DIV/0!"},{"$error":"#DIV/0!"},{"$error":"#DIV/0!"},{"$error":"#DIV/0!"},{"$error":"#DIV/0!"}]
[null,null,null,null,0,0,0,{"$error":"#DIV/0!"},{"$error":"#DIV/0!"},{"$error":"#DIV/0!"},{"$error":"#DIV/0!"},{"$error":"#DIV/0!"},{"$error":"#DIV/0!"}]
[null,null,null,null,0,0,0,{"$error":"#DIV/0!"},{"$error":"#DIV/0!"},{"$error":"#DIV/0!"},{"$error":"#DIV/0!"},{"$error":"#DIV/0!"},{"$error":"#DIV/0!"}]
[null,null,null,null,0,0,0,{"$error":"#DIV/0!"},{"$error":"#DIV/0!"},{"$error":"#DIV/0!"},{"$error":"#DIV/0!"},{"$error":"#DIV/0!"},{"$error":"#DIV/0!"}]
[null,null,null,null,0,0,0,{"$error":"#DIV/0!"},{"$error":"#DIV/0!"},{"$error":"#DIV/0!"},{"$error":"#DIV/0!"},{"$error":"#DIV/0!"},{"$error":"#DIV/0!"}]
[null,null,null,null,0,0,0,{"$error":"#DIV/0!"},{"$error":"#DIV/0!"},{"$error":"#DIV/0!"},{"$error":"#DIV/0!"},{"$error":"#DIV/0!"},{"$error":"#DIV/0!"}]
[null,null,null,null,0,0,0,{"$error":"#DIV/0!"},{"$error":"#DIV/0!"},{"$error":"#DIV/0!"},{"$error":"#DIV/0!"},{"$error":"#DIV/0!"},{"$error":"#DIV/0!"}]
[null,null,null,null,0,0,0,{"$error":"#DIV/0!"},{"$error":"#DIV/0!"},{"$error":"#DIV/0!"},{"$error":"#DIV/0!"},{"$error":"#DIV/0!"},{"$error":"#DIV/0!"}]
[null,null,null,null,0,0,0,{"$error":"#DIV/0!"},{"$error":"#DIV/0!"},{"$error":"#DIV/0!"},{"$error":"#DIV/0!"},{"$error":"#DIV/0!"},{"$error":"#DIV/0!"}]
[null,null,null,null,0,0,0,{"$error":"#DIV/0!"},{"$error":"#DIV/0!"},{"$error":"#DIV/0!"},{"$error":"#DIV/0!"},{"$error":"#DIV/0!"},{"$error":"#DIV/0!"}]
[null,null,null,null,0,0,0,{"$error":"#DIV/0!"},{"$error":"#DIV/0!"},{"$error":"#DIV/0!"},{"$error":"#DIV/0!"},{"$error":"#DIV/0!"},{"$error":"#DIV/0!"}]
[null,null,null,null,0,0,0,{"$error":"#DIV/0!"},{"$error":"#DIV/0!"},{"$error":"#DIV/0!"},{"$error":"#DIV/0!"},{"$error":"#DIV/0!"},{"$error":"#DIV/0!"}]
[null,null,null,null,0,0,0,{"$error":"#DIV/0!"},{"$error":"#DIV/0!"},{"$error":"#DIV/0!"},{"$error":"#DIV/0!"},{"$error":"#DIV/0!"},{"$error":"#DIV/0!"}]
[null,null,null,null,0,0,0,{"$error":"#DIV/0!"},{"$error":"#DIV/0!"},{"$error":"#DIV/0!"},{"$error":"#DIV/0!"},{"$error":"#DIV/0!"},{"$error":"#DIV/0!"}]
[null,null,null,null,0,0,0,{"$error":"#DIV/0!"},{"$error":"#DIV/0!"},{"$error":"#DIV/0!"},{"$error":"#DIV/0!"},{"$error":"#DIV/0!"},{"$error":"#DIV/0!"}]
[null,null,null,null,0,0,0,{"$error":"#DIV/0!"},{"$error":"#DIV/0!"},{"$error":"#DIV/0!"},{"$error":"#DIV/0!"},{"$error":"#DIV/0!"},{"$error":"#DIV/0!"}]
[null,null,null,null,0,0,0,{"$error":"#DIV/0!"},{"$error":"#DIV/0!"},{"$error":"#DIV/0!"},{"$error":"#DIV/0!"},{"$error":"#DIV/0!"},{"$error":"#DIV/0!"}]
[null,null,null,null,0,0,0,{"$error":"#DIV/0!"},{"$error":"#DIV/0!"},{"$error":"#DIV/0!"},{"$error":"#DIV/0!"},{"$error":"#DIV/0!"},{"$error":"#DIV/0!"}]
[null,null,null,null,0,0,0,{"$error":"#DIV/0!"},{"$error":"#DIV/0!"},{"$error":"#DIV/0!"},{"$error":"#DIV/0!"},{"$error":"#DIV/0!"},{"$error":"#DIV/0!"}]
[null,null,null,null,0,0,0,{"$error":"#DIV/0!"},{"$error":"#DIV/0!"},{"$error":"#DIV/0!"},{"$error":"#DIV/0!"},{"$error":"#DIV/0!"},{"$error":"#DIV/0!"}]
[null,null,null,null,0,0,0,{"$error":"#DIV/0!"},{"$error":"#DIV/0!"},{"$error":"#DIV/0!"},{"$error":"#DIV/0!"},{"$error":"#DIV/0!"},{"$error":"#DIV/0!"}]
[null,null,null,null,0,0,0,{"$error":"#DIV/0!"},{"$error":"#DIV/0!"},{"$error":"#DIV/0!"},{"$error":"#DIV/0!"},{"$error":"#DIV/0!"},{"$error":"#DIV/0!"}]
[null,null,null,null,0,0,0,{"$error":"#DIV/0!"},{"$error":"#DIV/0!"},{"$error":"#DIV/0!"},{"$error":"#DIV/0!"},{"$error":"#DIV/0!"},{"$error":"#DIV/0!"}]
[null,null,null,null,0,0,0,{"$error":"#DIV/0!"},{"$error":"#DIV/0!"},{"$error":"#DIV/0!"},{"$error":"#DIV/0!"},{"$error":"#DIV/0!"},{"$error":"#DIV/0!"}]
[null,null,null,null,0,0,0,{"$error":"#DIV/0!"},{"$error":"#DIV/0!"},{"$error":"#DIV/0!"},{"$error":"#DIV/0!"},{"$error":"#DIV/0!"},{"$error":"#DIV/0!"}]
[null,null,null,null,0,0,0,{"$error":"#DIV/0!"},{"$error":"#DIV/0!"},{"$error":"#DIV/0!"},{"$error":"#DIV/0!"},{"$error":"#DIV/0!"},{"$error":"#DIV/0!"}]
[null,null,null,null,0,0,0,{"$error":"#DIV/0!"},{"$error":"#DIV/0!"},{"$error":"#DIV/0!"},{"$error":"#DIV/0!"},{"$error":"#DIV/0!"},{"$error":"#DIV/0!"}]
[null,null,null,null,0,0,0,{"$error":"#DIV/0!"},{"$error":"#DIV/0!"},{"$error":"#DIV/0!"},{"$error":"#DIV/0!"},{"$error":"#DIV/0!"},{"$error":"#DIV/0!"}]
[null,null,null,null,0,0,0,{"$error":"#DIV/0!"},{"$error":"#DIV/0!"},{"$error":"#DIV/0!"},{"$error":"#DIV/0!"},{"$error":"#DIV/0!"},{"$error":"#DIV/0!"}]
[null,null,null,null,0,0,0,{"$error":"#DIV/0!"},{"$error":"#DIV/0!"},{"$error":"#DIV/0!"},{"$error":"#DIV/0!"},{"$error":"#DIV/0!"},{"$error":"#DIV/0!"}]
[null,null,null,null,0,0,0,{"$error":"#DIV/0!"},{"$error":"#DIV/0!"},{"$error":"#DIV/0!"},{"$error":"#DIV/0!"},{"$error":"#DIV/0!"},{"$error":"#DIV/0!"}]
[null,null,null,null,0,0,0,{"$error":"#DIV/0!"},{"$error":"#DIV/0!"},{"$error":"#DIV/0!"},{"$error":"#DIV/0!"},{"$error":"#DIV/0!"},{"$error":"#DIV/0!"}]
[null,null,null,null,0,0,0,{"$error":"#DIV/0!"},{"$error":"#DIV/0!"},{"$error":"#DIV/0!"},{"$error":"#DIV/0!"},{"$error":"#DIV/0!"},{"$error":"#DIV/0!"}]
[null,null,null,null,0,0,0,{"$error":"#DIV/0!"},{"$error":"#DIV/0!"},{"$error":"#DIV/0!"},{"$error":"#DIV/0!"},{"$error":"#DIV/0!"},{"$error":"#DIV/0!"}]
[null,null,null,null,0,0,0,{"$error":"#DIV/0!"},{"$error":"#DIV/0!"},{"$error":"#DIV/0!"},{"$error":"#DIV/0!"},{"$error":"#DIV/0!"},{"$error":"#DIV/0!"}]
[null,null,null,null,0,0,0,{"$error":"#DIV/0!"},{"$error":"#DIV/0!"},{"$error":"#DIV/0!"},{"$error":"#DIV/0!"},{"$error":"#DIV/0!"},{"$error":"#DIV/0!"}]
[null,null,null,null,0,0,0,{"$error":"#DIV/0!"},{"$error":"#DIV/0!"},{"$error":"#DIV/0!"},{"$error":"#DIV/0!"},{"$error":"#DIV/0!"},{"$error":"#DIV/0!"}]
[null,null,null,null,0,0,0,{"$error":"#DIV/0!"},{"$error":"#DIV/0!"},{"$error":"#DIV/0!"},{"$error":"#DIV/0!"},{"$error":"#DIV/0!"},{"$error":"#DIV/0!"}]
[null,null,null,null,0,0,0,{"$error":"#DIV/0!"},{"$error":"#DIV/0!"},{"$error":"#DIV/0!"},{"$error":"#DIV/0!"},{"$error":"#DIV/0!"},{"$error":"#DIV/0!"}]
[null,null,null,null,0,0,0,{"$error":"#DIV/0!"},{"$error":"#DIV/0!"},{"$error":"#DIV/0!"},{"$error":"#DIV/0!"},{"$error":"#DIV/0!"},{"$error":"#DIV/0!"}]
[null,null,null,null,0,0,0,{"$error":"#DIV/0!"},{"$error":"#DIV/0!"},{"$error":"#DIV/0!"},{"$error":"#DIV/0!"},{"$error":"#DIV/0!"},{"$error":"#DIV/0!"}]
[null,null,null,null,0,0,0,{"$error":"#DIV/0!"},{"$error":"#DIV/0!"},{"$error":"#DIV/0!"},{"$error":"#DIV/0!"},{"$error":"#DIV/0!"},{"$error":"#DIV/0!"}]
[null,null,null,null,0,0,0,{"$error":"#DIV/0!"},{"$error":"#DIV/0!"},{"$error":"#DIV/0!"},{"$error":"#DIV/0!"},{"$error":"#DIV/0!"},{"$error":"#DIV/0!"}]
[null,null,null,null,0,0,0,{"$error":"#DIV/0!"},{"$error":"#DIV/0!"},{"$error":"#DIV/0!"},{"$error":"#DIV/0!"},{"$error":"#DIV/0!"},{"$error":"#DIV/0!"}]
[null,null,null,null,0,0,0,{"$error":"#DIV/0!"},{"$error":"#DIV/0!"},{"$error":"#DIV/0!"},{"$error":"#DIV/0!"},{"$error":"#DIV/0!"},{"$error":"#DIV/0!"}]
[null,null,null,null,0,0,0,{"$error":"#DIV/0!"},{"$error":"#DIV/0!"},{"$error":"#DIV/0!"},{"$error":"#DIV/0!"},{"$error":"#DIV/0!"},{"$error":"#DIV/0!"}]
[null,null,null,null,0,0,0,{"$error":"#DIV/0!"},{"$error":"#DIV/0!"},{"$error":"#DIV/0!"},{"$error":"#DIV/0!"},{"$error":"#DIV/0!"},{"$error":"#DIV/0!"}]
[null,null,null,null,{"$f":"C66+D66","v":0},{"$f":"C66*D66","v":0},{"$f":"B66*E66","v":0},{"$f":"G66/F66","v":{"$error":"#DIV/0!"}},{"$f":"SQRT(H66)","v":{"$error":"#DIV/0!"}},{"$f":"I66^2","v":{"$error":"#DIV/0!"}},{"$f":"SQRT(((E66/F66)+(J66/(2*E66))))","v":{"$error":"#DIV/0!"}},{"$f":"I66-(1.96*K66)","v":{"$error":"#DIV/0!"}},{"$f":"I66+(1.96*K66)","v":{"$error":"#DIV/0!"}}]
[null,null,null,null,0,0,0,{"$error":"#DIV/0!"},{"$error":"#DIV/0!"},{"$error":"#DIV/0!"},{"$error":"#DIV/0!"},{"$error":"#DIV/0!"},{"$error":"#DIV/0!"}]
[null,null,null,null,0,0,0,{"$error":"#DIV/0!"},{"$error":"#DIV/0!"},{"$error":"#DIV/0!"},{"$error":"#DIV/0!"},{"$error":"#DIV/0!"},{"$error":"#DIV/0!"}]
[null,null,null,null,0,0,0,{"$error":"#DIV/0!"},{"$error":"#DIV/0!"},{"$error":"#DIV/0!"},{"$error":"#DIV/0!"},{"$error":"#DIV/0!"},{"$error":"#DIV/0!"}]
[null,null,null,null,0,0,0,{"$error":"#DIV/0!"},{"$error":"#DIV/0!"},{"$error":"#DIV/0!"},{"$error":"#DIV/0!"},{"$error":"#DIV/0!"},{"$error":"#DIV/0!"}]
[null,null,null,null,0,0,0,{"$error":"#DIV/0!"},{"$error":"#DIV/0!"},{"$error":"#DIV/0!"},{"$error":"#DIV/0!"},{"$error":"#DIV/0!"},{"$error":"#DIV/0!"}]
[null,null,null,null,0,0,0,{"$error":"#DIV/0!"},{"$error":"#DIV/0!"},{"$error":"#DIV/0!"},{"$error":"#DIV/0!"},{"$error":"#DIV/0!"},{"$error":"#DIV/0!"}]
[null,null,null,null,0,0,0,{"$error":"#DIV/0!"},{"$error":"#DIV/0!"},{"$error":"#DIV/0!"},{"$error":"#DIV/0!"},{"$error":"#DIV/0!"},{"$error":"#DIV/0!"}]
[null,null,null,null,0,0,0,{"$error":"#DIV/0!"},{"$error":"#DIV/0!"},{"$error":"#DIV/0!"},{"$error":"#DIV/0!"},{"$error":"#DIV/0!"},{"$error":"#DIV/0!"}]
[null,null,null,null,0,0,0,{"$error":"#DIV/0!"},{"$error":"#DIV/0!"},{"$error":"#DIV/0!"},{"$error":"#DIV/0!"},{"$error":"#DIV/0!"},{"$error":"#DIV/0!"}]
[null,null,null,null,0,0,0,{"$error":"#DIV/0!"},{"$error":"#DIV/0!"},{"$error":"#DIV/0!"},{"$error":"#DIV/0!"},{"$error":"#DIV/0!"},{"$error":"#DIV/0!"}]
[null,null,null,null,0,0,0,{"$error":"#DIV/0!"},{"$error":"#DIV/0!"},{"$error":"#DIV/0!"},{"$error":"#DIV/0!"},{"$error":"#DIV/0!"},{"$error":"#DIV/0!"}]
[null,null,null,null,0,0,0,{"$error":"#DIV/0!"},{"$error":"#DIV/0!"},{"$error":"#DIV/0!"},{"$error":"#DIV/0!"},{"$error":"#DIV/0!"},{"$error":"#DIV/0!"}]
[null,null,null,null,0,0,0,{"$error":"#DIV/0!"},{"$error":"#DIV/0!"},{"$error":"#DIV/0!"},{"$error":"#DIV/0!"},{"$error":"#DIV/0!"},{"$error":"#DIV/0!"}]
[null,null,null,null,0,0,0,{"$error":"#DIV/0!"},{"$error":"#DIV/0!"},{"$error":"#DIV/0!"},{"$error":"#DIV/0!"},{"$error":"#DIV/0!"},{"$error":"#DIV/0!"}]
[null,null,null,null,0,0,0,{"$error":"#DIV/0!"},{"$error":"#DIV/0!"},{"$error":"#DIV/0!"},{"$error":"#DIV/0!"},{"$error":"#DIV/0!"},{"$error":"#DIV/0!"}]
[null,null,null,null,0,0,0,{"$error":"#DIV/0!"},{"$error":"#DIV/0!"},{"$error":"#DIV/0!"},{"$error":"#DIV/0!"},{"$error":"#DIV/0!"},{"$error":"#DIV/0!"}]
[null,null,null,null,0,0,0,{"$error":"#DIV/0!"},{"$error":"#DIV/0!"},{"$error":"#DIV/0!"},{"$error":"#DIV/0!"},{"$error":"#DIV/0!"},{"$error":"#DIV/0!"}]
[null,null,null,null,0,0,0,{"$error":"#DIV/0!"},{"$error":"#DIV/0!"},{"$error":"#DIV/0!"},{"$error":"#DIV/0!"},{"$error":"#DIV/0!"},{"$error":"#DIV/0!"}]
[null,null,null,null,0,0,0,{"$error":"#DIV/0!"},{"$error":"#DIV/0!"},{"$error":"#DIV/0!"},{"$error":"#DIV/0!"},{"$error":"#DIV/0!"},{"$error":"#DIV/0!"}]
[null,null,null,null,0,0,0,{"$error":"#DIV/0!"},{"$error":"#DIV/0!"},{"$error":"#DIV/0!"},{"$error":"#DIV/0!"},{"$error":"#DIV/0!"},{"$error":"#DIV/0!"}]
[null,null,null,null,0,0,0,{"$error":"#DIV/0!"},{"$error":"#DIV/0!"},{"$error":"#DIV/0!"},{"$error":"#DIV/0!"},{"$error":"#DIV/0!"},{"$error":"#DIV/0!"}]
[null,null,null,null,0,0,0,{"$error":"#DIV/0!"},{"$error":"#DIV/0!"},{"$error":"#DIV/0!"},{"$error":"#DIV/0!"},{"$error":"#DIV/0!"},{"$error":"#DIV/0!"}]
[null,null,null,null,0,0,0,{"$error":"#DIV/0!"},{"$error":"#DIV/0!"},{"$error":"#DIV/0!"},{"$error":"#DIV/0!"},{"$error":"#DIV/0!"},{"$error":"#DIV/0!"}]
[null,null,null,null,0,0,0,{"$error":"#DIV/0!"},{"$error":"#DIV/0!"},{"$error":"#DIV/0!"},{"$error":"#DIV/0!"},{"$error":"#DIV/0!"},{"$error":"#DIV/0!"}]
[null,null,null,null,0,0,0,{"$error":"#DIV/0!"},{"$error":"#DIV/0!"},{"$error":"#DIV/0!"},{"$error":"#DIV/0!"},{"$error":"#DIV/0!"},{"$error":"#DIV/0!"}]
[null,null,null,null,0,0,0,{"$error":"#DIV/0!"},{"$error":"#DIV/0!"},{"$error":"#DIV/0!"},{"$error":"#DIV/0!"},{"$error":"#DIV/0!"},{"$error":"#DIV/0!"}]
[null,null,null,null,0,0,0,{"$error":"#DIV/0!"},{"$error":"#DIV/0!"},{"$error":"#DIV/0!"},{"$error":"#DIV/0!"},{"$error":"#DIV/0!"},{"$error":"#DIV/0!"}]
[null,null,null,null,0,0,0,{"$error":"#DIV/0!"},{"$error":"#DIV/0!"},{"$error":"#DIV/0!"},{"$error":"#DIV/0!"},{"$error":"#DIV/0!"},{"$error":"#DIV/0!"}]
[null,null,null,null,0,0,0,{"$error":"#DIV/0!"},{"$error":"#DIV/0!"},{"$error":"#DIV/0!"},{"$error":"#DIV/0!"},{"$error":"#DIV/0!"},{"$error":"#DIV/0!"}]
[null,null,null,null,0,0,0,{"$error":"#DIV/0!"},{"$error":"#DIV/0!"},{"$error":"#DIV/0!"},{"$error":"#DIV/0!"},{"$error":"#DIV/0!"},{"$error":"#DIV/0!"}]
[null,null,null,null,0,0,0,{"$error":"#DIV/0!"},{"$error":"#DIV/0!"},{"$error":"#DIV/0!"},{"$error":"#DIV/0!"},{"$error":"#DIV/0!"},{"$error":"#DIV/0!"}]
[null,null,null,null,0,0,0,{"$error":"#DIV/0!"},{"$error":"#DIV/0!"},{"$error":"#DIV/0!"},{"$error":"#DIV/0!"},{"$error":"#DIV/0!"},{"$error":"#DIV/0!"}]
[null,null,null,null,0,0,0,{"$error":"#DIV/0!"},{"$error":"#DIV/0!"},{"$error":"#DIV/0!"},{"$error":"#DIV/0!"},{"$error":"#DIV/0!"},{"$error":"#DIV/0!"}]
[null,null,null,null,0,0,0,{"$error":"#DIV/0!"},{"$error":"#DIV/0!"},{"$error":"#DIV/0!"},{"$error":"#DIV/0!"},{"$error":"#DIV/0!"},{"$error":"#DIV/0!"}]
[null,null,null,null,0,0,0,{"$error":"#DIV/0!"},{"$error":"#DIV/0!"},{"$error":"#DIV/0!"},{"$error":"#DIV/0!"},{"$error":"#DIV/0!"},{"$error":"#DIV/0!"}]
[null,null,null,null,0,0,0,{"$error":"#DIV/0!"},{"$error":"#DIV/0!"},{"$error":"#DIV/0!"},{"$error":"#DIV/0!"},{"$error":"#DIV/0!"},{"$error":"#DIV/0!"}]
[null,null,null,null,0,0,0,{"$error":"#DIV/0!"},{"$error":"#DIV/0!"},{"$error":"#DIV/0!"},{"$error":"#DIV/0!"},{"$error":"#DIV/0!"},{"$error":"#DIV/0!"}]
[null,null,null,null,0,0,0,{"$error":"#DIV/0!"},{"$error":"#DIV/0!"},{"$error":"#DIV/0!"},{"$error":"#DIV/0!"},{"$error":"#DIV/0!"},{"$error":"#DIV/0!"}]
[null,null,null,null,0,0,0,{"$error":"#DIV/0!"},{"$error":"#DIV/0!"},{"$error":"#DIV/0!"},{"$error":"#DIV/0!"},{"$error":"#DIV/0!"},{"$error":"#DIV/0!"}]
[null,null,null,null,0,0,0,{"$error":"#DIV/0!"},{"$error":"#DIV/0!"},{"$error":"#DIV/0!"},{"$error":"#DIV/0!"},{"$error":"#DIV/0!"},{"$error":"#DIV/0!"}]
[null,null,null,null,0,0,0,{"$error":"#DIV/0!"},{"$error":"#DIV/0!"},{"$error":"#DIV/0!"},{"$error":"#DIV/0!"},{"$error":"#DIV/0!"},{"$error":"#DIV/0!"}]
[null,null,null,null,0,0,0,{"$error":"#DIV/0!"},{"$error":"#DIV/0!"},{"$error":"#DIV/0!"},{"$error":"#DIV/0!"},{"$error":"#DIV/0!"},{"$error":"#DIV/0!"}]
[null,null,null,null,0,0,0,{"$error":"#DIV/0!"},{"$error":"#DIV/0!"},{"$error":"#DIV/0!"},{"$error":"#DIV/0!"},{"$error":"#DIV/0!"},{"$error":"#DIV/0!"}]
[null,null,null,null,0,0,0,{"$error":"#DIV/0!"},{"$error":"#DIV/0!"},{"$error":"#DIV/0!"},{"$error":"#DIV/0!"},{"$error":"#DIV/0!"},{"$error":"#DIV/0!"}]
[null,null,null,null,0,0,0,{"$error":"#DIV/0!"},{"$error":"#DIV/0!"},{"$error":"#DIV/0!"},{"$error":"#DIV/0!"},{"$error":"#DIV/0!"},{"$error":"#DIV/0!"}]
[null,null,null,null,0,0,0,{"$error":"#DIV/0!"},{"$error":"#DIV/0!"},{"$error":"#DIV/0!"},{"$error":"#DIV/0!"},{"$error":"#DIV/0!"},{"$error":"#DIV/0!"}]
[null,null,null,null,0,0,0,{"$error":"#DIV/0!"},{"$error":"#DIV/0!"},{"$error":"#DIV/0!"},{"$error":"#DIV/0!"},{"$error":"#DIV/0!"},{"$error":"#DIV/0!"}]
[null,null,null,null,0,0,0,{"$error":"#DIV/0!"},{"$error":"#DIV/0!"},{"$error":"#DIV/0!"},{"$error":"#DIV/0!"},{"$error":"#DIV/0!"},{"$error":"#DIV/0!"}]
[null,null,null,null,0,0,0,{"$error":"#DIV/0!"},{"$error":"#DIV/0!"},{"$error":"#DIV/0!"},{"$error":"#DIV/0!"},{"$error":"#DIV/0!"},{"$error":"#DIV/0!"}]
[null,null,null,null,0,0,0,{"$error":"#DIV/0!"},{"$error":"#DIV/0!"},{"$error":"#DIV/0!"},{"$error":"#DIV/0!"},{"$error":"#DIV/0!"},{"$error":"#DIV/0!"}]
[null,null,null,null,0,0,0,{"$error":"#DIV/0!"},{"$error":"#DIV/0!"},{"$error":"#DIV/0!"},{"$error":"#DIV/0!"},{"$error":"#DIV/0!"},{"$error":"#DIV/0!"}]
[null,null,null,null,0,0,0,{"$error":"#DIV/0!"},{"$error":"#DIV/0!"},{"$error":"#DIV/0!"},{"$error":"#DIV/0!"},{"$error":"#DIV/0!"},{"$error":"#DIV/0!"}]
[null,null,null,null,0,0,0,{"$error":"#DIV/0!"},{"$error":"#DIV/0!"},{"$error":"#DIV/0!"},{"$error":"#DIV/0!"},{"$error":"#DIV/0!"},{"$error":"#DIV/0!"}]
[null,null,null,null,0,0,0,{"$error":"#DIV/0!"},{"$error":"#DIV/0!"},{"$error":"#DIV/0!"},{"$error":"#DIV/0!"},{"$error":"#DIV/0!"},{"$error":"#DIV/0!"}]
[null,null,null,null,0,0,0,{"$error":"#DIV/0!"},{"$error":"#DIV/0!"},{"$error":"#DIV/0!"},{"$error":"#DIV/0!"},{"$error":"#DIV/0!"},{"$error":"#DIV/0!"}]
[null,null,null,null,0,0,0,{"$error":"#DIV/0!"},{"$error":"#DIV/0!"},{"$error":"#DIV/0!"},{"$error":"#DIV/0!"},{"$error":"#DIV/0!"},{"$error":"#DIV/0!"}]
[null,null,null,null,0,0,0,{"$error":"#DIV/0!"},{"$error":"#DIV/0!"},{"$error":"#DIV/0!"},{"$error":"#DIV/0!"},{"$error":"#DIV/0!"},{"$error":"#DIV/0!"}]
[null,null,null,null,0,0,0,{"$error":"#DIV/0!"},{"$error":"#DIV/0!"},{"$error":"#DIV/0!"},{"$error":"#DIV/0!"},{"$error":"#DIV/0!"},{"$error":"#DIV/0!"}]
[null,null,null,null,0,0,0,{"$error":"#DIV/0!"},{"$error":"#DIV/0!"},{"$error":"#DIV/0!"},{"$error":"#DIV/0!"},{"$error":"#DIV/0!"},{"$error":"#DIV/0!"}]
[null,null,null,null,0,0,0,{"$error":"#DIV/0!"},{"$error":"#DIV/0!"},{"$error":"#DIV/0!"},{"$error":"#DIV/0!"},{"$error":"#DIV/0!"},{"$error":"#DIV/0!"}]
[null,null,null,null,0,0,0,{"$error":"#DIV/0!"},{"$error":"#DIV/0!"},{"$error":"#DIV/0!"},{"$error":"#DIV/0!"},{"$error":"#DIV/0!"},{"$error":"#DIV/0!"}]
[null,null,null,null,0,0,0,{"$error":"#DIV/0!"},{"$error":"#DIV/0!"},{"$error":"#DIV/0!"},{"$error":"#DIV/0!"},{"$error":"#DIV/0!"},{"$error":"#DIV/0!"}]
[null,null,null,null,0,0,0,{"$error":"#DIV/0!"},{"$error":"#DIV/0!"},{"$error":"#DIV/0!"},{"$error":"#DIV/0!"},{"$error":"#DIV/0!"},{"$error":"#DIV/0!"}]
[null,null,null,null,{"$f":"C130+D130","v":0},{"$f":"C130*D130","v":0},{"$f":"B130*E130","v":0},{"$f":"G130/F130","v":{"$error":"#DIV/0!"}},{"$f":"SQRT(H130)","v":{"$error":"#DIV/0!"}},{"$f":"I130^2","v":{"$error":"#DIV/0!"}},{"$f":"SQRT(((E130/F130)+(J130/(2*E130))))","v":{"$error":"#DIV/0!"}},{"$f":"I130-(1.96*K130)","v":{"$error":"#DIV/0!"}},{"$f":"I130+(1.96*K130)","v":{"$error":"#DIV/0!"}}]
[null,null,null,null,0,0,0,{"$error":"#DIV/0!"},{"$error":"#DIV/0!"},{"$error":"#DIV/0!"},{"$error":"#DIV/0!"},{"$error":"#DIV/0!"},{"$error":"#DIV/0!"}]
[null,null,null,null,0,0,0,{"$error":"#DIV/0!"},{"$error":"#DIV/0!"},{"$error":"#DIV/0!"},{"$error":"#DIV/0!"},{"$error":"#DIV/0!"},{"$error":"#DIV/0!"}]
[null,null,null,null,0,0,0,{"$error":"#DIV/0!"},{"$error":"#DIV/0!"},{"$error":"#DIV/0!"},{"$error":"#DIV/0!"},{"$error":"#DIV/0!"},{"$error":"#DIV/0!"}]
[null,null,null,null,0,0,0,{"$error":"#DIV/0!"},{"$error":"#DIV/0!"},{"$error":"#DIV/0!"},{"$error":"#DIV/0!"},{"$error":"#DIV/0!"},{"$error":"#DIV/0!"}]
[null,null,null,null,0,0,0,{"$error":"#DIV/0!"},{"$error":"#DIV/0!"},{"$error":"#DIV/0!"},{"$error":"#DIV/0!"},{"$error":"#DIV/0!"},{"$error":"#DIV/0!"}]
[null,null,null,null,0,0,0,{"$error":"#DIV/0!"},{"$error":"#DIV/0!"},{"$error":"#DIV/0!"},{"$error":"#DIV/0!"},{"$error":"#DIV/0!"},{"$error":"#DIV/0!"}]
[null,null,null,null,0,0,0,{"$error":"#DIV/0!"},{"$error":"#DIV/0!"},{"$error":"#DIV/0!"},{"$error":"#DIV/0!"},{"$error":"#DIV/0!"},{"$error":"#DIV/0!"}]
[null,null,null,null,0,0,0,{"$error":"#DIV/0!"},{"$error":"#DIV/0!"},{"$error":"#DIV/0!"},{"$error":"#DIV/0!"},{"$error":"#DIV/0!"},{"$error":"#DIV/0!"}]
[null,null,null,null,0,0,0,{"$error":"#DIV/0!"},{"$error":"#DIV/0!"},{"$error":"#DIV/0!"},{"$error":"#DIV/0!"},{"$error":"#DIV/0!"},{"$error":"#DIV/0!"}]
[null,null,null,null,0,0,0,{"$error":"#DIV/0!"},{"$error":"#DIV/0!"},{"$error":"#DIV/0!"},{"$error":"#DIV/0!"},{"$error":"#DIV/0!"},{"$error":"#DIV/0!"}]
[null,null,null,null,0,0,0,{"$error":"#DIV/0!"},{"$error":"#DIV/0!"},{"$error":"#DIV/0!"},{"$error":"#DIV/0!"},{"$error":"#DIV/0!"},{"$error":"#DIV/0!"}]
[null,null,null,null,0,0,0,{"$error":"#DIV/0!"},{"$error":"#DIV/0!"},{"$error":"#DIV/0!"},{"$error":"#DIV/0!"},{"$error":"#DIV/0!"},{"$error":"#DIV/0!"}]
[null,null,null,null,0,0,0,{"$error":"#DIV/0!"},{"$error":"#DIV/0!"},{"$error":"#DIV/0!"},{"$error":"#DIV/0!"},{"$error":"#DIV/0!"},{"$error":"#DIV/0!"}]
[null,null,null,null,0,0,0,{"$error":"#DIV/0!"},{"$error":"#DIV/0!"},{"$error":"#DIV/0!"},{"$error":"#DIV/0!"},{"$error":"#DIV/0!"},{"$error":"#DIV/0!"}]
[null,null,null,null,0,0,0,{"$error":"#DIV/0!"},{"$error":"#DIV/0!"},{"$error":"#DIV/0!"},{"$error":"#DIV/0!"},{"$error":"#DIV/0!"},{"$error":"#DIV/0!"}]
[null,null,null,null,0,0,0,{"$error":"#DIV/0!"},{"$error":"#DIV/0!"},{"$error":"#DIV/0!"},{"$error":"#DIV/0!"},{"$error":"#DIV/0!"},{"$error":"#DIV/0!"}]
[null,null,null,null,0,0,0,{"$error":"#DIV/0!"},{"$error":"#DIV/0!"},{"$error":"#DIV/0!"},{"$error":"#DIV/0!"},{"$error":"#DIV/0!"},{"$error":"#DIV/0!"}]
[null,null,null,null,0,0,0,{"$error":"#DIV/0!"},{"$error":"#DIV/0!"},{"$error":"#DIV/0!"},{"$error":"#DIV/0!"},{"$error":"#DIV/0!"},{"$error":"#DIV/0!"}]
[null,null,null,null,0,0,0,{"$error":"#DIV/0!"},{"$error":"#DIV/0!"},{"$error":"#DIV/0!"},{"$error":"#DIV/0!"},{"$error":"#DIV/0!"},{"$error":"#DIV/0!"}]
[null,null,null,null,0,0,0,{"$error":"#DIV/0!"},{"$error":"#DIV/0!"},{"$error":"#DIV/0!"},{"$error":"#DIV/0!"},{"$error":"#DIV/0!"},{"$error":"#DIV/0!"}]
[null,null,null,null,0,0,0,{"$error":"#DIV/0!"},{"$error":"#DIV/0!"},{"$error":"#DIV/0!"},{"$error":"#DIV/0!"},{"$error":"#DIV/0!"},{"$error":"#DIV/0!"}]
[null,null,null,null,0,0,0,{"$error":"#DIV/0!"},{"$error":"#DIV/0!"},{"$error":"#DIV/0!"},{"$error":"#DIV/0!"},{"$error":"#DIV/0!"},{"$error":"#DIV/0!"}]
[null,null,null,null,0,0,0,{"$error":"#DIV/0!"},{"$error":"#DIV/0!"},{"$error":"#DIV/0!"},{"$error":"#DIV/0!"},{"$error":"#DIV/0!"},{"$error":"#DIV/0!"}]
[null,null,null,null,0,0,0,{"$error":"#DIV/0!"},{"$error":"#DIV/0!"},{"$error":"#DIV/0!"},{"$error":"#DIV/0!"},{"$error":"#DIV/0!"},{"$error":"#DIV/0!"}]
[null,null,null,null,0,0,0,{"$error":"#DIV/0!"},{"$error":"#DIV/0!"},{"$error":"#DIV/0!"},{"$error":"#DIV/0!"},{"$error":"#DIV/0!"},{"$error":"#DIV/0!"}]
[null,null,null,null,0,0,0,{"$error":"#DIV/0!"},{"$error":"#DIV/0!"},{"$error":"#DIV/0!"},{"$error":"#DIV/0!"},{"$error":"#DIV/0!"},{"$error":"#DIV/0!"}]
[null,null,null,null,0,0,0,{"$error":"#DIV/0!"},{"$error":"#DIV/0!"},{"$error":"#DIV/0!"},{"$error":"#DIV/0!"},{"$error":"#DIV/0!"},{"$error":"#DIV/0!"}]
[null,null,null,null,0,0,0,{"$error":"#DIV/0!"},{"$error":"#DIV/0!"},{"$error":"#DIV/0!"},{"$error":"#DIV/0!"},{"$error":"#DIV/0!"},{"$error":"#DIV/0!"}]
[null,null,null,null,0,0,0,{"$error":"#DIV/0!"},{"$error":"#DIV/0!"},{"$error":"#DIV/0!"},{"$error":"#DIV/0!"},{"$error":"#DIV/0!"},{"$error":"#DIV/0!"}]
[null,null,null,null,0,0,0,{"$error":"#DIV/0!"},{"$error":"#DIV/0!"},{"$error":"#DIV/0!"},{"$error":"#DIV/0!"},{"$error":"#DIV/0!"},{"$error":"#DIV/0!"}]
[null,null,null,null,0,0,0,{"$error":"#DIV/0!"},{"$error":"#DIV/0!"},{"$error":"#DIV/0!"},{"$error":"#DIV/0!"},{"$error":"#DIV/0!"},{"$error":"#DIV/0!"}]
[null,null,null,null,0,0,0,{"$error":"#DIV/0!"},{"$error":"#DIV/0!"},{"$error":"#DIV/0!"},{"$error":"#DIV/0!"},{"$error":"#DIV/0!"},{"$error":"#DIV/0!"}]
[null,null,null,null,0,0,0,{"$error":"#DIV/0!"},{"$error":"#DIV/0!"},{"$error":"#DIV/0!"},{"$error":"#DIV/0!"},{"$error":"#DIV/0!"},{"$error":"#DIV/0!"}]
[null,null,null,null,0,0,0,{"$error":"#DIV/0!"},{"$error":"#DIV/0!"},{"$error":"#DIV/0!"},{"$error":"#DIV/0!"},{"$error":"#DIV/0!"},{"$error":"#DIV/0!"}]
[null,null,null,null,0,0,0,{"$error":"#DIV/0!"},{"$error":"#DIV/0!"},{"$error":"#DIV/0!"},{"$error":"#DIV/0!"},{"$error":"#DIV/0!"},{"$error":"#DIV/0!"}]
[null,null,null,null,0,0,0,{"$error":"#DIV/0!"},{"$error":"#DIV/0!"},{"$error":"#DIV/0!"},{"$error":"#DIV/0!"},{"$error":"#DIV/0!"},{"$error":"#DIV/0!"}]
[null,null,null,null,0,0,0,{"$error":"#DIV/0!"},{"$error":"#DIV/0!"},{"$error":"#DIV/0!"},{"$error":"#DIV/0!"},{"$error":"#DIV/0!"},{"$error":"#DIV/0!"}]
[null,null,null,null,0,0,0,{"$error":"#DIV/0!"},{"$error":"#DIV/0!"},{"$error":"#DIV/0!"},{"$error":"#DIV/0!"},{"$error":"#DIV/0!"},{"$error":"#DIV/0!"}]
[null,null,null,null,0,0,0,{"$error":"#DIV/0!"},{"$error":"#DIV/0!"},{"$error":"#DIV/0!"},{"$error":"#DIV/0!"},{"$error":"#DIV/0!"},{"$error":"#DIV/0!"}]
[null,null,null,null,0,0,0,{"$error":"#DIV/0!"},{"$error":"#DIV/0!"},{"$error":"#DIV/0!"},{"$error":"#DIV/0!"},{"$error":"#DIV/0!"},{"$error":"#DIV/0!"}]
[null,null,null,null,0,0,0,{"$error":"#DIV/0!"},{"$error":"#DIV/0!"},{"$error":"#DIV/0!"},{"$error":"#DIV/0!"},{"$error":"#DIV/0!"},{"$error":"#DIV/0!"}]
[null,null,null,null,0,0,0,{"$error":"#DIV/0!"},{"$error":"#DIV/0!"},{"$error":"#DIV/0!"},{"$error":"#DIV/0!"},{"$error":"#DIV/0!"},{"$error":"#DIV/0!"}]
[null,null,null,null,0,0,0,{"$error":"#DIV/0!"},{"$error":"#DIV/0!"},{"$error":"#DIV/0!"},{"$error":"#DIV/0!"},{"$error":"#DIV/0!"},{"$error":"#DIV/0!"}]
[null,null,null,null,0,0,0,{"$error":"#DIV/0!"},{"$error":"#DIV/0!"},{"$error":"#DIV/0!"},{"$error":"#DIV/0!"},{"$error":"#DIV/0!"},{"$error":"#DIV/0!"}]
[null,null,null,null,0,0,0,{"$error":"#DIV/0!"},{"$error":"#DIV/0!"},{"$error":"#DIV/0!"},{"$error":"#DIV/0!"},{"$error":"#DIV/0!"},{"$error":"#DIV/0!"}]
[null,null,null,null,0,0,0,{"$error":"#DIV/0!"},{"$error":"#DIV/0!"},{"$error":"#DIV/0!"},{"$error":"#DIV/0!"},{"$error":"#DIV/0!"},{"$error":"#DIV/0!"}]
[null,null,null,null,0,0,0,{"$error":"#DIV/0!"},{"$error":"#DIV/0!"},{"$error":"#DIV/0!"},{"$error":"#DIV/0!"},{"$error":"#DIV/0!"},{"$error":"#DIV/0!"}]
[null,null,null,null,0,0,0,{"$error":"#DIV/0!"},{"$error":"#DIV/0!"},{"$error":"#DIV/0!"},{"$error":"#DIV/0!"},{"$error":"#DIV/0!"},{"$error":"#DIV/0!"}]
[null,null,null,null,0,0,0,{"$error":"#DIV/0!"},{"$error":"#DIV/0!"},{"$error":"#DIV/0!"},{"$error":"#DIV/0!"},{"$error":"#DIV/0!"},{"$error":"#DIV/0!"}]
[null,null,null,null,0,0,0,{"$error":"#DIV/0!"},{"$error":"#DIV/0!"},{"$error":"#DIV/0!"},{"$error":"#DIV/0!"},{"$error":"#DIV/0!"},{"$error":"#DIV/0!"}]
[null,null,null,null,0,0,0,{"$error":"#DIV/0!"},{"$error":"#DIV/0!"},{"$error":"#DIV/0!"},{"$error":"#DIV/0!"},{"$error":"#DIV/0!"},{"$error":"#DIV/0!"}]
[null,null,null,null,0,0,0,{"$error":"#DIV/0!"},{"$error":"#DIV/0!"},{"$error":"#DIV/0!"},{"$error":"#DIV/0!"},{"$error":"#DIV/0!"},{"$error":"#DIV/0!"}]
[null,null,null,null,0,0,0,{"$error":"#DIV/0!"},{"$error":"#DIV/0!"},{"$error":"#DIV/0!"},{"$error":"#DIV/0!"},{"$error":"#DIV/0!"},{"$error":"#DIV/0!"}]
[null,null,null,null,0,0,0,{"$error":"#DIV/0!"},{"$error":"#DIV/0!"},{"$error":"#DIV/0!"},{"$error":"#DIV/0!"},{"$error":"#DIV/0!"},{"$error":"#DIV/0!"}]
[null,null,null,null,0,0,0,{"$error":"#DIV/0!"},{"$error":"#DIV/0!"},{"$error":"#DIV/0!"},{"$error":"#DIV/0!"},{"$error":"#DIV/0!"},{"$error":"#DIV/0!"}]
[null,null,null,null,0,0,0,{"$error":"#DIV/0!"},{"$error":"#DIV/0!"},{"$error":"#DIV/0!"},{"$error":"#DIV/0!"},{"$error":"#DIV/0!"},{"$error":"#DIV/0!"}]
[null,null,null,null,0,0,0,{"$error":"#DIV/0!"},{"$error":"#DIV/0!"},{"$error":"#DIV/0!"},{"$error":"#DIV/0!"},{"$error":"#DIV/0!"},{"$error":"#DIV/0!"}]
[null,null,null,null,0,0,0,{"$error":"#DIV/0!"},{"$error":"#DIV/0!"},{"$error":"#DIV/0!"},{"$error":"#DIV/0!"},{"$error":"#DIV/0!"},{"$error":"#DIV/0!"}]
[null,null,null,null,0,0,0,{"$error":"#DIV/0!"},{"$error":"#DIV/0!"},{"$error":"#DIV/0!"},{"$error":"#DIV/0!"},{"$error":"#DIV/0!"},{"$error":"#DIV/0!"}]
[null,null,null,null,0,0,0,{"$error":"#DIV/0!"},{"$error":"#DIV/0!"},{"$error":"#DIV/0!"},{"$error":"#DIV/0!"},{"$error":"#DIV/0!"},{"$error":"#DIV/0!"}]
[null,null,null,null,0,0,0,{"$error":"#DIV/0!"},{"$error":"#DIV/0!"},{"$error":"#DIV/0!"},{"$error":"#DIV/0!"},{"$error":"#DIV/0!"},{"$error":"#DIV/0!"}]
[null,null,null,null,0,0,0,{"$error":"#DIV/0!"},{"$error":"#DIV/0!"},{"$error":"#DIV/0!"},{"$error":"#DIV/0!"},{"$error":"#DIV/0!"},{"$error":"#DIV/0!"}]
[null,null,null,null,0,0,0,{"$error":"#DIV/0!"},{"$error":"#DIV/0!"},{"$error":"#DIV/0!"},{"$error":"#DIV/0!"},{"$error":"#DIV/0!"},{"$error":"#DIV/0!"}]
[null,null,null,null,{"$f":"C194+D194","v":0},{"$f":"C194*D194","v":0},{"$f":"B194*E194","v":0},{"$f":"G194/F194","v":{"$error":"#DIV/0!"}},{"$f":"SQRT(H194)","v":{"$error":"#DIV/0!"}},{"$f":"I194^2","v":{"$error":"#DIV/0!"}},{"$f":"SQRT(((E194/F194)+(J194/(2*E194))))","v":{"$error":"#DIV/0!"}},{"$f":"I194-(1.96*K194)","v":{"$error":"#DIV/0!"}},{"$f":"I194+(1.96*K194)","v":{"$error":"#DIV/0!"}}]
[null,null,null,null,0,0,0,{"$error":"#DIV/0!"},{"$error":"#DIV/0!"},{"$error":"#DIV/0!"},{"$error":"#DIV/0!"},{"$error":"#DIV/0!"},{"$error":"#DIV/0!"}]
[null,null,null,null,0,0,0,{"$error":"#DIV/0!"},{"$error":"#DIV/0!"},{"$error":"#DIV/0!"},{"$error":"#DIV/0!"},{"$error":"#DIV/0!"},{"$error":"#DIV/0!"}]
[null,null,null,null,0,0,0,{"$error":"#DIV/0!"},{"$error":"#DIV/0!"},{"$error":"#DIV/0!"},{"$error":"#DIV/0!"},{"$error":"#DIV/0!"},{"$error":"#DIV/0!"}]
[null,null,null,null,0,0,0,{"$error":"#DIV/0!"},{"$error":"#DIV/0!"},{"$error":"#DIV/0!"},{"$error":"#DIV/0!"},{"$error":"#DIV/0!"},{"$error":"#DIV/0!"}]
[null,null,null,null,0,0,0,{"$error":"#DIV/0!"},{"$error":"#DIV/0!"},{"$error":"#DIV/0!"},{"$error":"#DIV/0!"},{"$error":"#DIV/0!"},{"$error":"#DIV/0!"}]
[null,null,null,null,0,0,0,{"$error":"#DIV/0!"},{"$error":"#DIV/0!"},{"$error":"#DIV/0!"},{"$error":"#DIV/0!"},{"$error":"#DIV/0!"},{"$error":"#DIV/0!"}]
[null,null,null,null,0,0,0,{"$error":"#DIV/0!"},{"$error":"#DIV/0!"},{"$error":"#DIV/0!"},{"$error":"#DIV/0!"},{"$error":"#DIV/0!"},{"$error":"#DIV/0!"}]
[null,null,null,null,0,0,0,{"$error":"#DIV/0!"},{"$error":"#DIV/0!"},{"$error":"#DIV/0!"},{"$error":"#DIV/0!"},{"$error":"#DIV/0!"},{"$error":"#DIV/0!"}]
[null,null,null,null,0,0,0,{"$error":"#DIV/0!"},{"$error":"#DIV/0!"},{"$error":"#DIV/0!"},{"$error":"#DIV/0!"},{"$error":"#DIV/0!"},{"$error":"#DIV/0!"}]
[null,null,null,null,0,0,0,{"$error":"#DIV/0!"},{"$error":"#DIV/0!"},{"$error":"#DIV/0!"},{"$error":"#DIV/0!"},{"$error":"#DIV/0!"},{"$error":"#DIV/0!"}]
[null,null,null,null,0,0,0,{"$error":"#DIV/0!"},{"$error":"#DIV/0!"},{"$error":"#DIV/0!"},{"$error":"#DIV/0!"},{"$error":"#DIV/0!"},{"$error":"#DIV/0!"}]
[null,null,null,null,0,0,0,{"$error":"#DIV/0!"},{"$error":"#DIV/0!"},{"$error":"#DIV/0!"},{"$error":"#DIV/0!"},{"$error":"#DIV/0!"},{"$error":"#DIV/0!"}]
[null,null,null,null,0,0,0,{"$error":"#DIV/0!"},{"$error":"#DIV/0!"},{"$error":"#DIV/0!"},{"$error":"#DIV/0!"},{"$error":"#DIV/0!"},{"$error":"#DIV/0!"}]
[null,null,null,null,0,0,0,{"$error":"#DIV/0!"},{"$error":"#DIV/0!"},{"$error":"#DIV/0!"},{"$error":"#DIV/0!"},{"$error":"#DIV/0!"},{"$error":"#DIV/0!"}]
[null,null,null,null,0,0,0,{"$error":"#DIV/0!"},{"$error":"#DIV/0!"},{"$error":"#DIV/0!"},{"$error":"#DIV/0!"},{"$error":"#DIV/0!"},{"$error":"#DIV/0!"}]
[null,null,null,null,0,0,0,{"$error":"#DIV/0!"},{"$error":"#DIV/0!"},{"$error":"#DIV/0!"},{"$error":"#DIV/0!"},{"$error":"#DIV/0!"},{"$error":"#DIV/0!"}]
[null,null,null,null,0,0,0,{"$error":"#DIV/0!"},{"$error":"#DIV/0!"},{"$error":"#DIV/0!"},{"$error":"#DIV/0!"},{"$error":"#DIV/0!"},{"$error":"#DIV/0!"}]
[null,null,null,null,0,0,0,{"$error":"#DIV/0!"},{"$error":"#DIV/0!"},{"$error":"#DIV/0!"},{"$error":"#DIV/0!"},{"$error":"#DIV/0!"},{"$error":"#DIV/0!"}]
[null,null,null,null,0,0,0,{"$error":"#DIV/0!"},{"$error":"#DIV/0!"},{"$error":"#DIV/0!"},{"$error":"#DIV/0!"},{"$error":"#DIV/0!"},{"$error":"#DIV/0!"}]
[null,null,null,null,0,0,0,{"$error":"#DIV/0!"},{"$error":"#DIV/0!"},{"$error":"#DIV/0!"},{"$error":"#DIV/0!"},{"$error":"#DIV/0!"},{"$error":"#DIV/0!"}]
[null,null,null,null,0,0,0,{"$error":"#DIV/0!"},{"$error":"#DIV/0!"},{"$error":"#DIV/0!"},{"$error":"#DIV/0!"},{"$error":"#DIV/0!"},{"$error":"#DIV/0!"}]
[null,null,null,null,0,0,0,{"$error":"#DIV/0!"},{"$error":"#DIV/0!"},{"$error":"#DIV/0!"},{"$error":"#DIV/0!"},{"$error":"#DIV/0!"},{"$error":"#DIV/0!"}]
[null,null,null,null,0,0,0,{"$error":"#DIV/0!"},{"$error":"#DIV/0!"},{"$error":"#DIV/0!"},{"$error":"#DIV/0!"},{"$error":"#DIV/0!"},{"$error":"#DIV/0!"}]
[null,null,null,null,0,0,0,{"$error":"#DIV/0!"},{"$error":"#DIV/0!"},{"$error":"#DIV/0!"},{"$error":"#DIV/0!"},{"$error":"#DIV/0!"},{"$error":"#DIV/0!"}]
[null,null,null,null,0,0,0,{"$error":"#DIV/0!"},{"$error":"#DIV/0!"},{"$error":"#DIV/0!"},{"$error":"#DIV/0!"},{"$error":"#DIV/0!"},{"$error":"#DIV/0!"}]
[null,null,null,null,0,0,0,{"$error":"#DIV/0!"},{"$error":"#DIV/0!"},{"$error":"#DIV/0!"},{"$error":"#DIV/0!"},{"$error":"#DIV/0!"},{"$error":"#DIV/0!"}]
[null,null,null,null,0,0,0,{"$error":"#DIV/0!"},{"$error":"#DIV/0!"},{"$error":"#DIV/0!"},{"$error":"#DIV/0!"},{"$error":"#DIV/0!"},{"$error":"#DIV/0!"}]
[null,null,null,null,0,0,0,{"$error":"#DIV/0!"},{"$error":"#DIV/0!"},{"$error":"#DIV/0!"},{"$error":"#DIV/0!"},{"$error":"#DIV/0!"},{"$error":"#DIV/0!"}]
[null,null,null,null,0,0,0,{"$error":"#DIV/0!"},{"$error":"#DIV/0!"},{"$error":"#DIV/0!"},{"$error":"#DIV/0!"},{"$error":"#DIV/0!"},{"$error":"#DIV/0!"}]
[null,null,null,null,0,0,0,{"$error":"#DIV/0!"},{"$error":"#DIV/0!"},{"$error":"#DIV/0!"},{"$error":"#DIV/0!"},{"$error":"#DIV/0!"},{"$error":"#DIV/0!"}]
[null,null,null,null,0,0,0,{"$error":"#DIV/0!"},{"$error":"#DIV/0!"},{"$error":"#DIV/0!"},{"$error":"#DIV/0!"},{"$error":"#DIV/0!"},{"$error":"#DIV/0!"}]
[null,null,null,null,0,0,0,{"$error":"#DIV/0!"},{"$error":"#DIV/0!"},{"$error":"#DIV/0!"},{"$error":"#DIV/0!"},{"$error":"#DIV/0!"},{"$error":"#DIV/0!"}]
[null,null,null,null,0,0,0,{"$error":"#DIV/0!"},{"$error":"#DIV/0!"},{"$error":"#DIV/0!"},{"$error":"#DIV/0!"},{"$error":"#DIV/0!"},{"$error":"#DIV/0!"}]
[null,null,null,null,0,0,0,{"$error":"#DIV/0!"},{"$error":"#DIV/0!"},{"$error":"#DIV/0!"},{"$error":"#DIV/0!"},{"$error":"#DIV/0!"},{"$error":"#DIV/0!"}]
[null,null,null,null,0,0,0,{"$error":"#DIV/0!"},{"$error":"#DIV/0!"},{"$error":"#DIV/0!"},{"$error":"#DIV/0!"},{"$error":"#DIV/0!"},{"$error":"#DIV/0!"}]
[null,null,null,null,0,0,0,{"$error":"#DIV/0!"},{"$error":"#DIV/0!"},{"$error":"#DIV/0!"},{"$error":"#DIV/0!"},{"$error":"#DIV/0!"},{"$error":"#DIV/0!"}]
[null,null,null,null,0,0,0,{"$error":"#DIV/0!"},{"$error":"#DIV/0!"},{"$error":"#DIV/0!"},{"$error":"#DIV/0!"},{"$error":"#DIV/0!"},{"$error":"#DIV/0!"}]
[null,null,null,null,0,0,0,{"$error":"#DIV/0!"},{"$error":"#DIV/0!"},{"$error":"#DIV/0!"},{"$error":"#DIV/0!"},{"$error":"#DIV/0!"},{"$error":"#DIV/0!"}]
[null,null,null,null,0,0,0,{"$error":"#DIV/0!"},{"$error":"#DIV/0!"},{"$error":"#DIV/0!"},{"$error":"#DIV/0!"},{"$error":"#DIV/0!"},{"$error":"#DIV/0!"}]
[null,null,null,null,0,0,0,{"$error":"#DIV/0!"},{"$error":"#DIV/0!"},{"$error":"#DIV/0!"},{"$error":"#DIV/0!"},{"$error":"#DIV/0!"},{"$error":"#DIV/0!"}]
[null,null,null,null,0,0,0,{"$error":"#DIV/0!"},{"$error":"#DIV/0!"},{"$error":"#DIV/0!"},{"$error":"#DIV/0!"},{"$error":"#DIV/0!"},{"$error":"#DIV/0!"}]
[null,null,null,null,0,0,0,{"$error":"#DIV/0!"},{"$error":"#DIV/0!"},{"$error":"#DIV/0!"},{"$error":"#DIV/0!"},{"$error":"#DIV/0!"},{"$error":"#DIV/0!"}]
[null,null,null,null,0,0,0,{"$error":"#DIV/0!"},{"$error":"#DIV/0!"},{"$error":"#DIV/0!"},{"$error":"#DIV/0!"},{"$error":"#DIV/0!"},{"$error":"#DIV/0!"}]
[null,null,null,null,0,0,0,{"$error":"#DIV/0!"},{"$error":"#DIV/0!"},{"$error":"#DIV/0!"},{"$error":"#DIV/0!"},{"$error":"#DIV/0!"},{"$error":"#DIV/0!"}]
[null,null,null,null,0,0,0,{"$error":"#DIV/0!"},{"$error":"#DIV/0!"},{"$error":"#DIV/0!"},{"$error":"#DIV/0!"},{"$error":"#DIV/0!"},{"$error":"#DIV/0!"}]
[null,null,null,null,0,0,0,{"$error":"#DIV/0!"},{"$error":"#DIV/0!"},{"$error":"#DIV/0!"},{"$error":"#DIV/0!"},{"$error":"#DIV/0!"},{"$error":"#DIV/0!"}]
[null,null,null,null,0,0,0,{"$error":"#DIV/0!"},{"$error":"#DIV/0!"},{"$error":"#DIV/0!"},{"$error":"#DIV/0!"},{"$error":"#DIV/0!"},{"$error":"#DIV/0!"}]
[null,null,null,null,0,0,0,{"$error":"#DIV/0!"},{"$error":"#DIV/0!"},{"$error":"#DIV/0!"},{"$error":"#DIV/0!"},{"$error":"#DIV/0!"},{"$error":"#DIV/0!"}]
[null,null,null,null,0,0,0,{"$error":"#DIV/0!"},{"$error":"#DIV/0!"},{"$error":"#DIV/0!"},{"$error":"#DIV/0!"},{"$error":"#DIV/0!"},{"$error":"#DIV/0!"}]
[null,null,null,null,0,0,0,{"$error":"#DIV/0!"},{"$error":"#DIV/0!"},{"$error":"#DIV/0!"},{"$error":"#DIV/0!"},{"$error":"#DIV/0!"},{"$error":"#DIV/0!"}]
[null,null,null,null,0,0,0,{"$error":"#DIV/0!"},{"$error":"#DIV/0!"},{"$error":"#DIV/0!"},{"$error":"#DIV/0!"},{"$error":"#DIV/0!"},{"$error":"#DIV/0!"}]
[null,null,null,null,0,0,0,{"$error":"#DIV/0!"},{"$error":"#DIV/0!"},{"$error":"#DIV/0!"},{"$error":"#DIV/0!"},{"$error":"#DIV/0!"},{"$error":"#DIV/0!"}]
[null,null,null,null,0,0,0,{"$error":"#DIV/0!"},{"$error":"#DIV/0!"},{"$error":"#DIV/0!"},{"$error":"#DIV/0!"},{"$error":"#DIV/0!"},{"$error":"#DIV/0!"}]
[null,null,null,null,0,0,0,{"$error":"#DIV/0!"},{"$error":"#DIV/0!"},{"$error":"#DIV/0!"},{"$error":"#DIV/0!"},{"$error":"#DIV/0!"},{"$error":"#DIV/0!"}]
[null,null,null,null,0,0,0,{"$error":"#DIV/0!"},{"$error":"#DIV/0!"},{"$error":"#DIV/0!"},{"$error":"#DIV/0!"},{"$error":"#DIV/0!"},{"$error":"#DIV/0!"}]
[null,null,null,null,0,0,0,{"$error":"#DIV/0!"},{"$error":"#DIV/0!"},{"$error":"#DIV/0!"},{"$error":"#DIV/0!"},{"$error":"#DIV/0!"},{"$error":"#DIV/0!"}]
[null,null,null,null,0,0,0,{"$error":"#DIV/0!"},{"$error":"#DIV/0!"},{"$error":"#DIV/0!"},{"$error":"#DIV/0!"},{"$error":"#DIV/0!"},{"$error":"#DIV/0!"}]
[null,null,null,null,0,0,0,{"$error":"#DIV/0!"},{"$error":"#DIV/0!"},{"$error":"#DIV/0!"},{"$error":"#DIV/0!"},{"$error":"#DIV/0!"},{"$error":"#DIV/0!"}]
[null,null,null,null,0,0,0,{"$error":"#DIV/0!"},{"$error":"#DIV/0!"},{"$error":"#DIV/0!"},{"$error":"#DIV/0!"},{"$error":"#DIV/0!"},{"$error":"#DIV/0!"}]
[null,null,null,null,0,0,0,{"$error":"#DIV/0!"},{"$error":"#DIV/0!"},{"$error":"#DIV/0!"},{"$error":"#DIV/0!"},{"$error":"#DIV/0!"},{"$error":"#DIV/0!"}]
[null,null,null,null,0,0,0,{"$error":"#DIV/0!"},{"$error":"#DIV/0!"},{"$error":"#DIV/0!"},{"$error":"#DIV/0!"},{"$error":"#DIV/0!"},{"$error":"#DIV/0!"}]
[null,null,null,null,0,0,0,{"$error":"#DIV/0!"},{"$error":"#DIV/0!"},{"$error":"#DIV/0!"},{"$error":"#DIV/0!"},{"$error":"#DIV/0!"},{"$error":"#DIV/0!"}]
[null,null,null,null,0,0,0,{"$error":"#DIV/0!"},{"$error":"#DIV/0!"},{"$error":"#DIV/0!"},{"$error":"#DIV/0!"},{"$error":"#DIV/0!"},{"$error":"#DIV/0!"}]
[null,null,null,null,{"$f":"C258+D258","v":0},{"$f":"C258*D258","v":0},{"$f":"B258*E258","v":0},{"$f":"G258/F258","v":{"$error":"#DIV/0!"}},{"$f":"SQRT(H258)","v":{"$error":"#DIV/0!"}},{"$f":"I258^2","v":{"$error":"#DIV/0!"}},{"$f":"SQRT(((E258/F258)+(J258/(2*E258))))","v":{"$error":"#DIV/0!"}},{"$f":"I258-(1.96*K258)","v":{"$error":"#DIV/0!"}},{"$f":"I258+(1.96*K258)","v":{"$error":"#DIV/0!"}}]
[null,null,null,null,0,0,0,{"$error":"#DIV/0!"},{"$error":"#DIV/0!"},{"$error":"#DIV/0!"},{"$error":"#DIV/0!"},{"$error":"#DIV/0!"},{"$error":"#DIV/0!"}]
[null,null,null,null,0,0,0,{"$error":"#DIV/0!"},{"$error":"#DIV/0!"},{"$error":"#DIV/0!"},{"$error":"#DIV/0!"},{"$error":"#DIV/0!"},{"$error":"#DIV/0!"}]
[null,null,null,null,0,0,0,{"$error":"#DIV/0!"},{"$error":"#DIV/0!"},{"$error":"#DIV/0!"},{"$error":"#DIV/0!"},{"$error":"#DIV/0!"},{"$error":"#DIV/0!"}]
[null,null,null,null,0,0,0,{"$error":"#DIV/0!"},{"$error":"#DIV/0!"},{"$error":"#DIV/0!"},{"$error":"#DIV/0!"},{"$error":"#DIV/0!"},{"$error":"#DIV/0!"}]
[null,null,null,null,0,0,0,{"$error":"#DIV/0!"},{"$error":"#DIV/0!"},{"$error":"#DIV/0!"},{"$error":"#DIV/0!"},{"$error":"#DIV/0!"},{"$error":"#DIV/0!"}]
[null,null,null,null,0,0,0,{"$error":"#DIV/0!"},{"$error":"#DIV/0!"},{"$error":"#DIV/0!"},{"$error":"#DIV/0!"},{"$error":"#DIV/0!"},{"$error":"#DIV/0!"}]
[null,null,null,null,0,0,0,{"$error":"#DIV/0!"},{"$error":"#DIV/0!"},{"$error":"#DIV/0!"},{"$error":"#DIV/0!"},{"$error":"#DIV/0!"},{"$error":"#DIV/0!"}]
[null,null,null,null,0,0,0,{"$error":"#DIV/0!"},{"$error":"#DIV/0!"},{"$error":"#DIV/0!"},{"$error":"#DIV/0!"},{"$error":"#DIV/0!"},{"$error":"#DIV/0!"}]
[null,null,null,null,0,0,0,{"$error":"#DIV/0!"},{"$error":"#DIV/0!"},{"$error":"#DIV/0!"},{"$error":"#DIV/0!"},{"$error":"#DIV/0!"},{"$error":"#DIV/0!"}]
[null,null,null,null,0,0,0,{"$error":"#DIV/0!"},{"$error":"#DIV/0!"},{"$error":"#DIV/0!"},{"$error":"#DIV/0!"},{"$error":"#DIV/0!"},{"$error":"#DIV/0!"}]
[null,null,null,null,0,0,0,{"$error":"#DIV/0!"},{"$error":"#DIV/0!"},{"$error":"#DIV/0!"},{"$error":"#DIV/0!"},{"$error":"#DIV/0!"},{"$error":"#DIV/0!"}]
[null,null,null,null,0,0,0,{"$error":"#DIV/0!"},{"$error":"#DIV/0!"},{"$error":"#DIV/0!"},{"$error":"#DIV/0!"},{"$error":"#DIV/0!"},{"$error":"#DIV/0!"}]
[null,null,null,null,0,0,0,{"$error":"#DIV/0!"},{"$error":"#DIV/0!"},{"$error":"#DIV/0!"},{"$error":"#DIV/0!"},{"$error":"#DIV/0!"},{"$error":"#DIV/0!"}]
[null,null,null,null,0,0,0,{"$error":"#DIV/0!"},{"$error":"#DIV/0!"},{"$error":"#DIV/0!"},{"$error":"#DIV/0!"},{"$error":"#DIV/0!"},{"$error":"#DIV/0!"}]
[null,null,null,null,0,0,0,{"$error":"#DIV/0!"},{"$error":"#DIV/0!"},{"$error":"#DIV/0!"},{"$error":"#DIV/0!"},{"$error":"#DIV/0!"},{"$error":"#DIV/0!"}]
[null,null,null,null,0,0,0,{"$error":"#DIV/0!"},{"$error":"#DIV/0!"},{"$error":"#DIV/0!"},{"$error":"#DIV/0!"},{"$error":"#DIV/0!"},{"$error":"#DIV/0!"}]
[null,null,null,null,0,0,0,{"$error":"#DIV/0!"},{"$error":"#DIV/0!"},{"$error":"#DIV/0!"},{"$error":"#DIV/0!"},{"$error":"#DIV/0!"},{"$error":"#DIV/0!"}]
[null,null,null,null,0,0,0,{"$error":"#DIV/0!"},{"$error":"#DIV/0!"},{"$error":"#DIV/0!"},{"$error":"#DIV/0!"},{"$error":"#DIV/0!"},{"$error":"#DIV/0!"}]
[null,null,null,null,0,0,0,{"$error":"#DIV/0!"},{"$error":"#DIV/0!"},{"$error":"#DIV/0!"},{"$error":"#DIV/0!"},{"$error":"#DIV/0!"},{"$error":"#DIV/0!"}]
[null,null,null,null,0,0,0,{"$error":"#DIV/0!"},{"$error":"#DIV/0!"},{"$error":"#DIV/0!"},{"$error":"#DIV/0!"},{"$error":"#DIV/0!"},{"$error":"#DIV/0!"}]
[null,null,null,null,0,0,0,{"$error":"#DIV/0!"},{"$error":"#DIV/0!"},{"$error":"#DIV/0!"},{"$error":"#DIV/0!"},{"$error":"#DIV/0!"},{"$error":"#DIV/0!"}]
[null,null,null,null,0,0,0,{"$error":"#DIV/0!"},{"$error":"#DIV/0!"},{"$error":"#DIV/0!"},{"$error":"#DIV/0!"},{"$error":"#DIV/0!"},{"$error":"#DIV/0!"}]
[null,null,null,null,0,0,0,{"$error":"#DIV/0!"},{"$error":"#DIV/0!"},{"$error":"#DIV/0!"},{"$error":"#DIV/0!"},{"$error":"#DIV/0!"},{"$error":"#DIV/0!"}]
[null,null,null,null,0,0,0,{"$error":"#DIV/0!"},{"$error":"#DIV/0!"},{"$error":"#DIV/0!"},{"$error":"#DIV/0!"},{"$error":"#DIV/0!"},{"$error":"#DIV/0!"}]
[null,null,null,null,0,0,0,{"$error":"#DIV/0!"},{"$error":"#DIV/0!"},{"$error":"#DIV/0!"},{"$error":"#DIV/0!"},{"$error":"#DIV/0!"},{"$error":"#DIV/0!"}]
[null,null,null,null,0,0,0,{"$error":"#DIV/0!"},{"$error":"#DIV/0!"},{"$error":"#DIV/0!"},{"$error":"#DIV/0!"},{"$error":"#DIV/0!"},{"$error":"#DIV/0!"}]
[null,null,null,null,0,0,0,{"$error":"#DIV/0!"},{"$error":"#DIV/0!"},{"$error":"#DIV/0!"},{"$error":"#DIV/0!"},{"$error":"#DIV/0!"},{"$error":"#DIV/0!"}]
[null,null,null,null,0,0,0,{"$error":"#DIV/0!"},{"$error":"#DIV/0!"},{"$error":"#DIV/0!"},{"$error":"#DIV/0!"},{"$error":"#DIV/0!"},{"$error":"#DIV/0!"}]
[null,null,null,null,0,0,0,{"$error":"#DIV/0!"},{"$error":"#DIV/0!"},{"$error":"#DIV/0!"},{"$error":"#DIV/0!"},{"$error":"#DIV/0!"},{"$error":"#DIV/0!"}]
[null,null,null,null,0,0,0,{"$error":"#DIV/0!"},{"$error":"#DIV/0!"},{"$error":"#DIV/0!"},{"$error":"#DIV/0!"},{"$error":"#DIV/0!"},{"$error":"#DIV/0!"}]
[null,null,null,null,0,0,0,{"$error":"#DIV/0!"},{"$error":"#DIV/0!"},{"$error":"#DIV/0!"},{"$error":"#DIV/0!"},{"$error":"#DIV/0!"},{"$error":"#DIV/0!"}]
[null,null,null,null,0,0,0,{"$error":"#DIV/0!"},{"$error":"#DIV/0!"},{"$error":"#DIV/0!"},{"$error":"#DIV/0!"},{"$error":"#DIV/0!"},{"$error":"#DIV/0!"}]
[null,null,null,null,0,0,0,{"$error":"#DIV/0!"},{"$error":"#DIV/0!"},{"$error":"#DIV/0!"},{"$error":"#DIV/0!"},{"$error":"#DIV/0!"},{"$error":"#DIV/0!"}]
[null,null,null,null,0,0,0,{"$error":"#DIV/0!"},{"$error":"#DIV/0!"},{"$error":"#DIV/0!"},{"$error":"#DIV/0!"},{"$error":"#DIV/0!"},{"$error":"#DIV/0!"}]
[null,null,null,null,0,0,0,{"$error":"#DIV/0!"},{"$error":"#DIV/0!"},{"$error":"#DIV/0!"},{"$error":"#DIV/0!"},{"$error":"#DIV/0!"},{"$error":"#DIV/0!"}]
[null,null,null,null,0,0,0,{"$error":"#DIV/0!"},{"$error":"#DIV/0!"},{"$error":"#DIV/0!"},{"$error":"#DIV/0!"},{"$error":"#DIV/0!"},{"$error":"#DIV/0!"}]
[null,null,null,null,0,0,0,{"$error":"#DIV/0!"},{"$error":"#DIV/0!"},{"$error":"#DIV/0!"},{"$error":"#DIV/0!"},{"$error":"#DIV/0!"},{"$error":"#DIV/0!"}]
[null,null,null,null,0,0,0,{"$error":"#DIV/0!"},{"$error":"#DIV/0!"},{"$error":"#DIV/0!"},{"$error":"#DIV/0!"},{"$error":"#DIV/0!"},{"$error":"#DIV/0!"}]
[null,null,null,null,0,0,0,{"$error":"#DIV/0!"},{"$error":"#DIV/0!"},{"$error":"#DIV/0!"},{"$error":"#DIV/0!"},{"$error":"#DIV/0!"},{"$error":"#DIV/0!"}]
[null,null,null,null,0,0,0,{"$error":"#DIV/0!"},{"$error":"#DIV/0!"},{"$error":"#DIV/0!"},{"$error":"#DIV/0!"},{"$error":"#DIV/0!"},{"$error":"#DIV/0!"}]
[null,null,null,null,0,0,0,{"$error":"#DIV/0!"},{"$error":"#DIV/0!"},{"$error":"#DIV/0!"},{"$error":"#DIV/0!"},{"$error":"#DIV/0!"},{"$error":"#DIV/0!"}]
[null,null,null,null,0,0,0,{"$error":"#DIV/0!"},{"$error":"#DIV/0!"},{"$error":"#DIV/0!"},{"$error":"#DIV/0!"},{"$error":"#DIV/0!"},{"$error":"#DIV/0!"}]
[null,null,null,null,0,0,0,{"$error":"#DIV/0!"},{"$error":"#DIV/0!"},{"$error":"#DIV/0!"},{"$error":"#DIV/0!"},{"$error":"#DIV/0!"},{"$error":"#DIV/0!"}]
[null,null,null,null,0,0,0,{"$error":"#DIV/0!"},{"$error":"#DIV/0!"},{"$error":"#DIV/0!"},{"$error":"#DIV/0!"},{"$error":"#DIV/0!"},{"$error":"#DIV/0!"}]
[null,null,null,null,0,0,0,{"$error":"#DIV/0!"},{"$error":"#DIV/0!"},{"$error":"#DIV/0!"},{"$error":"#DIV/0!"},{"$error":"#DIV/0!"},{"$error":"#DIV/0!"}]
[null,null,null,null,0,0,0,{"$error":"#DIV/0!"},{"$error":"#DIV/0!"},{"$error":"#DIV/0!"},{"$error":"#DIV/0!"},{"$error":"#DIV/0!"},{"$error":"#DIV/0!"}]
[null,null,null,null,0,0,0,{"$error":"#DIV/0!"},{"$error":"#DIV/0!"},{"$error":"#DIV/0!"},{"$error":"#DIV/0!"},{"$error":"#DIV/0!"},{"$error":"#DIV/0!"}]
[null,null,null,null,0,0,0,{"$error":"#DIV/0!"},{"$error":"#DIV/0!"},{"$error":"#DIV/0!"},{"$error":"#DIV/0!"},{"$error":"#DIV/0!"},{"$error":"#DIV/0!"}]
[null,null,null,null,0,0,0,{"$error":"#DIV/0!"},{"$error":"#DIV/0!"},{"$error":"#DIV/0!"},{"$error":"#DIV/0!"},{"$error":"#DIV/0!"},{"$error":"#DIV/0!"}]
[null,null,null,null,0,0,0,{"$error":"#DIV/0!"},{"$error":"#DIV/0!"},{"$error":"#DIV/0!"},{"$error":"#DIV/0!"},{"$error":"#DIV/0!"},{"$error":"#DIV/0!"}]
[null,null,null,null,0,0,0,{"$error":"#DIV/0!"},{"$error":"#DIV/0!"},{"$error":"#DIV/0!"},{"$error":"#DIV/0!"},{"$error":"#DIV/0!"},{"$error":"#DIV/0!"}]
[null,null,null,null,0,0,0,{"$error":"#DIV/0!"},{"$error":"#DIV/0!"},{"$error":"#DIV/0!"},{"$error":"#DIV/0!"},{"$error":"#DIV/0!"},{"$error":"#DIV/0!"}]
[null,null,null,null,0,0,0,{"$error":"#DIV/0!"},{"$error":"#DIV/0!"},{"$error":"#DIV/0!"},{"$error":"#DIV/0!"},{"$error":"#DIV/0!"},{"$error":"#DIV/0!"}]
[null,null,null,null,0,0,0,{"$error":"#DIV/0!"},{"$error":"#DIV/0!"},{"$error":"#DIV/0!"},{"$error":"#DIV/0!"},{"$error":"#DIV/0!"},{"$error":"#DIV/0!"}]
[null,null,null,null,0,0,0,{"$error":"#DIV/0!"},{"$error":"#DIV/0!"},{"$error":"#DIV/0!"},{"$error":"#DIV/0!"},{"$error":"#DIV/0!"},{"$error":"#DIV/0!"}]
[null,null,null,null,0,0,0,{"$error":"#DIV/0!"},{"$error":"#DIV/0!"},{"$error":"#DIV/0!"},{"$error":"#DIV/0!"},{"$error":"#DIV/0!"},{"$error":"#DIV/0!"}]
[null,null,null,null,0,0,0,{"$error":"#DIV/0!"},{"$error":"#DIV/0!"},{"$error":"#DIV/0!"},{"$error":"#DIV/0!"},{"$error":"#DIV/0!"},{"$error":"#DIV/0!"}]
[null,null,null,null,0,0,0,{"$error":"#DIV/0!"},{"$error":"#DIV/0!"},{"$error":"#DIV/0!"},{"$error":"#DIV/0!"},{"$error":"#DIV/0!"},{"$error":"#DIV/0!"}]
[null,null,null,null,0,0,0,{"$error":"#DIV/0!"},{"$error":"#DIV/0!"},{"$error":"#DIV/0!"},{"$error":"#DIV/0!"},{"$error":"#DIV/0!"},{"$error":"#DIV/0!"}]
[null,null,null,null,0,0,0,{"$error":"#DIV/0!"},{"$error":"#DIV/0!"},{"$error":"#DIV/0!"},{"$error":"#DIV/0!"},{"$error":"#DIV/0!"},{"$error":"#DIV/0!"}]
[null,null,null,null,0,0,0,{"$error":"#DIV/0!"},{"$error":"#DIV/0!"},{"$error":"#DIV/0!"},{"$error":"#DIV/0!"},{"$error":"#DIV/0!"},{"$error":"#DIV/0!"}]
[null,null,null,null,0,0,0,{"$error":"#DIV/0!"},{"$error":"#DIV/0!"},{"$error":"#DIV/0!"},{"$error":"#DIV/0!"},{"$error":"#DIV/0!"},{"$error":"#DIV/0!"}]
[null,null,null,null,0,0,0,{"$error":"#DIV/0!"},{"$error":"#DIV/0!"},{"$error":"#DIV/0!"},{"$error":"#DIV/0!"},{"$error":"#DIV/0!"},{"$error":"#DIV/0!"}]
[null,null,null,null,{"$f":"C322+D322","v":0},{"$f":"C322*D322","v":0},{"$f":"B322*E322","v":0},{"$f":"G322/F322","v":{"$error":"#DIV/0!"}},{"$f":"SQRT(H322)","v":{"$error":"#DIV/0!"}},{"$f":"I322^2","v":{"$error":"#DIV/0!"}},{"$f":"SQRT(((E322/F322)+(J322/(2*E322))))","v":{"$error":"#DIV/0!"}},{"$f":"I322-(1.96*K322)","v":{"$error":"#DIV/0!"}},{"$f":"I322+(1.96*K322)","v":{"$error":"#DIV/0!"}}]
[null,null,null,null,0,0,0,{"$error":"#DIV/0!"},{"$error":"#DIV/0!"},{"$error":"#DIV/0!"},{"$error":"#DIV/0!"},{"$error":"#DIV/0!"},{"$error":"#DIV/0!"}]
[null,null,null,null,0,0,0,{"$error":"#DIV/0!"},{"$error":"#DIV/0!"},{"$error":"#DIV/0!"},{"$error":"#DIV/0!"},{"$error":"#DIV/0!"},{"$error":"#DIV/0!"}]
[null,null,null,null,0,0,0,{"$error":"#DIV/0!"},{"$error":"#DIV/0!"},{"$error":"#DIV/0!"},{"$error":"#DIV/0!"},{"$error":"#DIV/0!"},{"$error":"#DIV/0!"}]
[null,null,null,null,0,0,0,{"$error":"#DIV/0!"},{"$error":"#DIV/0!"},{"$error":"#DIV/0!"},{"$error":"#DIV/0!"},{"$error":"#DIV/0!"},{"$error":"#DIV/0!"}]
[null,null,null,null,0,0,0,{"$error":"#DIV/0!"},{"$error":"#DIV/0!"},{"$error":"#DIV/0!"},{"$error":"#DIV/0!"},{"$error":"#DIV/0!"},{"$error":"#DIV/0!"}]
[null,null,null,null,0,0,0,{"$error":"#DIV/0!"},{"$error":"#DIV/0!"},{"$error":"#DIV/0!"},{"$error":"#DIV/0!"},{"$error":"#DIV/0!"},{"$error":"#DIV/0!"}]
[null,null,null,null,0,0,0,{"$error":"#DIV/0!"},{"$error":"#DIV/0!"},{"$error":"#DIV/0!"},{"$error":"#DIV/0!"},{"$error":"#DIV/0!"},{"$error":"#DIV/0!"}]
[null,null,null,null,0,0,0,{"$error":"#DIV/0!"},{"$error":"#DIV/0!"},{"$error":"#DIV/0!"},{"$error":"#DIV/0!"},{"$error":"#DIV/0!"},{"$error":"#DIV/0!"}]
[null,null,null,null,0,0,0,{"$error":"#DIV/0!"},{"$error":"#DIV/0!"},{"$error":"#DIV/0!"},{"$error":"#DIV/0!"},{"$error":"#DIV/0!"},{"$error":"#DIV/0!"}]
[null,null,null,null,0,0,0,{"$error":"#DIV/0!"},{"$error":"#DIV/0!"},{"$error":"#DIV/0!"},{"$error":"#DIV/0!"},{"$error":"#DIV/0!"},{"$error":"#DIV/0!"}]
[null,null,null,null,0,0,0,{"$error":"#DIV/0!"},{"$error":"#DIV/0!"},{"$error":"#DIV/0!"},{"$error":"#DIV/0!"},{"$error":"#DIV/0!"},{"$error":"#DIV/0!"}]
[null,null,null,null,0,0,0,{"$error":"#DIV/0!"},{"$error":"#DIV/0!"},{"$error":"#DIV/0!"},{"$error":"#DIV/0!"},{"$error":"#DIV/0!"},{"$error":"#DIV/0!"}]
[null,null,null,null,0,0,0,{"$error":"#DIV/0!"},{"$error":"#DIV/0!"},{"$error":"#DIV/0!"},{"$error":"#DIV/0!"},{"$error":"#DIV/0!"},{"$error":"#DIV/0!"}]
[null,null,null,null,0,0,0,{"$error":"#DIV/0!"},{"$error":"#DIV/0!"},{"$error":"#DIV/0!"},{"$error":"#DIV/0!"},{"$error":"#DIV/0!"},{"$error":"#DIV/0!"}]
[null,null,null,null,0,0,0,{"$error":"#DIV/0!"},{"$error":"#DIV/0!"},{"$error":"#DIV/0!"},{"$error":"#DIV/0!"},{"$error":"#DIV/0!"},{"$error":"#DIV/0!"}]
[null,null,null,null,0,0,0,{"$error":"#DIV/0!"},{"$error":"#DIV/0!"},{"$error":"#DIV/0!"},{"$error":"#DIV/0!"},{"$error":"#DIV/0!"},{"$error":"#DIV/0!"}]
[null,null,null,null,0,0,0,{"$error":"#DIV/0!"},{"$error":"#DIV/0!"},{"$error":"#DIV/0!"},{"$error":"#DIV/0!"},{"$error":"#DIV/0!"},{"$error":"#DIV/0!"}]
[null,null,null,null,0,0,0,{"$error":"#DIV/0!"},{"$error":"#DIV/0!"},{"$error":"#DIV/0!"},{"$error":"#DIV/0!"},{"$error":"#DIV/0!"},{"$error":"#DIV/0!"}]
[null,null,null,null,0,0,0,{"$error":"#DIV/0!"},{"$error":"#DIV/0!"},{"$error":"#DIV/0!"},{"$error":"#DIV/0!"},{"$error":"#DIV/0!"},{"$error":"#DIV/0!"}]
[null,null,null,null,0,0,0,{"$error":"#DIV/0!"},{"$error":"#DIV/0!"},{"$error":"#DIV/0!"},{"$error":"#DIV/0!"},{"$error":"#DIV/0!"},{"$error":"#DIV/0!"}]
[null,null,null,null,0,0,0,{"$error":"#DIV/0!"},{"$error":"#DIV/0!"},{"$error":"#DIV/0!"},{"$error":"#DIV/0!"},{"$error":"#DIV/0!"},{"$error":"#DIV/0!"}]
[null,null,null,null,0,0,0,{"$error":"#DIV/0!"},{"$error":"#DIV/0!"},{"$error":"#DIV/0!"},{"$error":"#DIV/0!"},{"$error":"#DIV/0!"},{"$error":"#DIV/0!"}]
[null,null,null,null,0,0,0,{"$error":"#DIV/0!"},{"$error":"#DIV/0!"},{"$error":"#DIV/0!"},{"$error":"#DIV/0!"},{"$error":"#DIV/0!"},{"$error":"#DIV/0!"}]
[null,null,null,null,0,0,0,{"$error":"#DIV/0!"},{"$error":"#DIV/0!"},{"$error":"#DIV/0!"},{"$error":"#DIV/0!"},{"$error":"#DIV/0!"},{"$error":"#DIV/0!"}]
[null,null,null,null,0,0,0,{"$error":"#DIV/0!"},{"$error":"#DIV/0!"},{"$error":"#DIV/0!"},{"$error":"#DIV/0!"},{"$error":"#DIV/0!"},{"$error":"#DIV/0!"}]
[null,null,null,null,0,0,0,{"$error":"#DIV/0!"},{"$error":"#DIV/0!"},{"$error":"#DIV/0!"},{"$error":"#DIV/0!"},{"$error":"#DIV/0!"},{"$error":"#DIV/0!"}]
[null,null,null,null,0,0,0,{"$error":"#DIV/0!"},{"$error":"#DIV/0!"},{"$error":"#DIV/0!"},{"$error":"#DIV/0!"},{"$error":"#DIV/0!"},{"$error":"#DIV/0!"}]
[null,null,null,null,0,0,0,{"$error":"#DIV/0!"},{"$error":"#DIV/0!"},{"$error":"#DIV/0!"},{"$error":"#DIV/0!"},{"$error":"#DIV/0!"},{"$error":"#DIV/0!"}]
[null,null,null,null,0,0,0,{"$error":"#DIV/0!"},{"$error":"#DIV/0!"},{"$error":"#DIV/0!"},{"$error":"#DIV/0!"},{"$error":"#DIV/0!"},{"$error":"#DIV/0!"}]
[null,null,null,null,0,0,0,{"$error":"#DIV/0!"},{"$error":"#DIV/0!"},{"$error":"#DIV/0!"},{"$error":"#DIV/0!"},{"$error":"#DIV/0!"},{"$error":"#DIV/0!"}]
[null,null,null,null,0,0,0,{"$error":"#DIV/0!"},{"$error":"#DIV/0!"},{"$error":"#DIV/0!"},{"$error":"#DIV/0!"},{"$error":"#DIV/0!"},{"$error":"#DIV/0!"}]
[null,null,null,null,0,0,0,{"$error":"#DIV/0!"},{"$error":"#DIV/0!"},{"$error":"#DIV/0!"},{"$error":"#DIV/0!"},{"$error":"#DIV/0!"},{"$error":"#DIV/0!"}]
[null,null,null,null,0,0,0,{"$error":"#DIV/0!"},{"$error":"#DIV/0!"},{"$error":"#DIV/0!"},{"$error":"#DIV/0!"},{"$error":"#DIV/0!"},{"$error":"#DIV/0!"}]
[null,null,null,null,0,0,0,{"$error":"#DIV/0!"},{"$error":"#DIV/0!"},{"$error":"#DIV/0!"},{"$error":"#DIV/0!"},{"$error":"#DIV/0!"},{"$error":"#DIV/0!"}]
[null,null,null,null,0,0,0,{"$error":"#DIV/0!"},{"$error":"#DIV/0!"},{"$error":"#DIV/0!"},{"$error":"#DIV/0!"},{"$error":"#DIV/0!"},{"$error":"#DIV/0!"}]
[null,null,null,null,0,0,0,{"$error":"#DIV/0!"},{"$error":"#DIV/0!"},{"$error":"#DIV/0!"},{"$error":"#DIV/0!"},{"$error":"#DIV/0!"},{"$error":"#DIV/0!"}]
[null,null,null,null,0,0,0,{"$error":"#DIV/0!"},{"$error":"#DIV/0!"},{"$error":"#DIV/0!"},{"$error":"#DIV/0!"},{"$error":"#DIV/0!"},{"$error":"#DIV/0!"}]
[null,null,null,null,0,0,0,{"$error":"#DIV/0!"},{"$error":"#DIV/0!"},{"$error":"#DIV/0!"},{"$error":"#DIV/0!"},{"$error":"#DIV/0!"},{"$error":"#DIV/0!"}]
[null,null,null,null,0,0,0,{"$error":"#DIV/0!"},{"$error":"#DIV/0!"},{"$error":"#DIV/0!"},{"$error":"#DIV/0!"},{"$error":"#DIV/0!"},{"$error":"#DIV/0!"}]
[null,null,null,null,0,0,0,{"$error":"#DIV/0!"},{"$error":"#DIV/0!"},{"$error":"#DIV/0!"},{"$error":"#DIV/0!"},{"$error":"#DIV/0!"},{"$error":"#DIV/0!"}]
[null,null,null,null,0,0,0,{"$error":"#DIV/0!"},{"$error":"#DIV/0!"},{"$error":"#DIV/0!"},{"$error":"#DIV/0!"},{"$error":"#DIV/0!"},{"$error":"#DIV/0!"}]
[null,null,null,null,0,0,0,{"$error":"#DIV/0!"},{"$error":"#DIV/0!"},{"$error":"#DIV/0!"},{"$error":"#DIV/0!"},{"$error":"#DIV/0!"},{"$error":"#DIV/0!"}]
[null,null,null,null,0,0,0,{"$error":"#DIV/0!"},{"$error":"#DIV/0!"},{"$error":"#DIV/0!"},{"$error":"#DIV/0!"},{"$error":"#DIV/0!"},{"$error":"#DIV/0!"}]
[null,null,null,null,0,0,0,{"$error":"#DIV/0!"},{"$error":"#DIV/0!"},{"$error":"#DIV/0!"},{"$error":"#DIV/0!"},{"$error":"#DIV/0!"},{"$error":"#DIV/0!"}]
[null,null,null,null,0,0,0,{"$error":"#DIV/0!"},{"$error":"#DIV/0!"},{"$error":"#DIV/0!"},{"$error":"#DIV/0!"},{"$error":"#DIV/0!"},{"$error":"#DIV/0!"}]
[null,null,null,null,0,0,0,{"$error":"#DIV/0!"},{"$error":"#DIV/0!"},{"$error":"#DIV/0!"},{"$error":"#DIV/0!"},{"$error":"#DIV/0!"},{"$error":"#DIV/0!"}]
[null,null,null,null,0,0,0,{"$error":"#DIV/0!"},{"$error":"#DIV/0!"},{"$error":"#DIV/0!"},{"$error":"#DIV/0!"},{"$error":"#DIV/0!"},{"$error":"#DIV/0!"}]
[null,null,null,null,0,0,0,{"$error":"#DIV/0!"},{"$error":"#DIV/0!"},{"$error":"#DIV/0!"},{"$error":"#DIV/0!"},{"$error":"#DIV/0!"},{"$error":"#DIV/0!"}]
[null,null,null,null,0,0,0,{"$error":"#DIV/0!"},{"$error":"#DIV/0!"},{"$error":"#DIV/0!"},{"$error":"#DIV/0!"},{"$error":"#DIV/0!"},{"$error":"#DIV/0!"}]
[null,null,null,null,0,0,0,{"$error":"#DIV/0!"},{"$error":"#DIV/0!"},{"$error":"#DIV/0!"},{"$error":"#DIV/0!"},{"$error":"#DIV/0!"},{"$error":"#DIV/0!"}]
[null,null,null,null,0,0,0,{"$error":"#DIV/0!"},{"$error":"#DIV/0!"},{"$error":"#DIV/0!"},{"$error":"#DIV/0!"},{"$error":"#DIV/0!"},{"$error":"#DIV/0!"}]
[null,null,null,null,0,0,0,{"$error":"#DIV/0!"},{"$error":"#DIV/0!"},{"$error":"#DIV/0!"},{"$error":"#DIV/0!"},{"$error":"#DIV/0!"},{"$error":"#DIV/0!"}]
[null,null,null,null,0,0,0,{"$error":"#DIV/0!"},{"$error":"#DIV/0!"},{"$error":"#DIV/0!"},{"$error":"#DIV/0!"},{"$error":"#DIV/0!"},{"$error":"#DIV/0!"}]
[null,null,null,null,0,0,0,{"$error":"#DIV/0!"},{"$error":"#DIV/0!"},{"$error":"#DIV/0!"},{"$error":"#DIV/0!"},{"$error":"#DIV/0!"},{"$error":"#DIV/0!"}]
[null,null,null,null,0,0,0,{"$error":"#DIV/0!"},{"$error":"#DIV/0!"},{"$error":"#DIV/0!"},{"$error":"#DIV/0!"},{"$error":"#DIV/0!"},{"$error":"#DIV/0!"}]
[null,null,null,null,0,0,0,{"$error":"#DIV/0!"},{"$error":"#DIV/0!"},{"$error":"#DIV/0!"},{"$error":"#DIV/0!"},{"$error":"#DIV/0!"},{"$error":"#DIV/0!"}]
[null,null,null,null,0,0,0,{"$error":"#DIV/0!"},{"$error":"#DIV/0!"},{"$error":"#DIV/0!"},{"$error":"#DIV/0!"},{"$error":"#DIV/0!"},{"$error":"#DIV/0!"}]
[null,null,null,null,0,0,0,{"$error":"#DIV/0!"},{"$error":"#DIV/0!"},{"$error":"#DIV/0!"},{"$error":"#DIV/0!"},{"$error":"#DIV/0!"},{"$error":"#DIV/0!"}]
[null,null,null,null,0,0,0,{"$error":"#DIV/0!"},{"$error":"#DIV/0!"},{"$error":"#DIV/0!"},{"$error":"#DIV/0!"},{"$error":"#DIV/0!"},{"$error":"#DIV/0!"}]
[null,null,null,null,0,0,0,{"$error":"#DIV/0!"},{"$error":"#DIV/0!"},{"$error":"#DIV/0!"},{"$error":"#DIV/0!"},{"$error":"#DIV/0!"},{"$error":"#DIV/0!"}]
[null,null,null,null,0,0,0,{"$error":"#DIV/0!"},{"$error":"#DIV/0!"},{"$error":"#DIV/0!"},{"$error":"#DIV/0!"},{"$error":"#DIV/0!"},{"$error":"#DIV/0!"}]
[null,null,null,null,0,0,0,{"$error":"#DIV/0!"},{"$error":"#DIV/0!"},{"$error":"#DIV/0!"},{"$error":"#DIV/0!"},{"$error":"#DIV/0!"},{"$error":"#DIV/0!"}]
[null,null,null,null,0,0,0,{"$error":"#DIV/0!"},{"$error":"#DIV/0!"},{"$error":"#DIV/0!"},{"$error":"#DIV/0!"},{"$error":"#DIV/0!"},{"$error":"#DIV/0!"}]
[null,null,null,null,{"$f":"C386+D386","v":0},{"$f":"C386*D386","v":0},{"$f":"B386*E386","v":0},{"$f":"G386/F386","v":{"$error":"#DIV/0!"}},{"$f":"SQRT(H386)","v":{"$error":"#DIV/0!"}},{"$f":"I386^2","v":{"$error":"#DIV/0!"}},{"$f":"SQRT(((E386/F386)+(J386/(2*E386))))","v":{"$error":"#DIV/0!"}},{"$f":"I386-(1.96*K386)","v":{"$error":"#DIV/0!"}},{"$f":"I386+(1.96*K386)","v":{"$error":"#DIV/0!"}}]
[null,null,null,null,0,0,0,{"$error":"#DIV/0!"},{"$error":"#DIV/0!"},{"$error":"#DIV/0!"},{"$error":"#DIV/0!"},{"$error":"#DIV/0!"},{"$error":"#DIV/0!"}]
[null,null,null,null,0,0,0,{"$error":"#DIV/0!"},{"$error":"#DIV/0!"},{"$error":"#DIV/0!"},{"$error":"#DIV/0!"},{"$error":"#DIV/0!"},{"$error":"#DIV/0!"}]
[null,null,null,null,0,0,0,{"$error":"#DIV/0!"},{"$error":"#DIV/0!"},{"$error":"#DIV/0!"},{"$error":"#DIV/0!"},{"$error":"#DIV/0!"},{"$error":"#DIV/0!"}]
[null,null,null,null,0,0,0,{"$error":"#DIV/0!"},{"$error":"#DIV/0!"},{"$error":"#DIV/0!"},{"$error":"#DIV/0!"},{"$error":"#DIV/0!"},{"$error":"#DIV/0!"}]
[null,null,null,null,0,0,0,{"$error":"#DIV/0!"},{"$error":"#DIV/0!"},{"$error":"#DIV/0!"},{"$error":"#DIV/0!"},{"$error":"#DIV/0!"},{"$error":"#DIV/0!"}]
[null,null,null,null,0,0,0,{"$error":"#DIV/0!"},{"$error":"#DIV/0!"},{"$error":"#DIV/0!"},{"$error":"#DIV/0!"},{"$error":"#DIV/0!"},{"$error":"#DIV/0!"}]
[null,null,null,null,0,0,0,{"$error":"#DIV/0!"},{"$error":"#DIV/0!"},{"$error":"#DIV/0!"},{"$error":"#DIV/0!"},{"$error":"#DIV/0!"},{"$error":"#DIV/0!"}]
[null,null,null,null,0,0,0,{"$error":"#DIV/0!"},{"$error":"#DIV/0!"},{"$error":"#DIV/0!"},{"$error":"#DIV/0!"},{"$error":"#DIV/0!"},{"$error":"#DIV/0!"}]
[null,null,null,null,0,0,0,{"$error":"#DIV/0!"},{"$error":"#DIV/0!"},{"$error":"#DIV/0!"},{"$error":"#DIV/0!"},{"$error":"#DIV/0!"},{"$error":"#DIV/0!"}]
[null,null,null,null,0,0,0,{"$error":"#DIV/0!"},{"$error":"#DIV/0!"},{"$error":"#DIV/0!"},{"$error":"#DIV/0!"},{"$error":"#DIV/0!"},{"$error":"#DIV/0!"}]
[null,null,null,null,0,0,0,{"$error":"#DIV/0!"},{"$error":"#DIV/0!"},{"$error":"#DIV/0!"},{"$error":"#DIV/0!"},{"$error":"#DIV/0!"},{"$error":"#DIV/0!"}]
[null,null,null,null,0,0,0,{"$error":"#DIV/0!"},{"$error":"#DIV/0!"},{"$error":"#DIV/0!"},{"$error":"#DIV/0!"},{"$error":"#DIV/0!"},{"$error":"#DIV/0!"}]
[null,null,null,null,0,0,0,{"$error":"#DIV/0!"},{"$error":"#DIV/0!"},{"$error":"#DIV/0!"},{"$error":"#DIV/0!"},{"$error":"#DIV/0!"},{"$error":"#DIV/0!"}]
[null,null,null,null,0,0,0,{"$error":"#DIV/0!"},{"$error":"#DIV/0!"},{"$error":"#DIV/0!"},{"$error":"#DIV/0!"},{"$error":"#DIV/0!"},{"$error":"#DIV/0!"}]
[null,null,null,null,0,0,0,{"$error":"#DIV/0!"},{"$error":"#DIV/0!"},{"$error":"#DIV/0!"},{"$error":"#DIV/0!"},{"$error":"#DIV/0!"},{"$error":"#DIV/0!"}]
[null,null,null,null,0,0,0,{"$error":"#DIV/0!"},{"$error":"#DIV/0!"},{"$error":"#DIV/0!"},{"$error":"#DIV/0!"},{"$error":"#DIV/0!"},{"$error":"#DIV/0!"}]
[null,null,null,null,0,0,0,{"$error":"#DIV/0!"},{"$error":"#DIV/0!"},{"$error":"#DIV/0!"},{"$error":"#DIV/0!"},{"$error":"#DIV/0!"},{"$error":"#DIV/0!"}]
[null,null,null,null,0,0,0,{"$error":"#DIV/0!"},{"$error":"#DIV/0!"},{"$error":"#DIV/0!"},{"$error":"#DIV/0!"},{"$error":"#DIV/0!"},{"$error":"#DIV/0!"}]
[null,null,null,null,0,0,0,{"$error":"#DIV/0!"},{"$error":"#DIV/0!"},{"$error":"#DIV/0!"},{"$error":"#DIV/0!"},{"$error":"#DIV/0!"},{"$error":"#DIV/0!"}]
[null,null,null,null,0,0,0,{"$error":"#DIV/0!"},{"$error":"#DIV/0!"},{"$error":"#DIV/0!"},{"$error":"#DIV/0!"},{"$error":"#DIV/0!"},{"$error":"#DIV/0!"}]
[null,null,null,null,0,0,0,{"$error":"#DIV/0!"},{"$error":"#DIV/0!"},{"$error":"#DIV/0!"},{"$error":"#DIV/0!"},{"$error":"#DIV/0!"},{"$error":"#DIV/0!"}]
[null,null,null,null,0,0,0,{"$error":"#DIV/0!"},{"$error":"#DIV/0!"},{"$error":"#DIV/0!"},{"$error":"#DIV/0!"},{"$error":"#DIV/0!"},{"$error":"#DIV/0!"}]
[null,null,null,null,0,0,0,{"$error":"#DIV/0!"},{"$error":"#DIV/0!"},{"$error":"#DIV/0!"},{"$error":"#DIV/0!"},{"$error":"#DIV/0!"},{"$error":"#DIV/0!"}]
[null,null,null,null,0,0,0,{"$error":"#DIV/0!"},{"$error":"#DIV/0!"},{"$error":"#DIV/0!"},{"$error":"#DIV/0!"},{"$error":"#DIV/0!"},{"$error":"#DIV/0!"}]
[null,null,null,null,0,0,0,{"$error":"#DIV/0!"},{"$error":"#DIV/0!"},{"$error":"#DIV/0!"},{"$error":"#DIV/0!"},{"$error":"#DIV/0!"},{"$error":"#DIV/0!"}]
[null,null,null,null,0,0,0,{"$error":"#DIV/0!"},{"$error":"#DIV/0!"},{"$error":"#DIV/0!"},{"$error":"#DIV/0!"},{"$error":"#DIV/0!"},{"$error":"#DIV/0!"}]
[null,null,null,null,0,0,0,{"$error":"#DIV/0!"},{"$error":"#DIV/0!"},{"$error":"#DIV/0!"},{"$error":"#DIV/0!"},{"$error":"#DIV/0!"},{"$error":"#DIV/0!"}]
[null,null,null,null,0,0,0,{"$error":"#DIV/0!"},{"$error":"#DIV/0!"},{"$error":"#DIV/0!"},{"$error":"#DIV/0!"},{"$error":"#DIV/0!"},{"$error":"#DIV/0!"}]
[null,null,null,null,0,0,0,{"$error":"#DIV/0!"},{"$error":"#DIV/0!"},{"$error":"#DIV/0!"},{"$error":"#DIV/0!"},{"$error":"#DIV/0!"},{"$error":"#DIV/0!"}]
[null,null,null,null,0,0,0,{"$error":"#DIV/0!"},{"$error":"#DIV/0!"},{"$error":"#DIV/0!"},{"$error":"#DIV/0!"},{"$error":"#DIV/0!"},{"$error":"#DIV/0!"}]
[null,null,null,null,0,0,0,{"$error":"#DIV/0!"},{"$error":"#DIV/0!"},{"$error":"#DIV/0!"},{"$error":"#DIV/0!"},{"$error":"#DIV/0!"},{"$error":"#DIV/0!"}]
[null,null,null,null,0,0,0,{"$error":"#DIV/0!"},{"$error":"#DIV/0!"},{"$error":"#DIV/0!"},{"$error":"#DIV/0!"},{"$error":"#DIV/0!"},{"$error":"#DIV/0!"}]
[null,null,null,null,0,0,0,{"$error":"#DIV/0!"},{"$error":"#DIV/0!"},{"$error":"#DIV/0!"},{"$error":"#DIV/0!"},{"$error":"#DIV/0!"},{"$error":"#DIV/0!"}]
[null,null,null,null,0,0,0,{"$error":"#DIV/0!"},{"$error":"#DIV/0!"},{"$error":"#DIV/0!"},{"$error":"#DIV/0!"},{"$error":"#DIV/0!"},{"$error":"#DIV/0!"}]
[null,null,null,null,0,0,0,{"$error":"#DIV/0!"},{"$error":"#DIV/0!"},{"$error":"#DIV/0!"},{"$error":"#DIV/0!"},{"$error":"#DIV/0!"},{"$error":"#DIV/0!"}]
[null,null,null,null,0,0,0,{"$error":"#DIV/0!"},{"$error":"#DIV/0!"},{"$error":"#DIV/0!"},{"$error":"#DIV/0!"},{"$error":"#DIV/0!"},{"$error":"#DIV/0!"}]
[null,null,null,null,0,0,0,{"$error":"#DIV/0!"},{"$error":"#DIV/0!"},{"$error":"#DIV/0!"},{"$error":"#DIV/0!"},{"$error":"#DIV/0!"},{"$error":"#DIV/0!"}]
[null,null,null,null,0,0,0,{"$error":"#DIV/0!"},{"$error":"#DIV/0!"},{"$error":"#DIV/0!"},{"$error":"#DIV/0!"},{"$error":"#DIV/0!"},{"$error":"#DIV/0!"}]
[null,null,null,null,0,0,0,{"$error":"#DIV/0!"},{"$error":"#DIV/0!"},{"$error":"#DIV/0!"},{"$error":"#DIV/0!"},{"$error":"#DIV/0!"},{"$error":"#DIV/0!"}]
[null,null,null,null,0,0,0,{"$error":"#DIV/0!"},{"$error":"#DIV/0!"},{"$error":"#DIV/0!"},{"$error":"#DIV/0!"},{"$error":"#DIV/0!"},{"$error":"#DIV/0!"}]
[null,null,null,null,0,0,0,{"$error":"#DIV/0!"},{"$error":"#DIV/0!"},{"$error":"#DIV/0!"},{"$error":"#DIV/0!"},{"$error":"#DIV/0!"},{"$error":"#DIV/0!"}]
[null,null,null,null,0,0,0,{"$error":"#DIV/0!"},{"$error":"#DIV/0!"},{"$error":"#DIV/0!"},{"$error":"#DIV/0!"},{"$error":"#DIV/0!"},{"$error":"#DIV/0!"}]
[null,null,null,null,0,0,0,{"$error":"#DIV/0!"},{"$error":"#DIV/0!"},{"$error":"#DIV/0!"},{"$error":"#DIV/0!"},{"$error":"#DIV/0!"},{"$error":"#DIV/0!"}]
[null,null,null,null,0,0,0,{"$error":"#DIV/0!"},{"$error":"#DIV/0!"},{"$error":"#DIV/0!"},{"$error":"#DIV/0!"},{"$error":"#DIV/0!"},{"$error":"#DIV/0!"}]
[null,null,null,null,0,0,0,{"$error":"#DIV/0!"},{"$error":"#DIV/0!"},{"$error":"#DIV/0!"},{"$error":"#DIV/0!"},{"$error":"#DIV/0!"},{"$error":"#DIV/0!"}]
[null,null,null,null,0,0,0,{"$error":"#DIV/0!"},{"$error":"#DIV/0!"},{"$error":"#DIV/0!"},{"$error":"#DIV/0!"},{"$error":"#DIV/0!"},{"$error":"#DIV/0!"}]
[null,null,null,null,0,0,0,{"$error":"#DIV/0!"},{"$error":"#DIV/0!"},{"$error":"#DIV/0!"},{"$error":"#DIV/0!"},{"$error":"#DIV/0!"},{"$error":"#DIV/0!"}]
[null,null,null,null,0,0,0,{"$error":"#DIV/0!"},{"$error":"#DIV/0!"},{"$error":"#DIV/0!"},{"$error":"#DIV/0!"},{"$error":"#DIV/0!"},{"$error":"#DIV/0!"}]
[null,null,null,null,0,0,0,{"$error":"#DIV/0!"},{"$error":"#DIV/0!"},{"$error":"#DIV/0!"},{"$error":"#DIV/0!"},{"$error":"#DIV/0!"},{"$error":"#DIV/0!"}]
[null,null,null,null,0,0,0,{"$error":"#DIV/0!"},{"$error":"#DIV/0!"},{"$error":"#DIV/0!"},{"$error":"#DIV/0!"},{"$error":"#DIV/0!"},{"$error":"#DIV/0!"}]
[null,null,null,null,0,0,0,{"$error":"#DIV/0!"},{"$error":"#DIV/0!"},{"$error":"#DIV/0!"},{"$error":"#DIV/0!"},{"$error":"#DIV/0!"},{"$error":"#DIV/0!"}]
[null,null,null,null,0,0,0,{"$error":"#DIV/0!"},{"$error":"#DIV/0!"},{"$error":"#DIV/0!"},{"$error":"#DIV/0!"},{"$error":"#DIV/0!"},{"$error":"#DIV/0!"}]
[null,null,null,null,0,0,0,{"$error":"#DIV/0!"},{"$error":"#DIV/0!"},{"$error":"#DIV/0!"},{"$error":"#DIV/0!"},{"$error":"#DIV/0!"},{"$error":"#DIV/0!"}]
[null,null,null,null,0,0,0,{"$error":"#DIV/0!"},{"$error":"#DIV/0!"},{"$error":"#DIV/0!"},{"$error":"#DIV/0!"},{"$error":"#DIV/0!"},{"$error":"#DIV/0!"}]
[null,null,null,null,0,0,0,{"$error":"#DIV/0!"},{"$error":"#DIV/0!"},{"$error":"#DIV/0!"},{"$error":"#DIV/0!"},{"$error":"#DIV/0!"},{"$error":"#DIV/0!"}]
[null,null,null,null,0,0,0,{"$error":"#DIV/0!"},{"$error":"#DIV/0!"},{"$error":"#DIV/0!"},{"$error":"#DIV/0!"},{"$error":"#DIV/0!"},{"$error":"#DIV/0!"}]
[null,null,null,null,0,0,0,{"$error":"#DIV/0!"},{"$error":"#DIV/0!"},{"$error":"#DIV/0!"},{"$error":"#DIV/0!"},{"$error":"#DIV/0!"},{"$error":"#DIV/0!"}]
[null,null,null,null,0,0,0,{"$error":"#DIV/0!"},{"$error":"#DIV/0!"},{"$error":"#DIV/0!"},{"$error":"#DIV/0!"},{"$error":"#DIV/0!"},{"$error":"#DIV/0!"}]
[null,null,null,null,0,0,0,{"$error":"#DIV/0!"},{"$error":"#DIV/0!"},{"$error":"#DIV/0!"},{"$error":"#DIV/0!"},{"$error":"#DIV/0!"},{"$error":"#DIV/0!"}]
[null,null,null,null,0,0,0,{"$error":"#DIV/0!"},{"$error":"#DIV/0!"},{"$error":"#DIV/0!"},{"$error":"#DIV/0!"},{"$error":"#DIV/0!"},{"$error":"#DIV/0!"}]
[null,null,null,null,0,0,0,{"$error":"#DIV/0!"},{"$error":"#DIV/0!"},{"$error":"#DIV/0!"},{"$error":"#DIV/0!"},{"$error":"#DIV/0!"},{"$error":"#DIV/0!"}]
[null,null,null,null,0,0,0,{"$error":"#DIV/0!"},{"$error":"#DIV/0!"},{"$error":"#DIV/0!"},{"$error":"#DIV/0!"},{"$error":"#DIV/0!"},{"$error":"#DIV/0!"}]
[null,null,null,null,0,0,0,{"$error":"#DIV/0!"},{"$error":"#DIV/0!"},{"$error":"#DIV/0!"},{"$error":"#DIV/0!"},{"$error":"#DIV/0!"},{"$error":"#DIV/0!"}]
[null,null,null,null,{"$f":"C450+D450","v":0},{"$f":"C450*D450","v":0},{"$f":"B450*E450","v":0},{"$f":"G450/F450","v":{"$error":"#DIV/0!"}},{"$f":"SQRT(H450)","v":{"$error":"#DIV/0!"}},{"$f":"I450^2","v":{"$error":"#DIV/0!"}},{"$f":"SQRT(((E450/F450)+(J450/(2*E450))))","v":{"$error":"#DIV/0!"}},{"$f":"I450-(1.96*K450)","v":{"$error":"#DIV/0!"}},{"$f":"I450+(1.96*K450)","v":{"$error":"#DIV/0!"}}]
[null,null,null,null,0,0,0,{"$error":"#DIV/0!"},{"$error":"#DIV/0!"},{"$error":"#DIV/0!"},{"$error":"#DIV/0!"},{"$error":"#DIV/0!"},{"$error":"#DIV/0!"}]
[null,null,null,null,0,0,0,{"$error":"#DIV/0!"},{"$error":"#DIV/0!"},{"$error":"#DIV/0!"},{"$error":"#DIV/0!"},{"$error":"#DIV/0!"},{"$error":"#DIV/0!"}]
[null,null,null,null,0,0,0,{"$error":"#DIV/0!"},{"$error":"#DIV/0!"},{"$error":"#DIV/0!"},{"$error":"#DIV/0!"},{"$error":"#DIV/0!"},{"$error":"#DIV/0!"}]
[null,null,null,null,0,0,0,{"$error":"#DIV/0!"},{"$error":"#DIV/0!"},{"$error":"#DIV/0!"},{"$error":"#DIV/0!"},{"$error":"#DIV/0!"},{"$error":"#DIV/0!"}]
[null,null,null,null,0,0,0,{"$error":"#DIV/0!"},{"$error":"#DIV/0!"},{"$error":"#DIV/0!"},{"$error":"#DIV/0!"},{"$error":"#DIV/0!"},{"$error":"#DIV/0!"}]
[null,null,null,null,0,0,0,{"$error":"#DIV/0!"},{"$error":"#DIV/0!"},{"$error":"#DIV/0!"},{"$error":"#DIV/0!"},{"$error":"#DIV/0!"},{"$error":"#DIV/0!"}]
[null,null,null,null,0,0,0,{"$error":"#DIV/0!"},{"$error":"#DIV/0!"},{"$error":"#DIV/0!"},{"$error":"#DIV/0!"},{"$error":"#DIV/0!"},{"$error":"#DIV/0!"}]
[null,null,null,null,0,0,0,{"$error":"#DIV/0!"},{"$error":"#DIV/0!"},{"$error":"#DIV/0!"},{"$error":"#DIV/0!"},{"$error":"#DIV/0!"},{"$error":"#DIV/0!"}]
[null,null,null,null,0,0,0,{"$error":"#DIV/0!"},{"$error":"#DIV/0!"},{"$error":"#DIV/0!"},{"$error":"#DIV/0!"},{"$error":"#DIV/0!"},{"$error":"#DIV/0!"}]
[null,null,null,null,0,0,0,{"$error":"#DIV/0!"},{"$error":"#DIV/0!"},{"$error":"#DIV/0!"},{"$error":"#DIV/0!"},{"$error":"#DIV/0!"},{"$error":"#DIV/0!"}]
[null,null,null,null,0,0,0,{"$error":"#DIV/0!"},{"$error":"#DIV/0!"},{"$error":"#DIV/0!"},{"$error":"#DIV/0!"},{"$error":"#DIV/0!"},{"$error":"#DIV/0!"}]
[null,null,null,null,0,0,0,{"$error":"#DIV/0!"},{"$error":"#DIV/0!"},{"$error":"#DIV/0!"},{"$error":"#DIV/0!"},{"$error":"#DIV/0!"},{"$error":"#DIV/0!"}]
[null,null,null,null,0,0,0,{"$error":"#DIV/0!"},{"$error":"#DIV/0!"},{"$error":"#DIV/0!"},{"$error":"#DIV/0!"},{"$error":"#DIV/0!"},{"$error":"#DIV/0!"}]
[null,null,null,null,0,0,0,{"$error":"#DIV/0!"},{"$error":"#DIV/0!"},{"$error":"#DIV/0!"},{"$error":"#DIV/0!"},{"$error":"#DIV/0!"},{"$error":"#DIV/0!"}]
[null,null,null,null,0,0,0,{"$error":"#DIV/0!"},{"$error":"#DIV/0!"},{"$error":"#DIV/0!"},{"$error":"#DIV/0!"},{"$error":"#DIV/0!"},{"$error":"#DIV/0!"}]
[null,null,null,null,0,0,0,{"$error":"#DIV/0!"},{"$error":"#DIV/0!"},{"$error":"#DIV/0!"},{"$error":"#DIV/0!"},{"$error":"#DIV/0!"},{"$error":"#DIV/0!"}]
[null,null,null,null,0,0,0,{"$error":"#DIV/0!"},{"$error":"#DIV/0!"},{"$error":"#DIV/0!"},{"$error":"#DIV/0!"},{"$error":"#DIV/0!"},{"$error":"#DIV/0!"}]
[null,null,null,null,0,0,0,{"$error":"#DIV/0!"},{"$error":"#DIV/0!"},{"$error":"#DIV/0!"},{"$error":"#DIV/0!"},{"$error":"#DIV/0!"},{"$error":"#DIV/0!"}]
[null,null,null,null,0,0,0,{"$error":"#DIV/0!"},{"$error":"#DIV/0!"},{"$error":"#DIV/0!"},{"$error":"#DIV/0!"},{"$error":"#DIV/0!"},{"$error":"#DIV/0!"}]
[null,null,null,null,0,0,0,{"$error":"#DIV/0!"},{"$error":"#DIV/0!"},{"$error":"#DIV/0!"},{"$error":"#DIV/0!"},{"$error":"#DIV/0!"},{"$error":"#DIV/0!"}]
[null,null,null,null,0,0,0,{"$error":"#DIV/0!"},{"$error":"#DIV/0!"},{"$error":"#DIV/0!"},{"$error":"#DIV/0!"},{"$error":"#DIV/0!"},{"$error":"#DIV/0!"}]
[null,null,null,null,0,0,0,{"$error":"#DIV/0!"},{"$error":"#DIV/0!"},{"$error":"#DIV/0!"},{"$error":"#DIV/0!"},{"$error":"#DIV/0!"},{"$error":"#DIV/0!"}]
[null,null,null,null,0,0,0,{"$error":"#DIV/0!"},{"$error":"#DIV/0!"},{"$error":"#DIV/0!"},{"$error":"#DIV/0!"},{"$error":"#DIV/0!"},{"$error":"#DIV/0!"}]
[null,null,null,null,0,0,0,{"$error":"#DIV/0!"},{"$error":"#DIV/0!"},{"$error":"#DIV/0!"},{"$error":"#DIV/0!"},{"$error":"#DIV/0!"},{"$error":"#DIV/0!"}]
[null,null,null,null,0,0,0,{"$error":"#DIV/0!"},{"$error":"#DIV/0!"},{"$error":"#DIV/0!"},{"$error":"#DIV/0!"},{"$error":"#DIV/0!"},{"$error":"#DIV/0!"}]
[null,null,null,null,0,0,0,{"$error":"#DIV/0!"},{"$error":"#DIV/0!"},{"$error":"#DIV/0!"},{"$error":"#DIV/0!"},{"$error":"#DIV/0!"},{"$error":"#DIV/0!"}]
[null,null,null,null,0,0,0,{"$error":"#DIV/0!"},{"$error":"#DIV/0!"},{"$error":"#DIV/0!"},{"$error":"#DIV/0!"},{"$error":"#DIV/0!"},{"$error":"#DIV/0!"}]
[null,null,null,null,0,0,0,{"$error":"#DIV/0!"},{"$error":"#DIV/0!"},{"$error":"#DIV/0!"},{"$error":"#DIV/0!"},{"$error":"#DIV/0!"},{"$error":"#DIV/0!"}]
[null,null,null,null,0,0,0,{"$error":"#DIV/0!"},{"$error":"#DIV/0!"},{"$error":"#DIV/0!"},{"$error":"#DIV/0!"},{"$error":"#DIV/0!"},{"$error":"#DIV/0!"}]
[null,null,null,null,0,0,0,{"$error":"#DIV/0!"},{"$error":"#DIV/0!"},{"$error":"#DIV/0!"},{"$error":"#DIV/0!"},{"$error":"#DIV/0!"},{"$error":"#DIV/0!"}]
[null,null,null,null,0,0,0,{"$error":"#DIV/0!"},{"$error":"#DIV/0!"},{"$error":"#DIV/0!"},{"$error":"#DIV/0!"},{"$error":"#DIV/0!"},{"$error":"#DIV/0!"}]
[null,null,null,null,0,0,0,{"$error":"#DIV/0!"},{"$error":"#DIV/0!"},{"$error":"#DIV/0!"},{"$error":"#DIV/0!"},{"$error":"#DIV/0!"},{"$error":"#DIV/0!"}]
[null,null,null,null,0,0,0,{"$error":"#DIV/0!"},{"$error":"#DIV/0!"},{"$error":"#DIV/0!"},{"$error":"#DIV/0!"},{"$error":"#DIV/0!"},{"$error":"#DIV/0!"}]
[null,null,null,null,0,0,0,{"$error":"#DIV/0!"},{"$error":"#DIV/0!"},{"$error":"#DIV/0!"},{"$error":"#DIV/0!"},{"$error":"#DIV/0!"},{"$error":"#DIV/0!"}]
[null,null,null,null,0,0,0,{"$error":"#DIV/0!"},{"$error":"#DIV/0!"},{"$error":"#DIV/0!"},{"$error":"#DIV/0!"},{"$error":"#DIV/0!"},{"$error":"#DIV/0!"}]
[null,null,null,null,0,0,0,{"$error":"#DIV/0!"},{"$error":"#DIV/0!"},{"$error":"#DIV/0!"},{"$error":"#DIV/0!"},{"$error":"#DIV/0!"},{"$error":"#DIV/0!"}]
[null,null,null,null,0,0,0,{"$error":"#DIV/0!"},{"$error":"#DIV/0!"},{"$error":"#DIV/0!"},{"$error":"#DIV/0!"},{"$error":"#DIV/0!"},{"$error":"#DIV/0!"}]
[null,null,null,null,0,0,0,{"$error":"#DIV/0!"},{"$error":"#DIV/0!"},{"$error":"#DIV/0!"},{"$error":"#DIV/0!"},{"$error":"#DIV/0!"},{"$error":"#DIV/0!"}]
[null,null,null,null,0,0,0,{"$error":"#DIV/0!"},{"$error":"#DIV/0!"},{"$error":"#DIV/0!"},{"$error":"#DIV/0!"},{"$error":"#DIV/0!"},{"$error":"#DIV/0!"}]
[null,null,null,null,0,0,0,{"$error":"#DIV/0!"},{"$error":"#DIV/0!"},{"$error":"#DIV/0!"},{"$error":"#DIV/0!"},{"$error":"#DIV/0!"},{"$error":"#DIV/0!"}]
[null,null,null,null,0,0,0,{"$error":"#DIV/0!"},{"$error":"#DIV/0!"},{"$error":"#DIV/0!"},{"$error":"#DIV/0!"},{"$error":"#DIV/0!"},{"$error":"#DIV/0!"}]
[null,null,null,null,0,0,0,{"$error":"#DIV/0!"},{"$error":"#DIV/0!"},{"$error":"#DIV/0!"},{"$error":"#DIV/0!"},{"$error":"#DIV/0!"},{"$error":"#DIV/0!"}]
[null,null,null,null,0,0,0,{"$error":"#DIV/0!"},{"$error":"#DIV/0!"},{"$error":"#DIV/0!"},{"$error":"#DIV/0!"},{"$error":"#DIV/0!"},{"$error":"#DIV/0!"}]
[null,null,null,null,0,0,0,{"$error":"#DIV/0!"},{"$error":"#DIV/0!"},{"$error":"#DIV/0!"},{"$error":"#DIV/0!"},{"$error":"#DIV/0!"},{"$error":"#DIV/0!"}]
[null,null,null,null,0,0,0,{"$error":"#DIV/0!"},{"$error":"#DIV/0!"},{"$error":"#DIV/0!"},{"$error":"#DIV/0!"},{"$error":"#DIV/0!"},{"$error":"#DIV/0!"}]
[null,null,null,null,0,0,0,{"$error":"#DIV/0!"},{"$error":"#DIV/0!"},{"$error":"#DIV/0!"},{"$error":"#DIV/0!"},{"$error":"#DIV/0!"},{"$error":"#DIV/0!"}]
[null,null,null,null,0,0,0,{"$error":"#DIV/0!"},{"$error":"#DIV/0!"},{"$error":"#DIV/0!"},{"$error":"#DIV/0!"},{"$error":"#DIV/0!"},{"$error":"#DIV/0!"}]
[null,null,null,null,0,0,0,{"$error":"#DIV/0!"},{"$error":"#DIV/0!"},{"$error":"#DIV/0!"},{"$error":"#DIV/0!"},{"$error":"#DIV/0!"},{"$error":"#DIV/0!"}]
[null,null,null,null,0,0,0,{"$error":"#DIV/0!"},{"$error":"#DIV/0!"},{"$error":"#DIV/0!"},{"$error":"#DIV/0!"},{"$error":"#DIV/0!"},{"$error":"#DIV/0!"}]
[null,null,null,null,0,0,0,{"$error":"#DIV/0!"},{"$error":"#DIV/0!"},{"$error":"#DIV/0!"},{"$error":"#DIV/0!"},{"$error":"#DIV/0!"},{"$error":"#DIV/0!"}]
[null,null,null,null,0,0,0,{"$error":"#DIV/0!"},{"$error":"#DIV/0!"},{"$error":"#DIV/0!"},{"$error":"#DIV/0!"},{"$error":"#DIV/0!"},{"$error":"#DIV/0!"}]
[null,null,null,null,0,0,0,{"$error":"#DIV/0!"},{"$error":"#DIV/0!"},{"$error":"#DIV/0!"},{"$error":"#DIV/0!"},{"$error":"#DIV/0!"},{"$error":"#DIV/0!"}]
[null,null,null,null,0,0,0,{"$error":"#DIV/0!"},{"$error":"#DIV/0!"},{"$error":"#DIV/0!"},{"$error":"#DIV/0!"},{"$error":"#DIV/0!"},{"$error":"#DIV/0!"}]
[null,null,null,null,0,0,0,{"$error":"#DIV/0!"},{"$error":"#DIV/0!"},{"$error":"#DIV/0!"},{"$error":"#DIV/0!"},{"$error":"#DIV/0!"},{"$error":"#DIV/0!"}]
[null,null,null,null,0,0,0,{"$error":"#DIV/0!"},{"$error":"#DIV/0!"},{"$error":"#DIV/0!"},{"$error":"#DIV/0!"},{"$error":"#DIV/0!"},{"$error":"#DIV/0!"}]
[null,null,null,null,0,0,0,{"$error":"#DIV/0!"},{"$error":"#DIV/0!"},{"$error":"#DIV/0!"},{"$error":"#DIV/0!"},{"$error":"#DIV/0!"},{"$error":"#DIV/0!"}]
[null,null,null,null,0,0,0,{"$error":"#DIV/0!"},{"$error":"#DIV/0!"},{"$error":"#DIV/0!"},{"$error":"#DIV/0!"},{"$error":"#DIV/0!"},{"$error":"#DIV/0!"}]
[null,null,null,null,0,0,0,{"$error":"#DIV/0!"},{"$error":"#DIV/0!"},{"$error":"#DIV/0!"},{"$error":"#DIV/0!"},{"$error":"#DIV/0!"},{"$error":"#DIV/0!"}]
[null,null,null,null,0,0,0,{"$error":"#DIV/0!"},{"$error":"#DIV/0!"},{"$error":"#DIV/0!"},{"$error":"#DIV/0!"},{"$error":"#DIV/0!"},{"$error":"#DIV/0!"}]
[null,null,null,null,0,0,0,{"$error":"#DIV/0!"},{"$error":"#DIV/0!"},{"$error":"#DIV/0!"},{"$error":"#DIV/0!"},{"$error":"#DIV/0!"},{"$error":"#DIV/0!"}]
[null,null,null,null,0,0,0,{"$error":"#DIV/0!"},{"$error":"#DIV/0!"},{"$error":"#DIV/0!"},{"$error":"#DIV/0!"},{"$error":"#DIV/0!"},{"$error":"#DIV/0!"}]
[null,null,null,null,0,0,0,{"$error":"#DIV/0!"},{"$error":"#DIV/0!"},{"$error":"#DIV/0!"},{"$error":"#DIV/0!"},{"$error":"#DIV/0!"},{"$error":"#DIV/0!"}]
[null,null,null,null,0,0,0,{"$error":"#DIV/0!"},{"$error":"#DIV/0!"},{"$error":"#DIV/0!"},{"$error":"#DIV/0!"},{"$error":"#DIV/0!"},{"$error":"#DIV/0!"}]
[null,null,null,null,{"$f":"C514+D514","v":0},{"$f":"C514*D514","v":0},{"$f":"B514*E514","v":0},{"$f":"G514/F514","v":{"$error":"#DIV/0!"}},{"$f":"SQRT(H514)","v":{"$error":"#DIV/0!"}},{"$f":"I514^2","v":{"$error":"#DIV/0!"}},{"$f":"SQRT(((E514/F514)+(J514/(2*E514))))","v":{"$error":"#DIV/0!"}},{"$f":"I514-(1.96*K514)","v":{"$error":"#DIV/0!"}},{"$f":"I514+(1.96*K514)","v":{"$error":"#DIV/0!"}}]
[null,null,null,null,0,0,0,{"$error":"#DIV/0!"},{"$error":"#DIV/0!"},{"$error":"#DIV/0!"},{"$error":"#DIV/0!"},{"$error":"#DIV/0!"},{"$error":"#DIV/0!"}]
[null,null,null,null,0,0,0,{"$error":"#DIV/0!"},{"$error":"#DIV/0!"},{"$error":"#DIV/0!"},{"$error":"#DIV/0!"},{"$error":"#DIV/0!"},{"$error":"#DIV/0!"}]
[null,null,null,null,0,0,0,{"$error":"#DIV/0!"},{"$error":"#DIV/0!"},{"$error":"#DIV/0!"},{"$error":"#DIV/0!"},{"$error":"#DIV/0!"},{"$error":"#DIV/0!"}]
[null,null,null,null,0,0,0,{"$error":"#DIV/0!"},{"$error":"#DIV/0!"},{"$error":"#DIV/0!"},{"$error":"#DIV/0!"},{"$error":"#DIV/0!"},{"$error":"#DIV/0!"}]
[null,null,null,null,0,0,0,{"$error":"#DIV/0!"},{"$error":"#DIV/0!"},{"$error":"#DIV/0!"},{"$error":"#DIV/0!"},{"$error":"#DIV/0!"},{"$error":"#DIV/0!"}]
[null,null,null,null,0,0,0,{"$error":"#DIV/0!"},{"$error":"#DIV/0!"},{"$error":"#DIV/0!"},{"$error":"#DIV/0!"},{"$error":"#DIV/0!"},{"$error":"#DIV/0!"}]
[null,null,null,null,0,0,0,{"$error":"#DIV/0!"},{"$error":"#DIV/0!"},{"$error":"#DIV/0!"},{"$error":"#DIV/0!"},{"$error":"#DIV/0!"},{"$error":"#DIV/0!"}]
[null,null,null,null,0,0,0,{"$error":"#DIV/0!"},{"$error":"#DIV/0!"},{"$error":"#DIV/0!"},{"$error":"#DIV/0!"},{"$error":"#DIV/0!"},{"$error":"#DIV/0!"}]
[null,null,null,null,0,0,0,{"$error":"#DIV/0!"},{"$error":"#DIV/0!"},{"$error":"#DIV/0!"},{"$error":"#DIV/0!"},{"$error":"#DIV/0!"},{"$error":"#DIV/0!"}]
[null,null,null,null,0,0,0,{"$error":"#DIV/0!"},{"$error":"#DIV/0!"},{"$error":"#DIV/0!"},{"$error":"#DIV/0!"},{"$error":"#DIV/0!"},{"$error":"#DIV/0!"}]
[null,null,null,null,0,0,0,{"$error":"#DIV/0!"},{"$error":"#DIV/0!"},{"$error":"#DIV/0!"},{"$error":"#DIV/0!"},{"$error":"#DIV/0!"},{"$error":"#DIV/0!"}]
[null,null,null,null,0,0,0,{"$error":"#DIV/0!"},{"$error":"#DIV/0!"},{"$error":"#DIV/0!"},{"$error":"#DIV/0!"},{"$error":"#DIV/0!"},{"$error":"#DIV/0!"}]
[null,null,null,null,0,0,0,{"$error":"#DIV/0!"},{"$error":"#DIV/0!"},{"$error":"#DIV/0!"},{"$error":"#DIV/0!"},{"$error":"#DIV/0!"},{"$error":"#DIV/0!"}]
[null,null,null,null,0,0,0,{"$error":"#DIV/0!"},{"$error":"#DIV/0!"},{"$error":"#DIV/0!"},{"$error":"#DIV/0!"},{"$error":"#DIV/0!"},{"$error":"#DIV/0!"}]
[null,null,null,null,0,0,0,{"$error":"#DIV/0!"},{"$error":"#DIV/0!"},{"$error":"#DIV/0!"},{"$error":"#DIV/0!"},{"$error":"#DIV/0!"},{"$error":"#DIV/0!"}]
[null,null,null,null,0,0,0,{"$error":"#DIV/0!"},{"$error":"#DIV/0!"},{"$error":"#DIV/0!"},{"$error":"#DIV/0!"},{"$error":"#DIV/0!"},{"$error":"#DIV/0!"}]
[null,null,null,null,0,0,0,{"$error":"#DIV/0!"},{"$error":"#DIV/0!"},{"$error":"#DIV/0!"},{"$error":"#DIV/0!"},{"$error":"#DIV/0!"},{"$error":"#DIV/0!"}]
[null,null,null,null,0,0,0,{"$error":"#DIV/0!"},{"$error":"#DIV/0!"},{"$error":"#DIV/0!"},{"$error":"#DIV/0!"},{"$error":"#DIV/0!"},{"$error":"#DIV/0!"}]
[null,null,null,null,0,0,0,{"$error":"#DIV/0!"},{"$error":"#DIV/0!"},{"$error":"#DIV/0!"},{"$error":"#DIV/0!"},{"$error":"#DIV/0!"},{"$error":"#DIV/0!"}]
[null,null,null,null,0,0,0,{"$error":"#DIV/0!"},{"$error":"#DIV/0!"},{"$error":"#DIV/0!"},{"$error":"#DIV/0!"},{"$error":"#DIV/0!"},{"$error":"#DIV/0!"}]
[null,null,null,null,0,0,0,{"$error":"#DIV/0!"},{"$error":"#DIV/0!"},{"$error":"#DIV/0!"},{"$error":"#DIV/0!"},{"$error":"#DIV/0!"},{"$error":"#DIV/0!"}]
[null,null,null,null,0,0,0,{"$error":"#DIV/0!"},{"$error":"#DIV/0!"},{"$error":"#DIV/0!"},{"$error":"#DIV/0!"},{"$error":"#DIV/0!"},{"$error":"#DIV/0!"}]
[null,null,null,null,0,0,0,{"$error":"#DIV/0!"},{"$error":"#DIV/0!"},{"$error":"#DIV/0!"},{"$error":"#DIV/0!"},{"$error":"#DIV/0!"},{"$error":"#DIV/0!"}]
[null,null,null,null,0,0,0,{"$error":"#DIV/0!"},{"$error":"#DIV/0!"},{"$error":"#DIV/0!"},{"$error":"#DIV/0!"},{"$error":"#DIV/0!"},{"$error":"#DIV/0!"}]
[null,null,null,null,0,0,0,{"$error":"#DIV/0!"},{"$error":"#DIV/0!"},{"$error":"#DIV/0!"},{"$error":"#DIV/0!"},{"$error":"#DIV/0!"},{"$error":"#DIV/0!"}]
[null,null,null,null,0,0,0,{"$error":"#DIV/0!"},{"$error":"#DIV/0!"},{"$error":"#DIV/0!"},{"$error":"#DIV/0!"},{"$error":"#DIV/0!"},{"$error":"#DIV/0!"}]
[null,null,null,null,0,0,0,{"$error":"#DIV/0!"},{"$error":"#DIV/0!"},{"$error":"#DIV/0!"},{"$error":"#DIV/0!"},{"$error":"#DIV/0!"},{"$error":"#DIV/0!"}]
[null,null,null,null,0,0,0,{"$error":"#DIV/0!"},{"$error":"#DIV/0!"},{"$error":"#DIV/0!"},{"$error":"#DIV/0!"},{"$error":"#DIV/0!"},{"$error":"#DIV/0!"}]
[null,null,null,null,0,0,0,{"$error":"#DIV/0!"},{"$error":"#DIV/0!"},{"$error":"#DIV/0!"},{"$error":"#DIV/0!"},{"$error":"#DIV/0!"},{"$error":"#DIV/0!"}]
[null,null,null,null,0,0,0,{"$error":"#DIV/0!"},{"$error":"#DIV/0!"},{"$error":"#DIV/0!"},{"$error":"#DIV/0!"},{"$error":"#DIV/0!"},{"$error":"#DIV/0!"}]
[null,null,null,null,0,0,0,{"$error":"#DIV/0!"},{"$error":"#DIV/0!"},{"$error":"#DIV/0!"},{"$error":"#DIV/0!"},{"$error":"#DIV/0!"},{"$error":"#DIV/0!"}]
[null,null,null,null,0,0,0,{"$error":"#DIV/0!"},{"$error":"#DIV/0!"},{"$error":"#DIV/0!"},{"$error":"#DIV/0!"},{"$error":"#DIV/0!"},{"$error":"#DIV/0!"}]
[null,null,null,null,0,0,0,{"$error":"#DIV/0!"},{"$error":"#DIV/0!"},{"$error":"#DIV/0!"},{"$error":"#DIV/0!"},{"$error":"#DIV/0!"},{"$error":"#DIV/0!"}]
[null,null,null,null,0,0,0,{"$error":"#DIV/0!"},{"$error":"#DIV/0!"},{"$error":"#DIV/0!"},{"$error":"#DIV/0!"},{"$error":"#DIV/0!"},{"$error":"#DIV/0!"}]
[null,null,null,null,0,0,0,{"$error":"#DIV/0!"},{"$error":"#DIV/0!"},{"$error":"#DIV/0!"},{"$error":"#DIV/0!"},{"$error":"#DIV/0!"},{"$error":"#DIV/0!"}]
[null,null,null,null,0,0,0,{"$error":"#DIV/0!"},{"$error":"#DIV/0!"},{"$error":"#DIV/0!"},{"$error":"#DIV/0!"},{"$error":"#DIV/0!"},{"$error":"#DIV/0!"}]
[null,null,null,null,0,0,0,{"$error":"#DIV/0!"},{"$error":"#DIV/0!"},{"$error":"#DIV/0!"},{"$error":"#DIV/0!"},{"$error":"#DIV/0!"},{"$error":"#DIV/0!"}]
[null,null,null,null,0,0,0,{"$error":"#DIV/0!"},{"$error":"#DIV/0!"},{"$error":"#DIV/0!"},{"$error":"#DIV/0!"},{"$error":"#DIV/0!"},{"$error":"#DIV/0!"}]
[null,null,null,null,0,0,0,{"$error":"#DIV/0!"},{"$error":"#DIV/0!"},{"$error":"#DIV/0!"},{"$error":"#DIV/0!"},{"$error":"#DIV/0!"},{"$error":"#DIV/0!"}]
[null,null,null,null,0,0,0,{"$error":"#DIV/0!"},{"$error":"#DIV/0!"},{"$error":"#DIV/0!"},{"$error":"#DIV/0!"},{"$error":"#DIV/0!"},{"$error":"#DIV/0!"}]
[null,null,null,null,0,0,0,{"$error":"#DIV/0!"},{"$error":"#DIV/0!"},{"$error":"#DIV/0!"},{"$error":"#DIV/0!"},{"$error":"#DIV/0!"},{"$error":"#DIV/0!"}]
[null,null,null,null,0,0,0,{"$error":"#DIV/0!"},{"$error":"#DIV/0!"},{"$error":"#DIV/0!"},{"$error":"#DIV/0!"},{"$error":"#DIV/0!"},{"$error":"#DIV/0!"}]
[null,null,null,null,0,0,0,{"$error":"#DIV/0!"},{"$error":"#DIV/0!"},{"$error":"#DIV/0!"},{"$error":"#DIV/0!"},{"$error":"#DIV/0!"},{"$error":"#DIV/0!"}]
[null,null,null,null,0,0,0,{"$error":"#DIV/0!"},{"$error":"#DIV/0!"},{"$error":"#DIV/0!"},{"$error":"#DIV/0!"},{"$error":"#DIV/0!"},{"$error":"#DIV/0!"}]
[null,null,null,null,0,0,0,{"$error":"#DIV/0!"},{"$error":"#DIV/0!"},{"$error":"#DIV/0!"},{"$error":"#DIV/0!"},{"$error":"#DIV/0!"},{"$error":"#DIV/0!"}]
[null,null,null,null,0,0,0,{"$error":"#DIV/0!"},{"$error":"#DIV/0!"},{"$error":"#DIV/0!"},{"$error":"#DIV/0!"},{"$error":"#DIV/0!"},{"$error":"#DIV/0!"}]
[null,null,null,null,0,0,0,{"$error":"#DIV/0!"},{"$error":"#DIV/0!"},{"$error":"#DIV/0!"},{"$error":"#DIV/0!"},{"$error":"#DIV/0!"},{"$error":"#DIV/0!"}]
[null,null,null,null,0,0,0,{"$error":"#DIV/0!"},{"$error":"#DIV/0!"},{"$error":"#DIV/0!"},{"$error":"#DIV/0!"},{"$error":"#DIV/0!"},{"$error":"#DIV/0!"}]
[null,null,null,null,0,0,0,{"$error":"#DIV/0!"},{"$error":"#DIV/0!"},{"$error":"#DIV/0!"},{"$error":"#DIV/0!"},{"$error":"#DIV/0!"},{"$error":"#DIV/0!"}]
[null,null,null,null,0,0,0,{"$error":"#DIV/0!"},{"$error":"#DIV/0!"},{"$error":"#DIV/0!"},{"$error":"#DIV/0!"},{"$error":"#DIV/0!"},{"$error":"#DIV/0!"}]
[null,null,null,null,0,0,0,{"$error":"#DIV/0!"},{"$error":"#DIV/0!"},{"$error":"#DIV/0!"},{"$error":"#DIV/0!"},{"$error":"#DIV/0!"},{"$error":"#DIV/0!"}]
[null,null,null,null,0,0,0,{"$error":"#DIV/0!"},{"$error":"#DIV/0!"},{"$error":"#DIV/0!"},{"$error":"#DIV/0!"},{"$error":"#DIV/0!"},{"$error":"#DIV/0!"}]
[null,null,null,null,0,0,0,{"$error":"#DIV/0!"},{"$error":"#DIV/0!"},{"$error":"#DIV/0!"},{"$error":"#DIV/0!"},{"$error":"#DIV/0!"},{"$error":"#DIV/0!"}]
[null,null,null,null,0,0,0,{"$error":"#DIV/0!"},{"$error":"#DIV/0!"},{"$error":"#DIV/0!"},{"$error":"#DIV/0!"},{"$error":"#DIV/0!"},{"$error":"#DIV/0!"}]
[null,null,null,null,0,0,0,{"$error":"#DIV/0!"},{"$error":"#DIV/0!"},{"$error":"#DIV/0!"},{"$error":"#DIV/0!"},{"$error":"#DIV/0!"},{"$error":"#DIV/0!"}]
[null,null,null,null,0,0,0,{"$error":"#DIV/0!"},{"$error":"#DIV/0!"},{"$error":"#DIV/0!"},{"$error":"#DIV/0!"},{"$error":"#DIV/0!"},{"$error":"#DIV/0!"}]
[null,null,null,null,0,0,0,{"$error":"#DIV/0!"},{"$error":"#DIV/0!"},{"$error":"#DIV/0!"},{"$error":"#DIV/0!"},{"$error":"#DIV/0!"},{"$error":"#DIV/0!"}]
[null,null,null,null,0,0,0,{"$error":"#DIV/0!"},{"$error":"#DIV/0!"},{"$error":"#DIV/0!"},{"$error":"#DIV/0!"},{"$error":"#DIV/0!"},{"$error":"#DIV/0!"}]
[null,null,null,null,0,0,0,{"$error":"#DIV/0!"},{"$error":"#DIV/0!"},{"$error":"#DIV/0!"},{"$error":"#DIV/0!"},{"$error":"#DIV/0!"},{"$error":"#DIV/0!"}]
[null,null,null,null,0,0,0,{"$error":"#DIV/0!"},{"$error":"#DIV/0!"},{"$error":"#DIV/0!"},{"$error":"#DIV/0!"},{"$error":"#DIV/0!"},{"$error":"#DIV/0!"}]
[null,null,null,null,0,0,0,{"$error":"#DIV/0!"},{"$error":"#DIV/0!"},{"$error":"#DIV/0!"},{"$error":"#DIV/0!"},{"$error":"#DIV/0!"},{"$error":"#DIV/0!"}]
[null,null,null,null,0,0,0,{"$error":"#DIV/0!"},{"$error":"#DIV/0!"},{"$error":"#DIV/0!"},{"$error":"#DIV/0!"},{"$error":"#DIV/0!"},{"$error":"#DIV/0!"}]
[null,null,null,null,0,0,0,{"$error":"#DIV/0!"},{"$error":"#DIV/0!"},{"$error":"#DIV/0!"},{"$error":"#DIV/0!"},{"$error":"#DIV/0!"},{"$error":"#DIV/0!"}]
[null,null,null,null,{"$f":"C578+D578","v":0},{"$f":"C578*D578","v":0},{"$f":"B578*E578","v":0},{"$f":"G578/F578","v":{"$error":"#DIV/0!"}},{"$f":"SQRT(H578)","v":{"$error":"#DIV/0!"}},{"$f":"I578^2","v":{"$error":"#DIV/0!"}},{"$f":"SQRT(((E578/F578)+(J578/(2*E578))))","v":{"$error":"#DIV/0!"}},{"$f":"I578-(1.96*K578)","v":{"$error":"#DIV/0!"}},{"$f":"I578+(1.96*K578)","v":{"$error":"#DIV/0!"}}]
[null,null,null,null,0,0,0,{"$error":"#DIV/0!"},{"$error":"#DIV/0!"},{"$error":"#DIV/0!"},{"$error":"#DIV/0!"},{"$error":"#DIV/0!"},{"$error":"#DIV/0!"}]
[null,null,null,null,0,0,0,{"$error":"#DIV/0!"},{"$error":"#DIV/0!"},{"$error":"#DIV/0!"},{"$error":"#DIV/0!"},{"$error":"#DIV/0!"},{"$error":"#DIV/0!"}]
[null,null,null,null,0,0,0,{"$error":"#DIV/0!"},{"$error":"#DIV/0!"},{"$error":"#DIV/0!"},{"$error":"#DIV/0!"},{"$error":"#DIV/0!"},{"$error":"#DIV/0!"}]
[null,null,null,null,0,0,0,{"$error":"#DIV/0!"},{"$error":"#DIV/0!"},{"$error":"#DIV/0!"},{"$error":"#DIV/0!"},{"$error":"#DIV/0!"},{"$error":"#DIV/0!"}]
[null,null,null,null,0,0,0,{"$error":"#DIV/0!"},{"$error":"#DIV/0!"},{"$error":"#DIV/0!"},{"$error":"#DIV/0!"},{"$error":"#DIV/0!"},{"$error":"#DIV/0!"}]
[null,null,null,null,0,0,0,{"$error":"#DIV/0!"},{"$error":"#DIV/0!"},{"$error":"#DIV/0!"},{"$error":"#DIV/0!"},{"$error":"#DIV/0!"},{"$error":"#DIV/0!"}]
[null,null,null,null,0,0,0,{"$error":"#DIV/0!"},{"$error":"#DIV/0!"},{"$error":"#DIV/0!"},{"$error":"#DIV/0!"},{"$error":"#DIV/0!"},{"$error":"#DIV/0!"}]
[null,null,null,null,0,0,0,{"$error":"#DIV/0!"},{"$error":"#DIV/0!"},{"$error":"#DIV/0!"},{"$error":"#DIV/0!"},{"$error":"#DIV/0!"},{"$error":"#DIV/0!"}]
[null,null,null,null,0,0,0,{"$error":"#DIV/0!"},{"$error":"#DIV/0!"},{"$error":"#DIV/0!"},{"$error":"#DIV/0!"},{"$error":"#DIV/0!"},{"$error":"#DIV/0!"}]
[null,null,null,null,0,0,0,{"$error":"#DIV/0!"},{"$error":"#DIV/0!"},{"$error":"#DIV/0!"},{"$error":"#DIV/0!"},{"$error":"#DIV/0!"},{"$error":"#DIV/0!"}]
[null,null,null,null,0,0,0,{"$error":"#DIV/0!"},{"$error":"#DIV/0!"},{"$error":"#DIV/0!"},{"$error":"#DIV/0!"},{"$error":"#DIV/0!"},{"$error":"#DIV/0!"}]
[null,null,null,null,0,0,0,{"$error":"#DIV/0!"},{"$error":"#DIV/0!"},{"$error":"#DIV/0!"},{"$error":"#DIV/0!"},{"$error":"#DIV/0!"},{"$error":"#DIV/0!"}]
[null,null,null,null,0,0,0,{"$error":"#DIV/0!"},{"$error":"#DIV/0!"},{"$error":"#DIV/0!"},{"$error":"#DIV/0!"},{"$error":"#DIV/0!"},{"$error":"#DIV/0!"}]
[null,null,null,null,0,0,0,{"$error":"#DIV/0!"},{"$error":"#DIV/0!"},{"$error":"#DIV/0!"},{"$error":"#DIV/0!"},{"$error":"#DIV/0!"},{"$error":"#DIV/0!"}]
[null,null,null,null,0,0,0,{"$error":"#DIV/0!"},{"$error":"#DIV/0!"},{"$error":"#DIV/0!"},{"$error":"#DIV/0!"},{"$error":"#DIV/0!"},{"$error":"#DIV/0!"}]
[null,null,null,null,0,0,0,{"$error":"#DIV/0!"},{"$error":"#DIV/0!"},{"$error":"#DIV/0!"},{"$error":"#DIV/0!"},{"$error":"#DIV/0!"},{"$error":"#DIV/0!"}]
[null,null,null,null,0,0,0,{"$error":"#DIV/0!"},{"$error":"#DIV/0!"},{"$error":"#DIV/0!"},{"$error":"#DIV/0!"},{"$error":"#DIV/0!"},{"$error":"#DIV/0!"}]
[null,null,null,null,0,0,0,{"$error":"#DIV/0!"},{"$error":"#DIV/0!"},{"$error":"#DIV/0!"},{"$error":"#DIV/0!"},{"$error":"#DIV/0!"},{"$error":"#DIV/0!"}]
[null,null,null,null,0,0,0,{"$error":"#DIV/0!"},{"$error":"#DIV/0!"},{"$error":"#DIV/0!"},{"$error":"#DIV/0!"},{"$error":"#DIV/0!"},{"$error":"#DIV/0!"}]
[null,null,null,null,0,0,0,{"$error":"#DIV/0!"},{"$error":"#DIV/0!"},{"$error":"#DIV/0!"},{"$error":"#DIV/0!"},{"$error":"#DIV/0!"},{"$error":"#DIV/0!"}]
[null,null,null,null,0,0,0,{"$error":"#DIV/0!"},{"$error":"#DIV/0!"},{"$error":"#DIV/0!"},{"$error":"#DIV/0!"},{"$error":"#DIV/0!"},{"$error":"#DIV/0!"}]
[null,null,null,null,0,0,0,{"$error":"#DIV/0!"},{"$error":"#DIV/0!"},{"$error":"#DIV/0!"},{"$error":"#DIV/0!"},{"$error":"#DIV/0!"},{"$error":"#DIV/0!"}]
[null,null,null,null,0,0,0,{"$error":"#DIV/0!"},{"$error":"#DIV/0!"},{"$error":"#DIV/0!"},{"$error":"#DIV/0!"},{"$error":"#DIV/0!"},{"$error":"#DIV/0!"}]
[null,null,null,null,0,0,0,{"$error":"#DIV/0!"},{"$error":"#DIV/0!"},{"$error":"#DIV/0!"},{"$error":"#DIV/0!"},{"$error":"#DIV/0!"},{"$error":"#DIV/0!"}]
[null,null,null,null,0,0,0,{"$error":"#DIV/0!"},{"$error":"#DIV/0!"},{"$error":"#DIV/0!"},{"$error":"#DIV/0!"},{"$error":"#DIV/0!"},{"$error":"#DIV/0!"}]
[null,null,null,null,0,0,0,{"$error":"#DIV/0!"},{"$error":"#DIV/0!"},{"$error":"#DIV/0!"},{"$error":"#DIV/0!"},{"$error":"#DIV/0!"},{"$error":"#DIV/0!"}]
[null,null,null,null,0,0,0,{"$error":"#DIV/0!"},{"$error":"#DIV/0!"},{"$error":"#DIV/0!"},{"$error":"#DIV/0!"},{"$error":"#DIV/0!"},{"$error":"#DIV/0!"}]
[null,null,null,null,0,0,0,{"$error":"#DIV/0!"},{"$error":"#DIV/0!"},{"$error":"#DIV/0!"},{"$error":"#DIV/0!"},{"$error":"#DIV/0!"},{"$error":"#DIV/0!"}]
[null,null,null,null,0,0,0,{"$error":"#DIV/0!"},{"$error":"#DIV/0!"},{"$error":"#DIV/0!"},{"$error":"#DIV/0!"},{"$error":"#DIV/0!"},{"$error":"#DIV/0!"}]
[null,null,null,null,0,0,0,{"$error":"#DIV/0!"},{"$error":"#DIV/0!"},{"$error":"#DIV/0!"},{"$error":"#DIV/0!"},{"$error":"#DIV/0!"},{"$error":"#DIV/0!"}]
[null,null,null,null,0,0,0,{"$error":"#DIV/0!"},{"$error":"#DIV/0!"},{"$error":"#DIV/0!"},{"$error":"#DIV/0!"},{"$error":"#DIV/0!"},{"$error":"#DIV/0!"}]
[null,null,null,null,0,0,0,{"$error":"#DIV/0!"},{"$error":"#DIV/0!"},{"$error":"#DIV/0!"},{"$error":"#DIV/0!"},{"$error":"#DIV/0!"},{"$error":"#DIV/0!"}]
[null,null,null,null,0,0,0,{"$error":"#DIV/0!"},{"$error":"#DIV/0!"},{"$error":"#DIV/0!"},{"$error":"#DIV/0!"},{"$error":"#DIV/0!"},{"$error":"#DIV/0!"}]
[null,null,null,null,0,0,0,{"$error":"#DIV/0!"},{"$error":"#DIV/0!"},{"$error":"#DIV/0!"},{"$error":"#DIV/0!"},{"$error":"#DIV/0!"},{"$error":"#DIV/0!"}]
[null,null,null,null,0,0,0,{"$error":"#DIV/0!"},{"$error":"#DIV/0!"},{"$error":"#DIV/0!"},{"$error":"#DIV/0!"},{"$error":"#DIV/0!"},{"$error":"#DIV/0!"}]
[null,null,null,null,0,0,0,{"$error":"#DIV/0!"},{"$error":"#DIV/0!"},{"$error":"#DIV/0!"},{"$error":"#DIV/0!"},{"$error":"#DIV/0!"},{"$error":"#DIV/0!"}]
[null,null,null,null,0,0,0,{"$error":"#DIV/0!"},{"$error":"#DIV/0!"},{"$error":"#DIV/0!"},{"$error":"#DIV/0!"},{"$error":"#DIV/0!"},{"$error":"#DIV/0!"}]
[null,null,null,null,0,0,0,{"$error":"#DIV/0!"},{"$error":"#DIV/0!"},{"$error":"#DIV/0!"},{"$error":"#DIV/0!"},{"$error":"#DIV/0!"},{"$error":"#DIV/0!"}]
[null,null,null,null,0,0,0,{"$error":"#DIV/0!"},{"$error":"#DIV/0!"},{"$error":"#DIV/0!"},{"$error":"#DIV/0!"},{"$error":"#DIV/0!"},{"$error":"#DIV/0!"}]
[null,null,null,null,0,0,0,{"$error":"#DIV/0!"},{"$error":"#DIV/0!"},{"$error":"#DIV/0!"},{"$error":"#DIV/0!"},{"$error":"#DIV/0!"},{"$error":"#DIV/0!"}]
[null,null,null,null,0,0,0,{"$error":"#DIV/0!"},{"$error":"#DIV/0!"},{"$error":"#DIV/0!"},{"$error":"#DIV/0!"},{"$error":"#DIV/0!"},{"$error":"#DIV/0!"}]
[null,null,null,null,0,0,0,{"$error":"#DIV/0!"},{"$error":"#DIV/0!"},{"$error":"#DIV/0!"},{"$error":"#DIV/0!"},{"$error":"#DIV/0!"},{"$error":"#DIV/0!"}]
[null,null,null,null,0,0,0,{"$error":"#DIV/0!"},{"$error":"#DIV/0!"},{"$error":"#DIV/0!"},{"$error":"#DIV/0!"},{"$error":"#DIV/0!"},{"$error":"#DIV/0!"}]
[null,null,null,null,0,0,0,{"$error":"#DIV/0!"},{"$error":"#DIV/0!"},{"$error":"#DIV/0!"},{"$error":"#DIV/0!"},{"$error":"#DIV/0!"},{"$error":"#DIV/0!"}]
[null,null,null,null,0,0,0,{"$error":"#DIV/0!"},{"$error":"#DIV/0!"},{"$error":"#DIV/0!"},{"$error":"#DIV/0!"},{"$error":"#DIV/0!"},{"$error":"#DIV/0!"}]
[null,null,null,null,0,0,0,{"$error":"#DIV/0!"},{"$error":"#DIV/0!"},{"$error":"#DIV/0!"},{"$error":"#DIV/0!"},{"$error":"#DIV/0!"},{"$error":"#DIV/0!"}]
[null,null,null,null,0,0,0,{"$error":"#DIV/0!"},{"$error":"#DIV/0!"},{"$error":"#DIV/0!"},{"$error":"#DIV/0!"},{"$error":"#DIV/0!"},{"$error":"#DIV/0!"}]
[null,null,null,null,0,0,0,{"$error":"#DIV/0!"},{"$error":"#DIV/0!"},{"$error":"#DIV/0!"},{"$error":"#DIV/0!"},{"$error":"#DIV/0!"},{"$error":"#DIV/0!"}]
[null,null,null,null,0,0,0,{"$error":"#DIV/0!"},{"$error":"#DIV/0!"},{"$error":"#DIV/0!"},{"$error":"#DIV/0!"},{"$error":"#DIV/0!"},{"$error":"#DIV/0!"}]
[null,null,null,null,0,0,0,{"$error":"#DIV/0!"},{"$error":"#DIV/0!"},{"$error":"#DIV/0!"},{"$error":"#DIV/0!"},{"$error":"#DIV/0!"},{"$error":"#DIV/0!"}]
[null,null,null,null,0,0,0,{"$error":"#DIV/0!"},{"$error":"#DIV/0!"},{"$error":"#DIV/0!"},{"$error":"#DIV/0!"},{"$error":"#DIV/0!"},{"$error":"#DIV/0!"}]
[null,null,null,null,0,0,0,{"$error":"#DIV/0!"},{"$error":"#DIV/0!"},{"$error":"#DIV/0!"},{"$error":"#DIV/0!"},{"$error":"#DIV/0!"},{"$error":"#DIV/0!"}]
[null,null,null,null,0,0,0,{"$error":"#DIV/0!"},{"$error":"#DIV/0!"},{"$error":"#DIV/0!"},{"$error":"#DIV/0!"},{"$error":"#DIV/0!"},{"$error":"#DIV/0!"}]
[null,null,null,null,0,0,0,{"$error":"#DIV/0!"},{"$error":"#DIV/0!"},{"$error":"#DIV/0!"},{"$error":"#DIV/0!"},{"$error":"#DIV/0!"},{"$error":"#DIV/0!"}]
[null,null,null,null,0,0,0,{"$error":"#DIV/0!"},{"$error":"#DIV/0!"},{"$error":"#DIV/0!"},{"$error":"#DIV/0!"},{"$error":"#DIV/0!"},{"$error":"#DIV/0!"}]
[null,null,null,null,0,0,0,{"$error":"#DIV/0!"},{"$error":"#DIV/0!"},{"$error":"#DIV/0!"},{"$error":"#DIV/0!"},{"$error":"#DIV/0!"},{"$error":"#DIV/0!"}]
[null,null,null,null,0,0,0,{"$error":"#DIV/0!"},{"$error":"#DIV/0!"},{"$error":"#DIV/0!"},{"$error":"#DIV/0!"},{"$error":"#DIV/0!"},{"$error":"#DIV/0!"}]
[null,null,null,null,0,0,0,{"$error":"#DIV/0!"},{"$error":"#DIV/0!"},{"$error":"#DIV/0!"},{"$error":"#DIV/0!"},{"$error":"#DIV/0!"},{"$error":"#DIV/0!"}]
[null,null,null,null,0,0,0,{"$error":"#DIV/0!"},{"$error":"#DIV/0!"},{"$error":"#DIV/0!"},{"$error":"#DIV/0!"},{"$error":"#DIV/0!"},{"$error":"#DIV/0!"}]
[null,null,null,null,0,0,0,{"$error":"#DIV/0!"},{"$error":"#DIV/0!"},{"$error":"#DIV/0!"},{"$error":"#DIV/0!"},{"$error":"#DIV/0!"},{"$error":"#DIV/0!"}]
[null,null,null,null,0,0,0,{"$error":"#DIV/0!"},{"$error":"#DIV/0!"},{"$error":"#DIV/0!"},{"$error":"#DIV/0!"},{"$error":"#DIV/0!"},{"$error":"#DIV/0!"}]
[null,null,null,null,0,0,0,{"$error":"#DIV/0!"},{"$error":"#DIV/0!"},{"$error":"#DIV/0!"},{"$error":"#DIV/0!"},{"$error":"#DIV/0!"},{"$error":"#DIV/0!"}]
[null,null,null,null,0,0,0,{"$error":"#DIV/0!"},{"$error":"#DIV/0!"},{"$error":"#DIV/0!"},{"$error":"#DIV/0!"},{"$error":"#DIV/0!"},{"$error":"#DIV/0!"}]
[null,null,null,null,{"$f":"C642+D642","v":0},{"$f":"C642*D642","v":0},{"$f":"B642*E642","v":0},{"$f":"G642/F642","v":{"$error":"#DIV/0!"}},{"$f":"SQRT(H642)","v":{"$error":"#DIV/0!"}},{"$f":"I642^2","v":{"$error":"#DIV/0!"}},{"$f":"SQRT(((E642/F642)+(J642/(2*E642))))","v":{"$error":"#DIV/0!"}},{"$f":"I642-(1.96*K642)","v":{"$error":"#DIV/0!"}},{"$f":"I642+(1.96*K642)","v":{"$error":"#DIV/0!"}}]
[null,null,null,null,0,0,0,{"$error":"#DIV/0!"},{"$error":"#DIV/0!"},{"$error":"#DIV/0!"},{"$error":"#DIV/0!"},{"$error":"#DIV/0!"},{"$error":"#DIV/0!"}]
[null,null,null,null,0,0,0,{"$error":"#DIV/0!"},{"$error":"#DIV/0!"},{"$error":"#DIV/0!"},{"$error":"#DIV/0!"},{"$error":"#DIV/0!"},{"$error":"#DIV/0!"}]
[null,null,null,null,0,0,0,{"$error":"#DIV/0!"},{"$error":"#DIV/0!"},{"$error":"#DIV/0!"},{"$error":"#DIV/0!"},{"$error":"#DIV/0!"},{"$error":"#DIV/0!"}]
[null,null,null,null,0,0,0,{"$error":"#DIV/0!"},{"$error":"#DIV/0!"},{"$error":"#DIV/0!"},{"$error":"#DIV/0!"},{"$error":"#DIV/0!"},{"$error":"#DIV/0!"}]
[null,null,null,null,0,0,0,{"$error":"#DIV/0!"},{"$error":"#DIV/0!"},{"$error":"#DIV/0!"},{"$error":"#DIV/0!"},{"$error":"#DIV/0!"},{"$error":"#DIV/0!"}]
[null,null,null,null,0,0,0,{"$error":"#DIV/0!"},{"$error":"#DIV/0!"},{"$error":"#DIV/0!"},{"$error":"#DIV/0!"},{"$error":"#DIV/0!"},{"$error":"#DIV/0!"}]
[null,null,null,null,0,0,0,{"$error":"#DIV/0!"},{"$error":"#DIV/0!"},{"$error":"#DIV/0!"},{"$error":"#DIV/0!"},{"$error":"#DIV/0!"},{"$error":"#DIV/0!"}]
[null,null,null,null,0,0,0,{"$error":"#DIV/0!"},{"$error":"#DIV/0!"},{"$error":"#DIV/0!"},{"$error":"#DIV/0!"},{"$error":"#DIV/0!"},{"$error":"#DIV/0!"}]
[null,null,null,null,0,0,0,{"$error":"#DIV/0!"},{"$error":"#DIV/0!"},{"$error":"#DIV/0!"},{"$error":"#DIV/0!"},{"$error":"#DIV/0!"},{"$error":"#DIV/0!"}]
[null,null,null,null,0,0,0,{"$error":"#DIV/0!"},{"$error":"#DIV/0!"},{"$error":"#DIV/0!"},{"$error":"#DIV/0!"},{"$error":"#DIV/0!"},{"$error":"#DIV/0!"}]
[null,null,null,null,0,0,0,{"$error":"#DIV/0!"},{"$error":"#DIV/0!"},{"$error":"#DIV/0!"},{"$error":"#DIV/0!"},{"$error":"#DIV/0!"},{"$error":"#DIV/0!"}]
[null,null,null,null,0,0,0,{"$error":"#DIV/0!"},{"$error":"#DIV/0!"},{"$error":"#DIV/0!"},{"$error":"#DIV/0!"},{"$error":"#DIV/0!"},{"$error":"#DIV/0!"}]
[null,null,null,null,0,0,0,{"$error":"#DIV/0!"},{"$error":"#DIV/0!"},{"$error":"#DIV/0!"},{"$error":"#DIV/0!"},{"$error":"#DIV/0!"},{"$error":"#DIV/0!"}]
[null,null,null,null,0,0,0,{"$error":"#DIV/0!"},{"$error":"#DIV/0!"},{"$error":"#DIV/0!"},{"$error":"#DIV/0!"},{"$error":"#DIV/0!"},{"$error":"#DIV/0!"}]
[null,null,null,null,0,0,0,{"$error":"#DIV/0!"},{"$error":"#DIV/0!"},{"$error":"#DIV/0!"},{"$error":"#DIV/0!"},{"$error":"#DIV/0!"},{"$error":"#DIV/0!"}]
[null,null,null,null,0,0,0,{"$error":"#DIV/0!"},{"$error":"#DIV/0!"},{"$error":"#DIV/0!"},{"$error":"#DIV/0!"},{"$error":"#DIV/0!"},{"$error":"#DIV/0!"}]
[null,null,null,null,0,0,0,{"$error":"#DIV/0!"},{"$error":"#DIV/0!"},{"$error":"#DIV/0!"},{"$error":"#DIV/0!"},{"$error":"#DIV/0!"},{"$error":"#DIV/0!"}]
[null,null,null,null,0,0,0,{"$error":"#DIV/0!"},{"$error":"#DIV/0!"},{"$error":"#DIV/0!"},{"$error":"#DIV/0!"},{"$error":"#DIV/0!"},{"$error":"#DIV/0!"}]
[null,null,null,null,0,0,0,{"$error":"#DIV/0!"},{"$error":"#DIV/0!"},{"$error":"#DIV/0!"},{"$error":"#DIV/0!"},{"$error":"#DIV/0!"},{"$error":"#DIV/0!"}]
[null,null,null,null,0,0,0,{"$error":"#DIV/0!"},{"$error":"#DIV/0!"},{"$error":"#DIV/0!"},{"$error":"#DIV/0!"},{"$error":"#DIV/0!"},{"$error":"#DIV/0!"}]
[null,null,null,null,0,0,0,{"$error":"#DIV/0!"},{"$error":"#DIV/0!"},{"$error":"#DIV/0!"},{"$error":"#DIV/0!"},{"$error":"#DIV/0!"},{"$error":"#DIV/0!"}]
[null,null,null,null,0,0,0,{"$error":"#DIV/0!"},{"$error":"#DIV/0!"},{"$error":"#DIV/0!"},{"$error":"#DIV/0!"},{"$error":"#DIV/0!"},{"$error":"#DIV/0!"}]
[null,null,null,null,0,0,0,{"$error":"#DIV/0!"},{"$error":"#DIV/0!"},{"$error":"#DIV/0!"},{"$error":"#DIV/0!"},{"$error":"#DIV/0!"},{"$error":"#DIV/0!"}]
[null,null,null,null,0,0,0,{"$error":"#DIV/0!"},{"$error":"#DIV/0!"},{"$error":"#DIV/0!"},{"$error":"#DIV/0!"},{"$error":"#DIV/0!"},{"$error":"#DIV/0!"}]
[null,null,null,null,0,0,0,{"$error":"#DIV/0!"},{"$error":"#DIV/0!"},{"$error":"#DIV/0!"},{"$error":"#DIV/0!"},{"$error":"#DIV/0!"},{"$error":"#DIV/0!"}]
[null,null,null,null,0,0,0,{"$error":"#DIV/0!"},{"$error":"#DIV/0!"},{"$error":"#DIV/0!"},{"$error":"#DIV/0!"},{"$error":"#DIV/0!"},{"$error":"#DIV/0!"}]
[null,null,null,null,0,0,0,{"$error":"#DIV/0!"},{"$error":"#DIV/0!"},{"$error":"#DIV/0!"},{"$error":"#DIV/0!"},{"$error":"#DIV/0!"},{"$error":"#DIV/0!"}]
[null,null,null,null,0,0,0,{"$error":"#DIV/0!"},{"$error":"#DIV/0!"},{"$error":"#DIV/0!"},{"$error":"#DIV/0!"},{"$error":"#DIV/0!"},{"$error":"#DIV/0!"}]
[null,null,null,null,0,0,0,{"$error":"#DIV/0!"},{"$error":"#DIV/0!"},{"$error":"#DIV/0!"},{"$error":"#DIV/0!"},{"$error":"#DIV/0!"},{"$error":"#DIV/0!"}]

{"sheet":"ES from r","index":3,"n_rows":22,"n_cols":4,"rows_kept":22,"cut":false,"hidden":false,"merged":[]}
["Report","N","r","ES"]
[null,null,null,{"$f":"(2*C2)/(SQRT((1-(C2^2))))","v":0}]
[null,null,null,0]
[null,null,null,0]
[null,null,null,0]
[null,null,null,0]
[null,null,null,0]
[null,null,null,0]
[null,null,null,0]
[null,null,null,0]
[null,null,null,0]
[null,null,null,0]
[null,null,null,0]
[null,null,null,0]
[null,null,null,0]
[null,null,null,0]
[null,null,null,0]
[null,null,null,0]
[null,null,null,0]
[null,null,null,0]
[null,null,null,0]
[null,null,null,0]

{"sheet":"ES from Dichot Prop","index":4,"n_rows":28,"n_cols":8,"rows_kept":28,"cut":false,"hidden":false,"merged":[[0,5,0,7]]}
[null,null,null,null,null,"See Lipsey & Wilson, 2001, p. 188, 204"]
["Report","Proportion 1 (Control)","Proportion 2 (Treatment)","n1 (Control)","n2 (Treatment)","Arcsine Transform - Control","Arcsine Transform Treatment","ES"]
[null,null,null,null,null,{"$f":"2*ASIN(SQRT(B3))","v":0},0,{"$f":"G3-F3","v":0}]
[null,null,null,null,null,0,0,0]
[null,null,null,null,null,0,0,0]
[null,null,null,null,null,0,0,0]
[null,null,null,null,null,{"$f":"-2*ASIN(SQRT(B7))","v":0},0,0]
[null,null,null,null,null,{"$f":"-2*ASIN(SQRT(B8))","v":0},0,0]
[null,null,null,null,null,{"$f":"2*ASIN(SQRT(B9))","v":0},0,0]
[null,null,null,null,null,0,0,0]
[null,null,null,null,null,0,0,0]
[null,null,null,null,null,0,0,0]
[null,null,null,null,null,0,0,0]
[null,null,null,null,null,0,0,0]
[null,null,null,null,null,0,0,0]
[null,null,null,null,null,0,0,0]
[null,null,null,null,null,0,0,0]
[null,null,null,null,null,0,0,0]
[null,null,null,null,null,0,0,0]
[null,null,null,null,null,0,0,0]
[null,null,null,null,null,null,0,0]
[]
["Reported percentages were percentages of group - different denominators. Converted to total to make sure the percentages being compared had the same denominator."]
[]
[null,"Percent of Group Given","Number in Group","Number represented by percent of group","Proportion of total"]
["Treatment Group",null,null,{"$f":"B26*C26","v":0},{"$f":"D26/$C$28","v":{"$error":"#DIV/0!"}}]
["Control Group",null,null,{"$f":"B27*C27","v":0},{"$f":"D27/$C$28","v":{"$error":"#DIV/0!"}}]
[null,"Total N:",{"$f":"SUM(C26:C27)","v":0}]

{"sheet":"ES from t ","index":5,"n_rows":672,"n_cols":12,"rows_kept":672,"cut":false,"hidden":false,"merged":[]}
["Study","t","n1 (Control)","n2(Treatment)","n1+n2","n1*n2","Sqrt[(n1+n2)/(n1n2)]","d","d2","SEd","LO95d","HI95d"]
[null,null,null,null,{"$f":"C2+D2","v":0},{"$f":"C2*D2","v":0},{"$f":"SQRT((E2/F2))","v":{"$error":"#DIV/0!"}},{"$f":"B2*G2","v":{"$error":"#DIV/0!"}},{"$f":"H2^2","v":{"$error":"#DIV/0!"}},{"$f":"SQRT(((E2/F2)+(I2/(2*E2))))","v":{"$error":"#DIV/0!"}},{"$f":"H2-(1.96*J2)","v":{"$error":"#DIV/0!"}},{"$f":"H2+(1.96*J2)","v":{"$error":"#DIV/0!"}}]
[null,null,null,null,0,0,{"$error":"#DIV/0!"},{"$error":"#DIV/0!"},{"$error":"#DIV/0!"},{"$error":"#DIV/0!"},{"$error":"#DIV/0!"},{"$error":"#DIV/0!"}]
[null,null,null,null,0,0,{"$error":"#DIV/0!"},{"$error":"#DIV/0!"},{"$error":"#DIV/0!"},{"$error":"#DIV/0!"},{"$error":"#DIV/0!"},{"$error":"#DIV/0!"}]
[null,null,null,null,0,0,{"$error":"#DIV/0!"},{"$error":"#DIV/0!"},{"$error":"#DIV/0!"},{"$error":"#DIV/0!"},{"$error":"#DIV/0!"},{"$error":"#DIV/0!"}]
[null,null,null,null,0,0,{"$error":"#DIV/0!"},{"$error":"#DIV/0!"},{"$error":"#DIV/0!"},{"$error":"#DIV/0!"},{"$error":"#DIV/0!"},{"$error":"#DIV/0!"}]
[null,null,null,null,0,0,{"$error":"#DIV/0!"},{"$error":"#DIV/0!"},{"$error":"#DIV/0!"},{"$error":"#DIV/0!"},{"$error":"#DIV/0!"},{"$error":"#DIV/0!"}]
[null,null,null,null,0,0,{"$error":"#DIV/0!"},{"$error":"#DIV/0!"},{"$error":"#DIV/0!"},{"$error":"#DIV/0!"},{"$error":"#DIV/0!"},{"$error":"#DIV/0!"}]
[null,null,null,null,0,0,{"$error":"#DIV/0!"},{"$error":"#DIV/0!"},{"$error":"#DIV/0!"},{"$error":"#DIV/0!"},{"$error":"#DIV/0!"},{"$error":"#DIV/0!"}]
[null,null,null,null,0,0,{"$error":"#DIV/0!"},{"$error":"#DIV/0!"},{"$error":"#DIV/0!"},{"$error":"#DIV/0!"},{"$error":"#DIV/0!"},{"$error":"#DIV/0!"}]
[null,null,null,null,0,0,{"$error":"#DIV/0!"},{"$error":"#DIV/0!"},{"$error":"#DIV/0!"},{"$error":"#DIV/0!"},{"$error":"#DIV/0!"},{"$error":"#DIV/0!"}]
[null,null,null,null,0,0,{"$error":"#DIV/0!"},{"$error":"#DIV/0!"},{"$error":"#DIV/0!"},{"$error":"#DIV/0!"},{"$error":"#DIV/0!"},{"$error":"#DIV/0!"}]
[null,null,null,null,0,0,{"$error":"#DIV/0!"},{"$error":"#DIV/0!"},{"$error":"#DIV/0!"},{"$error":"#DIV/0!"},{"$error":"#DIV/0!"},{"$error":"#DIV/0!"}]
[null,null,null,null,0,0,{"$error":"#DIV/0!"},{"$error":"#DIV/0!"},{"$error":"#DIV/0!"},{"$error":"#DIV/0!"},{"$error":"#DIV/0!"},{"$error":"#DIV/0!"}]
[null,null,null,null,0,0,{"$error":"#DIV/0!"},{"$error":"#DIV/0!"},{"$error":"#DIV/0!"},{"$error":"#DIV/0!"},{"$error":"#DIV/0!"},{"$error":"#DIV/0!"}]
[null,null,null,null,0,0,{"$error":"#DIV/0!"},{"$error":"#DIV/0!"},{"$error":"#DIV/0!"},{"$error":"#DIV/0!"},{"$error":"#DIV/0!"},{"$error":"#DIV/0!"}]
[null,null,null,null,0,0,{"$error":"#DIV/0!"},{"$error":"#DIV/0!"},{"$error":"#DIV/0!"},{"$error":"#DIV/0!"},{"$error":"#DIV/0!"},{"$error":"#DIV/0!"}]
[null,null,null,null,0,0,{"$error":"#DIV/0!"},{"$error":"#DIV/0!"},{"$error":"#DIV/0!"},{"$error":"#DIV/0!"},{"$error":"#DIV/0!"},{"$error":"#DIV/0!"}]
[null,null,null,null,0,0,{"$error":"#DIV/0!"},{"$error":"#DIV/0!"},{"$error":"#DIV/0!"},{"$error":"#DIV/0!"},{"$error":"#DIV/0!"},{"$error":"#DIV/0!"}]
[null,null,null,null,0,0,{"$error":"#DIV/0!"},{"$error":"#DIV/0!"},{"$error":"#DIV/0!"},{"$error":"#DIV/0!"},{"$error":"#DIV/0!"},{"$error":"#DIV/0!"}]
[null,null,null,null,0,0,{"$error":"#DIV/0!"},{"$error":"#DIV/0!"},{"$error":"#DIV/0!"},{"$error":"#DIV/0!"},{"$error":"#DIV/0!"},{"$error":"#DIV/0!"}]
[null,null,null,null,0,0,{"$error":"#DIV/0!"},{"$error":"#DIV/0!"},{"$error":"#DIV/0!"},{"$error":"#DIV/0!"},{"$error":"#DIV/0!"},{"$error":"#DIV/0!"}]
[null,null,null,null,0,0,{"$error":"#DIV/0!"},{"$error":"#DIV/0!"},{"$error":"#DIV/0!"},{"$error":"#DIV/0!"},{"$error":"#DIV/0!"},{"$error":"#DIV/0!"}]
[null,null,null,null,0,0,{"$error":"#DIV/0!"},{"$error":"#DIV/0!"},{"$error":"#DIV/0!"},{"$error":"#DIV/0!"},{"$error":"#DIV/0!"},{"$error":"#DIV/0!"}]
[null,null,null,null,0,0,{"$error":"#DIV/0!"},{"$error":"#DIV/0!"},{"$error":"#DIV/0!"},{"$error":"#DIV/0!"},{"$error":"#DIV/0!"},{"$error":"#DIV/0!"}]
[null,null,null,null,0,0,{"$error":"#DIV/0!"},{"$error":"#DIV/0!"},{"$error":"#DIV/0!"},{"$error":"#DIV/0!"},{"$error":"#DIV/0!"},{"$error":"#DIV/0!"}]
[null,null,null,null,0,0,{"$error":"#DIV/0!"},{"$error":"#DIV/0!"},{"$error":"#DIV/0!"},{"$error":"#DIV/0!"},{"$error":"#DIV/0!"},{"$error":"#DIV/0!"}]
[null,null,null,null,0,0,{"$error":"#DIV/0!"},{"$error":"#DIV/0!"},{"$error":"#DIV/0!"},{"$error":"#DIV/0!"},{"$error":"#DIV/0!"},{"$error":"#DIV/0!"}]
[null,null,null,null,0,0,{"$error":"#DIV/0!"},{"$error":"#DIV/0!"},{"$error":"#DIV/0!"},{"$error":"#DIV/0!"},{"$error":"#DIV/0!"},{"$error":"#DIV/0!"}]
[null,null,null,null,0,0,{"$error":"#DIV/0!"},{"$error":"#DIV/0!"},{"$error":"#DIV/0!"},{"$error":"#DIV/0!"},{"$error":"#DIV/0!"},{"$error":"#DIV/0!"}]
[null,null,null,null,0,0,{"$error":"#DIV/0!"},{"$error":"#DIV/0!"},{"$error":"#DIV/0!"},{"$error":"#DIV/0!"},{"$error":"#DIV/0!"},{"$error":"#DIV/0!"}]
[null,null,null,null,0,0,{"$error":"#DIV/0!"},{"$error":"#DIV/0!"},{"$error":"#DIV/0!"},{"$error":"#DIV/0!"},{"$error":"#DIV/0!"},{"$error":"#DIV/0!"}]
[null,null,null,null,0,0,{"$error":"#DIV/0!"},{"$error":"#DIV/0!"},{"$error":"#DIV/0!"},{"$error":"#DIV/0!"},{"$error":"#DIV/0!"},{"$error":"#DIV/0!"}]
[null,null,null,null,0,0,{"$error":"#DIV/0!"},{"$error":"#DIV/0!"},{"$error":"#DIV/0!"},{"$error":"#DIV/0!"},{"$error":"#DIV/0!"},{"$error":"#DIV/0!"}]
[null,null,null,null,0,0,{"$error":"#DIV/0!"},{"$error":"#DIV/0!"},{"$error":"#DIV/0!"},{"$error":"#DIV/0!"},{"$error":"#DIV/0!"},{"$error":"#DIV/0!"}]
[null,null,null,null,0,0,{"$error":"#DIV/0!"},{"$error":"#DIV/0!"},{"$error":"#DIV/0!"},{"$error":"#DIV/0!"},{"$error":"#DIV/0!"},{"$error":"#DIV/0!"}]
[null,null,null,null,0,0,{"$error":"#DIV/0!"},{"$error":"#DIV/0!"},{"$error":"#DIV/0!"},{"$error":"#DIV/0!"},{"$error":"#DIV/0!"},{"$error":"#DIV/0!"}]
[null,null,null,null,0,0,{"$error":"#DIV/0!"},{"$error":"#DIV/0!"},{"$error":"#DIV/0!"},{"$error":"#DIV/0!"},{"$error":"#DIV/0!"},{"$error":"#DIV/0!"}]
[null,null,null,null,0,0,{"$error":"#DIV/0!"},{"$error":"#DIV/0!"},{"$error":"#DIV/0!"},{"$error":"#DIV/0!"},{"$error":"#DIV/0!"},{"$error":"#DIV/0!"}]
[null,null,null,null,0,0,{"$error":"#DIV/0!"},{"$error":"#DIV/0!"},{"$error":"#DIV/0!"},{"$error":"#DIV/0!"},{"$error":"#DIV/0!"},{"$error":"#DIV/0!"}]
[null,null,null,null,0,0,{"$error":"#DIV/0!"},{"$error":"#DIV/0!"},{"$error":"#DIV/0!"},{"$error":"#DIV/0!"},{"$error":"#DIV/0!"},{"$error":"#DIV/0!"}]
[null,null,null,null,0,0,{"$error":"#DIV/0!"},{"$error":"#DIV/0!"},{"$error":"#DIV/0!"},{"$error":"#DIV/0!"},{"$error":"#DIV/0!"},{"$error":"#DIV/0!"}]
[null,null,null,null,0,0,{"$error":"#DIV/0!"},{"$error":"#DIV/0!"},{"$error":"#DIV/0!"},{"$error":"#DIV/0!"},{"$error":"#DIV/0!"},{"$error":"#DIV/0!"}]
[null,null,null,null,0,0,{"$error":"#DIV/0!"},{"$error":"#DIV/0!"},{"$error":"#DIV/0!"},{"$error":"#DIV/0!"},{"$error":"#DIV/0!"},{"$error":"#DIV/0!"}]
[null,null,null,null,0,0,{"$error":"#DIV/0!"},{"$error":"#DIV/0!"},{"$error":"#DIV/0!"},{"$error":"#DIV/0!"},{"$error":"#DIV/0!"},{"$error":"#DIV/0!"}]
[null,null,null,null,0,0,{"$error":"#DIV/0!"},{"$error":"#DIV/0!"},{"$error":"#DIV/0!"},{"$error":"#DIV/0!"},{"$error":"#DIV/0!"},{"$error":"#DIV/0!"}]
[null,null,null,null,0,0,{"$error":"#DIV/0!"},{"$error":"#DIV/0!"},{"$error":"#DIV/0!"},{"$error":"#DIV/0!"},{"$error":"#DIV/0!"},{"$error":"#DIV/0!"}]
[null,null,null,null,0,0,{"$error":"#DIV/0!"},{"$error":"#DIV/0!"},{"$error":"#DIV/0!"},{"$error":"#DIV/0!"},{"$error":"#DIV/0!"},{"$error":"#DIV/0!"}]
[null,null,null,null,0,0,{"$error":"#DIV/0!"},{"$error":"#DIV/0!"},{"$error":"#DIV/0!"},{"$error":"#DIV/0!"},{"$error":"#DIV/0!"},{"$error":"#DIV/0!"}]
[null,null,null,null,0,0,{"$error":"#DIV/0!"},{"$error":"#DIV/0!"},{"$error":"#DIV/0!"},{"$error":"#DIV/0!"},{"$error":"#DIV/0!"},{"$error":"#DIV/0!"}]
[null,null,null,null,0,0,{"$error":"#DIV/0!"},{"$error":"#DIV/0!"},{"$error":"#DIV/0!"},{"$error":"#DIV/0!"},{"$error":"#DIV/0!"},{"$error":"#DIV/0!"}]
[null,null,null,null,0,0,{"$error":"#DIV/0!"},{"$error":"#DIV/0!"},{"$error":"#DIV/0!"},{"$error":"#DIV/0!"},{"$error":"#DIV/0!"},{"$error":"#DIV/0!"}]
[null,null,null,null,0,0,{"$error":"#DIV/0!"},{"$error":"#DIV/0!"},{"$error":"#DIV/0!"},{"$error":"#DIV/0!"},{"$error":"#DIV/0!"},{"$error":"#DIV/0!"}]
[null,null,null,null,0,0,{"$error":"#DIV/0!"},{"$error":"#DIV/0!"},{"$error":"#DIV/0!"},{"$error":"#DIV/0!"},{"$error":"#DIV/0!"},{"$error":"#DIV/0!"}]
[null,null,null,null,0,0,{"$error":"#DIV/0!"},{"$error":"#DIV/0!"},{"$error":"#DIV/0!"},{"$error":"#DIV/0!"},{"$error":"#DIV/0!"},{"$error":"#DIV/0!"}]
[null,null,null,null,0,0,{"$error":"#DIV/0!"},{"$error":"#DIV/0!"},{"$error":"#DIV/0!"},{"$error":"#DIV/0!"},{"$error":"#DIV/0!"},{"$error":"#DIV/0!"}]
[null,null,null,null,0,0,{"$error":"#DIV/0!"},{"$error":"#DIV/0!"},{"$error":"#DIV/0!"},{"$error":"#DIV/0!"},{"$error":"#DIV/0!"},{"$error":"#DIV/0!"}]
[null,null,null,null,0,0,{"$error":"#DIV/0!"},{"$error":"#DIV/0!"},{"$error":"#DIV/0!"},{"$error":"#DIV/0!"},{"$error":"#DIV/0!"},{"$error":"#DIV/0!"}]
[null,null,null,null,0,0,{"$error":"#DIV/0!"},{"$error":"#DIV/0!"},{"$error":"#DIV/0!"},{"$error":"#DIV/0!"},{"$error":"#DIV/0!"},{"$error":"#DIV/0!"}]
[null,null,null,null,0,0,{"$error":"#DIV/0!"},{"$error":"#DIV/0!"},{"$error":"#DIV/0!"},{"$error":"#DIV/0!"},{"$error":"#DIV/0!"},{"$error":"#DIV/0!"}]
[null,null,null,null,0,0,{"$error":"#DIV/0!"},{"$error":"#DIV/0!"},{"$error":"#DIV/0!"},{"$error":"#DIV/0!"},{"$error":"#DIV/0!"},{"$error":"#DIV/0!"}]
[null,null,null,null,0,0,{"$error":"#DIV/0!"},{"$error":"#DIV/0!"},{"$error":"#DIV/0!"},{"$error":"#DIV/0!"},{"$error":"#DIV/0!"},{"$error":"#DIV/0!"}]
[null,null,null,null,0,0,{"$error":"#DIV/0!"},{"$error":"#DIV/0!"},{"$error":"#DIV/0!"},{"$error":"#DIV/0!"},{"$error":"#DIV/0!"},{"$error":"#DIV/0!"}]
[null,null,null,null,0,0,{"$error":"#DIV/0!"},{"$error":"#DIV/0!"},{"$error":"#DIV/0!"},{"$error":"#DIV/0!"},{"$error":"#DIV/0!"},{"$error":"#DIV/0!"}]
[null,null,null,null,0,0,{"$error":"#DIV/0!"},{"$error":"#DIV/0!"},{"$error":"#DIV/0!"},{"$error":"#DIV/0!"},{"$error":"#DIV/0!"},{"$error":"#DIV/0!"}]
[null,null,null,null,{"$f":"C66+D66","v":0},{"$f":"C66*D66","v":0},{"$f":"SQRT((E66/F66))","v":{"$error":"#DIV/0!"}},{"$f":"B66*G66","v":{"$error":"#DIV/0!"}},{"$f":"H66^2","v":{"$error":"#DIV/0!"}},{"$f":"SQRT(((E66/F66)+(I66/(2*E66))))","v":{"$error":"#DIV/0!"}},{"$f":"H66-(1.96*J66)","v":{"$error":"#DIV/0!"}},{"$f":"H66+(1.96*J66)","v":{"$error":"#DIV/0!"}}]
[null,null,null,null,0,0,{"$error":"#DIV/0!"},{"$error":"#DIV/0!"},{"$error":"#DIV/0!"},{"$error":"#DIV/0!"},{"$error":"#DIV/0!"},{"$error":"#DIV/0!"}]
[null,null,null,null,0,0,{"$error":"#DIV/0!"},{"$error":"#DIV/0!"},{"$error":"#DIV/0!"},{"$error":"#DIV/0!"},{"$error":"#DIV/0!"},{"$error":"#DIV/0!"}]
[null,null,null,null,0,0,{"$error":"#DIV/0!"},{"$error":"#DIV/0!"},{"$error":"#DIV/0!"},{"$error":"#DIV/0!"},{"$error":"#DIV/0!"},{"$error":"#DIV/0!"}]
[null,null,null,null,0,0,{"$error":"#DIV/0!"},{"$error":"#DIV/0!"},{"$error":"#DIV/0!"},{"$error":"#DIV/0!"},{"$error":"#DIV/0!"},{"$error":"#DIV/0!"}]
[null,null,null,null,0,0,{"$error":"#DIV/0!"},{"$error":"#DIV/0!"},{"$error":"#DIV/0!"},{"$error":"#DIV/0!"},{"$error":"#DIV/0!"},{"$error":"#DIV/0!"}]
[null,null,null,null,0,0,{"$error":"#DIV/0!"},{"$error":"#DIV/0!"},{"$error":"#DIV/0!"},{"$error":"#DIV/0!"},{"$error":"#DIV/0!"},{"$error":"#DIV/0!"}]
[null,null,null,null,0,0,{"$error":"#DIV/0!"},{"$error":"#DIV/0!"},{"$error":"#DIV/0!"},{"$error":"#DIV/0!"},{"$error":"#DIV/0!"},{"$error":"#DIV/0!"}]
[null,null,null,null,0,0,{"$error":"#DIV/0!"},{"$error":"#DIV/0!"},{"$error":"#DIV/0!"},{"$error":"#DIV/0!"},{"$error":"#DIV/0!"},{"$error":"#DIV/0!"}]
[null,null,null,null,0,0,{"$error":"#DIV/0!"},{"$error":"#DIV/0!"},{"$error":"#DIV/0!"},{"$error":"#DIV/0!"},{"$error":"#DIV/0!"},{"$error":"#DIV/0!"}]
[null,null,null,null,0,0,{"$error":"#DIV/0!"},{"$error":"#DIV/0!"},{"$error":"#DIV/0!"},{"$error":"#DIV/0!"},{"$error":"#DIV/0!"},{"$error":"#DIV/0!"}]
[null,null,null,null,0,0,{"$error":"#DIV/0!"},{"$error":"#DIV/0!"},{"$error":"#DIV/0!"},{"$error":"#DIV/0!"},{"$error":"#DIV/0!"},{"$error":"#DIV/0!"}]
[null,null,null,null,0,0,{"$error":"#DIV/0!"},{"$error":"#DIV/0!"},{"$error":"#DIV/0!"},{"$error":"#DIV/0!"},{"$error":"#DIV/0!"},{"$error":"#DIV/0!"}]
[null,null,null,null,0,0,{"$error":"#DIV/0!"},{"$error":"#DIV/0!"},{"$error":"#DIV/0!"},{"$error":"#DIV/0!"},{"$error":"#DIV/0!"},{"$error":"#DIV/0!"}]
[null,null,null,null,0,0,{"$error":"#DIV/0!"},{"$error":"#DIV/0!"},{"$error":"#DIV/0!"},{"$error":"#DIV/0!"},{"$error":"#DIV/0!"},{"$error":"#DIV/0!"}]
[null,null,null,null,0,0,{"$error":"#DIV/0!"},{"$error":"#DIV/0!"},{"$error":"#DIV/0!"},{"$error":"#DIV/0!"},{"$error":"#DIV/0!"},{"$error":"#DIV/0!"}]
[null,null,null,null,0,0,{"$error":"#DIV/0!"},{"$error":"#DIV/0!"},{"$error":"#DIV/0!"},{"$error":"#DIV/0!"},{"$error":"#DIV/0!"},{"$error":"#DIV/0!"}]
[null,null,null,null,0,0,{"$error":"#DIV/0!"},{"$error":"#DIV/0!"},{"$error":"#DIV/0!"},{"$error":"#DIV/0!"},{"$error":"#DIV/0!"},{"$error":"#DIV/0!"}]
[null,null,null,null,0,0,{"$error":"#DIV/0!"},{"$error":"#DIV/0!"},{"$error":"#DIV/0!"},{"$error":"#DIV/0!"},{"$error":"#DIV/0!"},{"$error":"#DIV/0!"}]
[null,null,null,null,0,0,{"$error":"#DIV/0!"},{"$error":"#DIV/0!"},{"$error":"#DIV/0!"},{"$error":"#DIV/0!"},{"$error":"#DIV/0!"},{"$error":"#DIV/0!"}]
[null,null,null,null,0,0,{"$error":"#DIV/0!"},{"$error":"#DIV/0!"},{"$error":"#DIV/0!"},{"$error":"#DIV/0!"},{"$error":"#DIV/0!"},{"$error":"#DIV/0!"}]
[null,null,null,null,0,0,{"$error":"#DIV/0!"},{"$error":"#DIV/0!"},{"$error":"#DIV/0!"},{"$error":"#DIV/0!"},{"$error":"#DIV/0!"},{"$error":"#DIV/0!"}]
[null,null,null,null,0,0,{"$error":"#DIV/0!"},{"$error":"#DIV/0!"},{"$error":"#DIV/0!"},{"$error":"#DIV/0!"},{"$error":"#DIV/0!"},{"$error":"#DIV/0!"}]
[null,null,null,null,0,0,{"$error":"#DIV/0!"},{"$error":"#DIV/0!"},{"$error":"#DIV/0!"},{"$error":"#DIV/0!"},{"$error":"#DIV/0!"},{"$error":"#DIV/0!"}]
[null,null,null,null,0,0,{"$error":"#DIV/0!"},{"$error":"#DIV/0!"},{"$error":"#DIV/0!"},{"$error":"#DIV/0!"},{"$error":"#DIV/0!"},{"$error":"#DIV/0!"}]
[null,null,null,null,0,0,{"$error":"#DIV/0!"},{"$error":"#DIV/0!"},{"$error":"#DIV/0!"},{"$error":"#DIV/0!"},{"$error":"#DIV/0!"},{"$error":"#DIV/0!"}]
[null,null,null,null,0,0,{"$error":"#DIV/0!"},{"$error":"#DIV/0!"},{"$error":"#DIV/0!"},{"$error":"#DIV/0!"},{"$error":"#DIV/0!"},{"$error":"#DIV/0!"}]
[null,null,null,null,0,0,{"$error":"#DIV/0!"},{"$error":"#DIV/0!"},{"$error":"#DIV/0!"},{"$error":"#DIV/0!"},{"$error":"#DIV/0!"},{"$error":"#DIV/0!"}]
[null,null,null,null,0,0,{"$error":"#DIV/0!"},{"$error":"#DIV/0!"},{"$error":"#DIV/0!"},{"$error":"#DIV/0!"},{"$error":"#DIV/0!"},{"$error":"#DIV/0!"}]
[null,null,null,null,0,0,{"$error":"#DIV/0!"},{"$error":"#DIV/0!"},{"$error":"#DIV/0!"},{"$error":"#DIV/0!"},{"$error":"#DIV/0!"},{"$error":"#DIV/0!"}]
[null,null,null,null,0,0,{"$error":"#DIV/0!"},{"$error":"#DIV/0!"},{"$error":"#DIV/0!"},{"$error":"#DIV/0!"},{"$error":"#DIV/0!"},{"$error":"#DIV/0!"}]
[null,null,null,null,0,0,{"$error":"#DIV/0!"},{"$error":"#DIV/0!"},{"$error":"#DIV/0!"},{"$error":"#DIV/0!"},{"$error":"#DIV/0!"},{"$error":"#DIV/0!"}]
[null,null,null,null,0,0,{"$error":"#DIV/0!"},{"$error":"#DIV/0!"},{"$error":"#DIV/0!"},{"$error":"#DIV/0!"},{"$error":"#DIV/0!"},{"$error":"#DIV/0!"}]
[null,null,null,null,0,0,{"$error":"#DIV/0!"},{"$error":"#DIV/0!"},{"$error":"#DIV/0!"},{"$error":"#DIV/0!"},{"$error":"#DIV/0!"},{"$error":"#DIV/0!"}]
[null,null,null,null,0,0,{"$error":"#DIV/0!"},{"$error":"#DIV/0!"},{"$error":"#DIV/0!"},{"$error":"#DIV/0!"},{"$error":"#DIV/0!"},{"$error":"#DIV/0!"}]
[null,null,null,null,0,0,{"$error":"#DIV/0!"},{"$error":"#DIV/0!"},{"$error":"#DIV/0!"},{"$error":"#DIV/0!"},{"$error":"#DIV/0!"},{"$error":"#DIV/0!"}]
[null,null,null,null,0,0,{"$error":"#DIV/0!"},{"$error":"#DIV/0!"},{"$error":"#DIV/0!"},{"$error":"#DIV/0!"},{"$error":"#DIV/0!"},{"$error":"#DIV/0!"}]
[null,null,null,null,0,0,{"$error":"#DIV/0!"},{"$error":"#DIV/0!"},{"$error":"#DIV/0!"},{"$error":"#DIV/0!"},{"$error":"#DIV/0!"},{"$error":"#DIV/0!"}]
[null,null,null,null,0,0,{"$error":"#DIV/0!"},{"$error":"#DIV/0!"},{"$error":"#DIV/0!"},{"$error":"#DIV/0!"},{"$error":"#DIV/0!"},{"$error":"#DIV/0!"}]
[null,null,null,null,0,0,{"$error":"#DIV/0!"},{"$error":"#DIV/0!"},{"$error":"#DIV/0!"},{"$error":"#DIV/0!"},{"$error":"#DIV/0!"},{"$error":"#DIV/0!"}]
[null,null,null,null,0,0,{"$error":"#DIV/0!"},{"$error":"#DIV/0!"},{"$error":"#DIV/0!"},{"$error":"#DIV/0!"},{"$error":"#DIV/0!"},{"$error":"#DIV/0!"}]
[null,null,null,null,0,0,{"$error":"#DIV/0!"},{"$error":"#DIV/0!"},{"$error":"#DIV/0!"},{"$error":"#DIV/0!"},{"$error":"#DIV/0!"},{"$error":"#DIV/0!"}]
[null,null,null,null,0,0,{"$error":"#DIV/0!"},{"$error":"#DIV/0!"},{"$error":"#DIV/0!"},{"$error":"#DIV/0!"},{"$error":"#DIV/0!"},{"$error":"#DIV/0!"}]
[null,null,null,null,0,0,{"$error":"#DIV/0!"},{"$error":"#DIV/0!"},{"$error":"#DIV/0!"},{"$error":"#DIV/0!"},{"$error":"#DIV/0!"},{"$error":"#DIV/0!"}]
[null,null,null,null,0,0,{"$error":"#DIV/0!"},{"$error":"#DIV/0!"},{"$error":"#DIV/0!"},{"$error":"#DIV/0!"},{"$error":"#DIV/0!"},{"$error":"#DIV/0!"}]
[null,null,null,null,0,0,{"$error":"#DIV/0!"},{"$error":"#DIV/0!"},{"$error":"#DIV/0!"},{"$error":"#DIV/0!"},{"$error":"#DIV/0!"},{"$error":"#DIV/0!"}]
[null,null,null,null,0,0,{"$error":"#DIV/0!"},{"$error":"#DIV/0!"},{"$error":"#DIV/0!"},{"$error":"#DIV/0!"},{"$error":"#DIV/0!"},{"$error":"#DIV/0!"}]
[null,null,null,null,0,0,{"$error":"#DIV/0!"},{"$error":"#DIV/0!"},{"$error":"#DIV/0!"},{"$error":"#DIV/0!"},{"$error":"#DIV/0!"},{"$error":"#DIV/0!"}]
[null,null,null,null,0,0,{"$error":"#DIV/0!"},{"$error":"#DIV/0!"},{"$error":"#DIV/0!"},{"$error":"#DIV/0!"},{"$error":"#DIV/0!"},{"$error":"#DIV/0!"}]
[null,null,null,null,0,0,{"$error":"#DIV/0!"},{"$error":"#DIV/0!"},{"$error":"#DIV/0!"},{"$error":"#DIV/0!"},{"$error":"#DIV/0!"},{"$error":"#DIV/0!"}]
[null,null,null,null,0,0,{"$error":"#DIV/0!"},{"$error":"#DIV/0!"},{"$error":"#DIV/0!"},{"$error":"#DIV/0!"},{"$error":"#DIV/0!"},{"$error":"#DIV/0!"}]
[null,null,null,null,0,0,{"$error":"#DIV/0!"},{"$error":"#DIV/0!"},{"$error":"#DIV/0!"},{"$error":"#DIV/0!"},{"$error":"#DIV/0!"},{"$error":"#DIV/0!"}]
[null,null,null,null,0,0,{"$error":"#DIV/0!"},{"$error":"#DIV/0!"},{"$error":"#DIV/0!"},{"$error":"#DIV/0!"},{"$error":"#DIV/0!"},{"$error":"#DIV/0!"}]
[null,null,null,null,0,0,{"$error":"#DIV/0!"},{"$error":"#DIV/0!"},{"$error":"#DIV/0!"},{"$error":"#DIV/0!"},{"$error":"#DIV/0!"},{"$error":"#DIV/0!"}]
[null,null,null,null,0,0,{"$error":"#DIV/0!"},{"$error":"#DIV/0!"},{"$error":"#DIV/0!"},{"$error":"#DIV/0!"},{"$error":"#DIV/0!"},{"$error":"#DIV/0!"}]
[null,null,null,null,0,0,{"$error":"#DIV/0!"},{"$error":"#DIV/0!"},{"$error":"#DIV/0!"},{"$error":"#DIV/0!"},{"$error":"#DIV/0!"},{"$error":"#DIV/0!"}]
[null,null,null,null,0,0,{"$error":"#DIV/0!"},{"$error":"#DIV/0!"},{"$error":"#DIV/0!"},{"$error":"#DIV/0!"},{"$error":"#DIV/0!"},{"$error":"#DIV/0!"}]
[null,null,null,null,0,0,{"$error":"#DIV/0!"},{"$error":"#DIV/0!"},{"$error":"#DIV/0!"},{"$error":"#DIV/0!"},{"$error":"#DIV/0!"},{"$error":"#DIV/0!"}]
[null,null,null,null,0,0,{"$error":"#DIV/0!"},{"$error":"#DIV/0!"},{"$error":"#DIV/0!"},{"$error":"#DIV/0!"},{"$error":"#DIV/0!"},{"$error":"#DIV/0!"}]
[null,null,null,null,0,0,{"$error":"#DIV/0!"},{"$error":"#DIV/0!"},{"$error":"#DIV/0!"},{"$error":"#DIV/0!"},{"$error":"#DIV/0!"},{"$error":"#DIV/0!"}]
[null,null,null,null,0,0,{"$error":"#DIV/0!"},{"$error":"#DIV/0!"},{"$error":"#DIV/0!"},{"$error":"#DIV/0!"},{"$error":"#DIV/0!"},{"$error":"#DIV/0!"}]
[null,null,null,null,0,0,{"$error":"#DIV/0!"},{"$error":"#DIV/0!"},{"$error":"#DIV/0!"},{"$error":"#DIV/0!"},{"$error":"#DIV/0!"},{"$error":"#DIV/0!"}]
[null,null,null,null,0,0,{"$error":"#DIV/0!"},{"$error":"#DIV/0!"},{"$error":"#DIV/0!"},{"$error":"#DIV/0!"},{"$error":"#DIV/0!"},{"$error":"#DIV/0!"}]
[null,null,null,null,0,0,{"$error":"#DIV/0!"},{"$error":"#DIV/0!"},{"$error":"#DIV/0!"},{"$error":"#DIV/0!"},{"$error":"#DIV/0!"},{"$error":"#DIV/0!"}]
[null,null,null,null,{"$f":"C130+D130","v":0},{"$f":"C130*D130","v":0},{"$f":"SQRT((E130/F130))","v":{"$error":"#DIV/0!"}},{"$f":"B130*G130","v":{"$error":"#DIV/0!"}},{"$f":"H130^2","v":{"$error":"#DIV/0!"}},{"$f":"SQRT(((E130/F130)+(I130/(2*E130))))","v":{"$error":"#DIV/0!"}},{"$f":"H130-(1.96*J130)","v":{"$error":"#DIV/0!"}},{"$f":"H130+(1.96*J130)","v":{"$error":"#DIV/0!"}}]
[null,null,null,null,0,0,{"$error":"#DIV/0!"},{"$error":"#DIV/0!"},{"$error":"#DIV/0!"},{"$error":"#DIV/0!"},{"$error":"#DIV/0!"},{"$error":"#DIV/0!"}]
[null,null,null,null,0,0,{"$error":"#DIV/0!"},{"$error":"#DIV/0!"},{"$error":"#DIV/0!"},{"$error":"#DIV/0!"},{"$error":"#DIV/0!"},{"$error":"#DIV/0!"}]
[null,null,null,null,0,0,{"$error":"#DIV/0!"},{"$error":"#DIV/0!"},{"$error":"#DIV/0!"},{"$error":"#DIV/0!"},{"$error":"#DIV/0!"},{"$error":"#DIV/0!"}]
[null,null,null,null,0,0,{"$error":"#DIV/0!"},{"$error":"#DIV/0!"},{"$error":"#DIV/0!"},{"$error":"#DIV/0!"},{"$error":"#DIV/0!"},{"$error":"#DIV/0!"}]
[null,null,null,null,0,0,{"$error":"#DIV/0!"},{"$error":"#DIV/0!"},{"$error":"#DIV/0!"},{"$error":"#DIV/0!"},{"$error":"#DIV/0!"},{"$error":"#DIV/0!"}]
[null,null,null,null,0,0,{"$error":"#DIV/0!"},{"$error":"#DIV/0!"},{"$error":"#DIV/0!"},{"$error":"#DIV/0!"},{"$error":"#DIV/0!"},{"$error":"#DIV/0!"}]
[null,null,null,null,0,0,{"$error":"#DIV/0!"},{"$error":"#DIV/0!"},{"$error":"#DIV/0!"},{"$error":"#DIV/0!"},{"$error":"#DIV/0!"},{"$error":"#DIV/0!"}]
[null,null,null,null,0,0,{"$error":"#DIV/0!"},{"$error":"#DIV/0!"},{"$error":"#DIV/0!"},{"$error":"#DIV/0!"},{"$error":"#DIV/0!"},{"$error":"#DIV/0!"}]
[null,null,null,null,0,0,{"$error":"#DIV/0!"},{"$error":"#DIV/0!"},{"$error":"#DIV/0!"},{"$error":"#DIV/0!"},{"$error":"#DIV/0!"},{"$error":"#DIV/0!"}]
[null,null,null,null,0,0,{"$error":"#DIV/0!"},{"$error":"#DIV/0!"},{"$error":"#DIV/0!"},{"$error":"#DIV/0!"},{"$error":"#DIV/0!"},{"$error":"#DIV/0!"}]
[null,null,null,null,0,0,{"$error":"#DIV/0!"},{"$error":"#DIV/0!"},{"$error":"#DIV/0!"},{"$error":"#DIV/0!"},{"$error":"#DIV/0!"},{"$error":"#DIV/0!"}]
[null,null,null,null,0,0,{"$error":"#DIV/0!"},{"$error":"#DIV/0!"},{"$error":"#DIV/0!"},{"$error":"#DIV/0!"},{"$error":"#DIV/0!"},{"$error":"#DIV/0!"}]
[null,null,null,null,0,0,{"$error":"#DIV/0!"},{"$error":"#DIV/0!"},{"$error":"#DIV/0!"},{"$error":"#DIV/0!"},{"$error":"#DIV/0!"},{"$error":"#DIV/0!"}]
[null,null,null,null,0,0,{"$error":"#DIV/0!"},{"$error":"#DIV/0!"},{"$error":"#DIV/0!"},{"$error":"#DIV/0!"},{"$error":"#DIV/0!"},{"$error":"#DIV/0!"}]
[null,null,null,null,0,0,{"$error":"#DIV/0!"},{"$error":"#DIV/0!"},{"$error":"#DIV/0!"},{"$error":"#DIV/0!"},{"$error":"#DIV/0!"},{"$error":"#DIV/0!"}]
[null,null,null,null,0,0,{"$error":"#DIV/0!"},{"$error":"#DIV/0!"},{"$error":"#DIV/0!"},{"$error":"#DIV/0!"},{"$error":"#DIV/0!"},{"$error":"#DIV/0!"}]
[null,null,null,null,0,0,{"$error":"#DIV/0!"},{"$error":"#DIV/0!"},{"$error":"#DIV/0!"},{"$error":"#DIV/0!"},{"$error":"#DIV/0!"},{"$error":"#DIV/0!"}]
[null,null,null,null,0,0,{"$error":"#DIV/0!"},{"$error":"#DIV/0!"},{"$error":"#DIV/0!"},{"$error":"#DIV/0!"},{"$error":"#DIV/0!"},{"$error":"#DIV/0!"}]
[null,null,null,null,0,0,{"$error":"#DIV/0!"},{"$error":"#DIV/0!"},{"$error":"#DIV/0!"},{"$error":"#DIV/0!"},{"$error":"#DIV/0!"},{"$error":"#DIV/0!"}]
[null,null,null,null,0,0,{"$error":"#DIV/0!"},{"$error":"#DIV/0!"},{"$error":"#DIV/0!"},{"$error":"#DIV/0!"},{"$error":"#DIV/0!"},{"$error":"#DIV/0!"}]
[null,null,null,null,0,0,{"$error":"#DIV/0!"},{"$error":"#DIV/0!"},{"$error":"#DIV/0!"},{"$error":"#DIV/0!"},{"$error":"#DIV/0!"},{"$error":"#DIV/0!"}]
[null,null,null,null,0,0,{"$error":"#DIV/0!"},{"$error":"#DIV/0!"},{"$error":"#DIV/0!"},{"$error":"#DIV/0!"},{"$error":"#DIV/0!"},{"$error":"#DIV/0!"}]
[null,null,null,null,0,0,{"$error":"#DIV/0!"},{"$error":"#DIV/0!"},{"$error":"#DIV/0!"},{"$error":"#DIV/0!"},{"$error":"#DIV/0!"},{"$error":"#DIV/0!"}]
[null,null,null,null,0,0,{"$error":"#DIV/0!"},{"$error":"#DIV/0!"},{"$error":"#DIV/0!"},{"$error":"#DIV/0!"},{"$error":"#DIV/0!"},{"$error":"#DIV/0!"}]
[null,null,null,null,0,0,{"$error":"#DIV/0!"},{"$error":"#DIV/0!"},{"$error":"#DIV/0!"},{"$error":"#DIV/0!"},{"$error":"#DIV/0!"},{"$error":"#DIV/0!"}]
[null,null,null,null,0,0,{"$error":"#DIV/0!"},{"$error":"#DIV/0!"},{"$error":"#DIV/0!"},{"$error":"#DIV/0!"},{"$error":"#DIV/0!"},{"$error":"#DIV/0!"}]
[null,null,null,null,0,0,{"$error":"#DIV/0!"},{"$error":"#DIV/0!"},{"$error":"#DIV/0!"},{"$error":"#DIV/0!"},{"$error":"#DIV/0!"},{"$error":"#DIV/0!"}]
[null,null,null,null,0,0,{"$error":"#DIV/0!"},{"$error":"#DIV/0!"},{"$error":"#DIV/0!"},{"$error":"#DIV/0!"},{"$error":"#DIV/0!"},{"$error":"#DIV/0!"}]
[null,null,null,null,0,0,{"$error":"#DIV/0!"},{"$error":"#DIV/0!"},{"$error":"#DIV/0!"},{"$error":"#DIV/0!"},{"$error":"#DIV/0!"},{"$error":"#DIV/0!"}]
[null,null,null,null,0,0,{"$error":"#DIV/0!"},{"$error":"#DIV/0!"},{"$error":"#DIV/0!"},{"$error":"#DIV/0!"},{"$error":"#DIV/0!"},{"$error":"#DIV/0!"}]
[null,null,null,null,0,0,{"$error":"#DIV/0!"},{"$error":"#DIV/0!"},{"$error":"#DIV/0!"},{"$error":"#DIV/0!"},{"$error":"#DIV/0!"},{"$error":"#DIV/0!"}]
[null,null,null,null,0,0,{"$error":"#DIV/0!"},{"$error":"#DIV/0!"},{"$error":"#DIV/0!"},{"$error":"#DIV/0!"},{"$error":"#DIV/0!"},{"$error":"#DIV/0!"}]
[null,null,null,null,0,0,{"$error":"#DIV/0!"},{"$error":"#DIV/0!"},{"$error":"#DIV/0!"},{"$error":"#DIV/0!"},{"$error":"#DIV/0!"},{"$error":"#DIV/0!"}]
[null,null,null,null,0,0,{"$error":"#DIV/0!"},{"$error":"#DIV/0!"},{"$error":"#DIV/0!"},{"$error":"#DIV/0!"},{"$error":"#DIV/0!"},{"$error":"#DIV/0!"}]
[null,null,null,null,0,0,{"$error":"#DIV/0!"},{"$error":"#DIV/0!"},{"$error":"#DIV/0!"},{"$error":"#DIV/0!"},{"$error":"#DIV/0!"},{"$error":"#DIV/0!"}]
[null,null,null,null,0,0,{"$error":"#DIV/0!"},{"$error":"#DIV/0!"},{"$error":"#DIV/0!"},{"$error":"#DIV/0!"},{"$error":"#DIV/0!"},{"$error":"#DIV/0!"}]
[null,null,null,null,0,0,{"$error":"#DIV/0!"},{"$error":"#DIV/0!"},{"$error":"#DIV/0!"},{"$error":"#DIV/0!"},{"$error":"#DIV/0!"},{"$error":"#DIV/0!"}]
[null,null,null,null,0,0,{"$error":"#DIV/0!"},{"$error":"#DIV/0!"},{"$error":"#DIV/0!"},{"$error":"#DIV/0!"},{"$error":"#DIV/0!"},{"$error":"#DIV/0!"}]
[null,null,null,null,0,0,{"$error":"#DIV/0!"},{"$error":"#DIV/0!"},{"$error":"#DIV/0!"},{"$error":"#DIV/0!"},{"$error":"#DIV/0!"},{"$error":"#DIV/0!"}]
[null,null,null,null,0,0,{"$error":"#DIV/0!"},{"$error":"#DIV/0!"},{"$error":"#DIV/0!"},{"$error":"#DIV/0!"},{"$error":"#DIV/0!"},{"$error":"#DIV/0!"}]
[null,null,null,null,0,0,{"$error":"#DIV/0!"},{"$error":"#DIV/0!"},{"$error":"#DIV/0!"},{"$error":"#DIV/0!"},{"$error":"#DIV/0!"},{"$error":"#DIV/0!"}]
[null,null,null,null,0,0,{"$error":"#DIV/0!"},{"$error":"#DIV/0!"},{"$error":"#DIV/0!"},{"$error":"#DIV/0!"},{"$error":"#DIV/0!"},{"$error":"#DIV/0!"}]
[null,null,null,null,0,0,{"$error":"#DIV/0!"},{"$error":"#DIV/0!"},{"$error":"#DIV/0!"},{"$error":"#DIV/0!"},{"$error":"#DIV/0!"},{"$error":"#DIV/0!"}]
[null,null,null,null,0,0,{"$error":"#DIV/0!"},{"$error":"#DIV/0!"},{"$error":"#DIV/0!"},{"$error":"#DIV/0!"},{"$error":"#DIV/0!"},{"$error":"#DIV/0!"}]
[null,null,null,null,0,0,{"$error":"#DIV/0!"},{"$error":"#DIV/0!"},{"$error":"#DIV/0!"},{"$error":"#DIV/0!"},{"$error":"#DIV/0!"},{"$error":"#DIV/0!"}]
[null,null,null,null,0,0,{"$error":"#DIV/0!"},{"$error":"#DIV/0!"},{"$error":"#DIV/0!"},{"$error":"#DIV/0!"},{"$error":"#DIV/0!"},{"$error":"#DIV/0!"}]
[null,null,null,null,0,0,{"$error":"#DIV/0!"},{"$error":"#DIV/0!"},{"$error":"#DIV/0!"},{"$error":"#DIV/0!"},{"$error":"#DIV/0!"},{"$error":"#DIV/0!"}]
[null,null,null,null,0,0,{"$error":"#DIV/0!"},{"$error":"#DIV/0!"},{"$error":"#DIV/0!"},{"$error":"#DIV/0!"},{"$error":"#DIV/0!"},{"$error":"#DIV/0!"}]
[null,null,null,null,0,0,{"$error":"#DIV/0!"},{"$error":"#DIV/0!"},{"$error":"#DIV/0!"},{"$error":"#DIV/0!"},{"$error":"#DIV/0!"},{"$error":"#DIV/0!"}]
[null,null,null,null,0,0,{"$error":"#DIV/0!"},{"$error":"#DIV/0!"},{"$error":"#DIV/0!"},{"$error":"#DIV/0!"},{"$error":"#DIV/0!"},{"$error":"#DIV/0!"}]
[null,null,null,null,0,0,{"$error":"#DIV/0!"},{"$error":"#DIV/0!"},{"$error":"#DIV/0!"},{"$error":"#DIV/0!"},{"$error":"#DIV/0!"},{"$error":"#DIV/0!"}]
[null,null,null,null,0,0,{"$error":"#DIV/0!"},{"$error":"#DIV/0!"},{"$error":"#DIV/0!"},{"$error":"#DIV/0!"},{"$error":"#DIV/0!"},{"$error":"#DIV/0!"}]
[null,null,null,null,0,0,{"$error":"#DIV/0!"},{"$error":"#DIV/0!"},{"$error":"#DIV/0!"},{"$error":"#DIV/0!"},{"$error":"#DIV/0!"},{"$error":"#DIV/0!"}]
[null,null,null,null,0,0,{"$error":"#DIV/0!"},{"$error":"#DIV/0!"},{"$error":"#DIV/0!"},{"$error":"#DIV/0!"},{"$error":"#DIV/0!"},{"$error":"#DIV/0!"}]
[null,null,null,null,0,0,{"$error":"#DIV/0!"},{"$error":"#DIV/0!"},{"$error":"#DIV/0!"},{"$error":"#DIV/0!"},{"$error":"#DIV/0!"},{"$error":"#DIV/0!"}]
[null,null,null,null,0,0,{"$error":"#DIV/0!"},{"$error":"#DIV/0!"},{"$error":"#DIV/0!"},{"$error":"#DIV/0!"},{"$error":"#DIV/0!"},{"$error":"#DIV/0!"}]
[null,null,null,null,0,0,{"$error":"#DIV/0!"},{"$error":"#DIV/0!"},{"$error":"#DIV/0!"},{"$error":"#DIV/0!"},{"$error":"#DIV/0!"},{"$error":"#DIV/0!"}]
[null,null,null,null,0,0,{"$error":"#DIV/0!"},{"$error":"#DIV/0!"},{"$error":"#DIV/0!"},{"$error":"#DIV/0!"},{"$error":"#DIV/0!"},{"$error":"#DIV/0!"}]
[null,null,null,null,0,0,{"$error":"#DIV/0!"},{"$error":"#DIV/0!"},{"$error":"#DIV/0!"},{"$error":"#DIV/0!"},{"$error":"#DIV/0!"},{"$error":"#DIV/0!"}]
[null,null,null,null,0,0,{"$error":"#DIV/0!"},{"$error":"#DIV/0!"},{"$error":"#DIV/0!"},{"$error":"#DIV/0!"},{"$error":"#DIV/0!"},{"$error":"#DIV/0!"}]
[null,null,null,null,0,0,{"$error":"#DIV/0!"},{"$error":"#DIV/0!"},{"$error":"#DIV/0!"},{"$error":"#DIV/0!"},{"$error":"#DIV/0!"},{"$error":"#DIV/0!"}]
[null,null,null,null,0,0,{"$error":"#DIV/0!"},{"$error":"#DIV/0!"},{"$error":"#DIV/0!"},{"$error":"#DIV/0!"},{"$error":"#DIV/0!"},{"$error":"#DIV/0!"}]
[null,null,null,null,0,0,{"$error":"#DIV/0!"},{"$error":"#DIV/0!"},{"$error":"#DIV/0!"},{"$error":"#DIV/0!"},{"$error":"#DIV/0!"},{"$error":"#DIV/0!"}]
[null,null,null,null,{"$f":"C194+D194","v":0},{"$f":"C194*D194","v":0},{"$f":"SQRT((E194/F194))","v":{"$error":"#DIV/0!"}},{"$f":"B194*G194","v":{"$error":"#DIV/0!"}},{"$f":"H194^2","v":{"$error":"#DIV/0!"}},{"$f":"SQRT(((E194/F194)+(I194/(2*E194))))","v":{"$error":"#DIV/0!"}},{"$f":"H194-(1.96*J194)","v":{"$error":"#DIV/0!"}},{"$f":"H194+(1.96*J194)","v":{"$error":"#DIV/0!"}}]
[null,null,null,null,0,0,{"$error":"#DIV/0!"},{"$error":"#DIV/0!"},{"$error":"#DIV/0!"},{"$error":"#DIV/0!"},{"$error":"#DIV/0!"},{"$error":"#DIV/0!"}]
[null,null,null,null,0,0,{"$error":"#DIV/0!"},{"$error":"#DIV/0!"},{"$error":"#DIV/0!"},{"$error":"#DIV/0!"},{"$error":"#DIV/0!"},{"$error":"#DIV/0!"}]
[null,null,null,null,0,0,{"$error":"#DIV/0!"},{"$error":"#DIV/0!"},{"$error":"#DIV/0!"},{"$error":"#DIV/0!"},{"$error":"#DIV/0!"},{"$error":"#DIV/0!"}]
[null,null,null,null,0,0,{"$error":"#DIV/0!"},{"$error":"#DIV/0!"},{"$error":"#DIV/0!"},{"$error":"#DIV/0!"},{"$error":"#DIV/0!"},{"$error":"#DIV/0!"}]
[null,null,null,null,0,0,{"$error":"#DIV/0!"},{"$error":"#DIV/0!"},{"$error":"#DIV/0!"},{"$error":"#DIV/0!"},{"$error":"#DIV/0!"},{"$error":"#DIV/0!"}]
[null,null,null,null,0,0,{"$error":"#DIV/0!"},{"$error":"#DIV/0!"},{"$error":"#DIV/0!"},{"$error":"#DIV/0!"},{"$error":"#DIV/0!"},{"$error":"#DIV/0!"}]
[null,null,null,null,0,0,{"$error":"#DIV/0!"},{"$error":"#DIV/0!"},{"$error":"#DIV/0!"},{"$error":"#DIV/0!"},{"$error":"#DIV/0!"},{"$error":"#DIV/0!"}]
[null,null,null,null,0,0,{"$error":"#DIV/0!"},{"$error":"#DIV/0!"},{"$error":"#DIV/0!"},{"$error":"#DIV/0!"},{"$error":"#DIV/0!"},{"$error":"#DIV/0!"}]
[null,null,null,null,0,0,{"$error":"#DIV/0!"},{"$error":"#DIV/0!"},{"$error":"#DIV/0!"},{"$error":"#DIV/0!"},{"$error":"#DIV/0!"},{"$error":"#DIV/0!"}]
[null,null,null,null,0,0,{"$error":"#DIV/0!"},{"$error":"#DIV/0!"},{"$error":"#DIV/0!"},{"$error":"#DIV/0!"},{"$error":"#DIV/0!"},{"$error":"#DIV/0!"}]
[null,null,null,null,0,0,{"$error":"#DIV/0!"},{"$error":"#DIV/0!"},{"$error":"#DIV/0!"},{"$error":"#DIV/0!"},{"$error":"#DIV/0!"},{"$error":"#DIV/0!"}]
[null,null,null,null,0,0,{"$error":"#DIV/0!"},{"$error":"#DIV/0!"},{"$error":"#DIV/0!"},{"$error":"#DIV/0!"},{"$error":"#DIV/0!"},{"$error":"#DIV/0!"}]
[null,null,null,null,0,0,{"$error":"#DIV/0!"},{"$error":"#DIV/0!"},{"$error":"#DIV/0!"},{"$error":"#DIV/0!"},{"$error":"#DIV/0!"},{"$error":"#DIV/0!"}]
[null,null,null,null,0,0,{"$error":"#DIV/0!"},{"$error":"#DIV/0!"},{"$error":"#DIV/0!"},{"$error":"#DIV/0!"},{"$error":"#DIV/0!"},{"$error":"#DIV/0!"}]
[null,null,null,null,0,0,{"$error":"#DIV/0!"},{"$error":"#DIV/0!"},{"$error":"#DIV/0!"},{"$error":"#DIV/0!"},{"$error":"#DIV/0!"},{"$error":"#DIV/0!"}]
[null,null,null,null,0,0,{"$error":"#DIV/0!"},{"$error":"#DIV/0!"},{"$error":"#DIV/0!"},{"$error":"#DIV/0!"},{"$error":"#DIV/0!"},{"$error":"#DIV/0!"}]
[null,null,null,null,0,0,{"$error":"#DIV/0!"},{"$error":"#DIV/0!"},{"$error":"#DIV/0!"},{"$error":"#DIV/0!"},{"$error":"#DIV/0!"},{"$error":"#DIV/0!"}]
[null,null,null,null,0,0,{"$error":"#DIV/0!"},{"$error":"#DIV/0!"},{"$error":"#DIV/0!"},{"$error":"#DIV/0!"},{"$error":"#DIV/0!"},{"$error":"#DIV/0!"}]
[null,null,null,null,0,0,{"$error":"#DIV/0!"},{"$error":"#DIV/0!"},{"$error":"#DIV/0!"},{"$error":"#DIV/0!"},{"$error":"#DIV/0!"},{"$error":"#DIV/0!"}]
[null,null,null,null,0,0,{"$error":"#DIV/0!"},{"$error":"#DIV/0!"},{"$error":"#DIV/0!"},{"$error":"#DIV/0!"},{"$error":"#DIV/0!"},{"$error":"#DIV/0!"}]
[null,null,null,null,0,0,{"$error":"#DIV/0!"},{"$error":"#DIV/0!"},{"$error":"#DIV/0!"},{"$error":"#DIV/0!"},{"$error":"#DIV/0!"},{"$error":"#DIV/0!"}]
[null,null,null,null,0,0,{"$error":"#DIV/0!"},{"$error":"#DIV/0!"},{"$error":"#DIV/0!"},{"$error":"#DIV/0!"},{"$error":"#DIV/0!"},{"$error":"#DIV/0!"}]
[null,null,null,null,0,0,{"$error":"#DIV/0!"},{"$error":"#DIV/0!"},{"$error":"#DIV/0!"},{"$error":"#DIV/0!"},{"$error":"#DIV/0!"},{"$error":"#DIV/0!"}]
[null,null,null,null,0,0,{"$error":"#DIV/0!"},{"$error":"#DIV/0!"},{"$error":"#DIV/0!"},{"$error":"#DIV/0!"},{"$error":"#DIV/0!"},{"$error":"#DIV/0!"}]
[null,null,null,null,0,0,{"$error":"#DIV/0!"},{"$error":"#DIV/0!"},{"$error":"#DIV/0!"},{"$error":"#DIV/0!"},{"$error":"#DIV/0!"},{"$error":"#DIV/0!"}]
[null,null,null,null,0,0,{"$error":"#DIV/0!"},{"$error":"#DIV/0!"},{"$error":"#DIV/0!"},{"$error":"#DIV/0!"},{"$error":"#DIV/0!"},{"$error":"#DIV/0!"}]
[null,null,null,null,0,0,{"$error":"#DIV/0!"},{"$error":"#DIV/0!"},{"$error":"#DIV/0!"},{"$error":"#DIV/0!"},{"$error":"#DIV/0!"},{"$error":"#DIV/0!"}]
[null,null,null,null,0,0,{"$error":"#DIV/0!"},{"$error":"#DIV/0!"},{"$error":"#DIV/0!"},{"$error":"#DIV/0!"},{"$error":"#DIV/0!"},{"$error":"#DIV/0!"}]
[null,null,null,null,0,0,{"$error":"#DIV/0!"},{"$error":"#DIV/0!"},{"$error":"#DIV/0!"},{"$error":"#DIV/0!"},{"$error":"#DIV/0!"},{"$error":"#DIV/0!"}]
[null,null,null,null,0,0,{"$error":"#DIV/0!"},{"$error":"#DIV/0!"},{"$error":"#DIV/0!"},{"$error":"#DIV/0!"},{"$error":"#DIV/0!"},{"$error":"#DIV/0!"}]
[null,null,null,null,0,0,{"$error":"#DIV/0!"},{"$error":"#DIV/0!"},{"$error":"#DIV/0!"},{"$error":"#DIV/0!"},{"$error":"#DIV/0!"},{"$error":"#DIV/0!"}]
[null,null,null,null,0,0,{"$error":"#DIV/0!"},{"$error":"#DIV/0!"},{"$error":"#DIV/0!"},{"$error":"#DIV/0!"},{"$error":"#DIV/0!"},{"$error":"#DIV/0!"}]
[null,null,null,null,0,0,{"$error":"#DIV/0!"},{"$error":"#DIV/0!"},{"$error":"#DIV/0!"},{"$error":"#DIV/0!"},{"$error":"#DIV/0!"},{"$error":"#DIV/0!"}]
[null,null,null,null,0,0,{"$error":"#DIV/0!"},{"$error":"#DIV/0!"},{"$error":"#DIV/0!"},{"$error":"#DIV/0!"},{"$error":"#DIV/0!"},{"$error":"#DIV/0!"}]
[null,null,null,null,0,0,{"$error":"#DIV/0!"},{"$error":"#DIV/0!"},{"$error":"#DIV/0!"},{"$error":"#DIV/0!"},{"$error":"#DIV/0!"},{"$error":"#DIV/0!"}]
[null,null,null,null,0,0,{"$error":"#DIV/0!"},{"$error":"#DIV/0!"},{"$error":"#DIV/0!"},{"$error":"#DIV/0!"},{"$error":"#DIV/0!"},{"$error":"#DIV/0!"}]
[null,null,null,null,0,0,{"$error":"#DIV/0!"},{"$error":"#DIV/0!"},{"$error":"#DIV/0!"},{"$error":"#DIV/0!"},{"$error":"#DIV/0!"},{"$error":"#DIV/0!"}]
[null,null,null,null,0,0,{"$error":"#DIV/0!"},{"$error":"#DIV/0!"},{"$error":"#DIV/0!"},{"$error":"#DIV/0!"},{"$error":"#DIV/0!"},{"$error":"#DIV/0!"}]
[null,null,null,null,0,0,{"$error":"#DIV/0!"},{"$error":"#DIV/0!"},{"$error":"#DIV/0!"},{"$error":"#DIV/0!"},{"$error":"#DIV/0!"},{"$error":"#DIV/0!"}]
[null,null,null,null,0,0,{"$error":"#DIV/0!"},{"$error":"#DIV/0!"},{"$error":"#DIV/0!"},{"$error":"#DIV/0!"},{"$error":"#DIV/0!"},{"$error":"#DIV/0!"}]
[null,null,null,null,0,0,{"$error":"#DIV/0!"},{"$error":"#DIV/0!"},{"$error":"#DIV/0!"},{"$error":"#DIV/0!"},{"$error":"#DIV/0!"},{"$error":"#DIV/0!"}]
[null,null,null,null,0,0,{"$error":"#DIV/0!"},{"$error":"#DIV/0!"},{"$error":"#DIV/0!"},{"$error":"#DIV/0!"},{"$error":"#DIV/0!"},{"$error":"#DIV/0!"}]
[null,null,null,null,0,0,{"$error":"#DIV/0!"},{"$error":"#DIV/0!"},{"$error":"#DIV/0!"},{"$error":"#DIV/0!"},{"$error":"#DIV/0!"},{"$error":"#DIV/0!"}]
[null,null,null,null,0,0,{"$error":"#DIV/0!"},{"$error":"#DIV/0!"},{"$error":"#DIV/0!"},{"$error":"#DIV/0!"},{"$error":"#DIV/0!"},{"$error":"#DIV/0!"}]
[null,null,null,null,0,0,{"$error":"#DIV/0!"},{"$error":"#DIV/0!"},{"$error":"#DIV/0!"},{"$error":"#DIV/0!"},{"$error":"#DIV/0!"},{"$error":"#DIV/0!"}]
[null,null,null,null,0,0,{"$error":"#DIV/0!"},{"$error":"#DIV/0!"},{"$error":"#DIV/0!"},{"$error":"#DIV/0!"},{"$error":"#DIV/0!"},{"$error":"#DIV/0!"}]
[null,null,null,null,0,0,{"$error":"#DIV/0!"},{"$error":"#DIV/0!"},{"$error":"#DIV/0!"},{"$error":"#DIV/0!"},{"$error":"#DIV/0!"},{"$error":"#DIV/0!"}]
[null,null,null,null,0,0,{"$error":"#DIV/0!"},{"$error":"#DIV/0!"},{"$error":"#DIV/0!"},{"$error":"#DIV/0!"},{"$error":"#DIV/0!"},{"$error":"#DIV/0!"}]
[null,null,null,null,0,0,{"$error":"#DIV/0!"},{"$error":"#DIV/0!"},{"$error":"#DIV/0!"},{"$error":"#DIV/0!"},{"$error":"#DIV/0!"},{"$error":"#DIV/0!"}]
[null,null,null,null,0,0,{"$error":"#DIV/0!"},{"$error":"#DIV/0!"},{"$error":"#DIV/0!"},{"$error":"#DIV/0!"},{"$error":"#DIV/0!"},{"$error":"#DIV/0!"}]
[null,null,null,null,0,0,{"$error":"#DIV/0!"},{"$error":"#DIV/0!"},{"$error":"#DIV/0!"},{"$error":"#DIV/0!"},{"$error":"#DIV/0!"},{"$error":"#DIV/0!"}]
[null,null,null,null,0,0,{"$error":"#DIV/0!"},{"$error":"#DIV/0!"},{"$error":"#DIV/0!"},{"$error":"#DIV/0!"},{"$error":"#DIV/0!"},{"$error":"#DIV/0!"}]
[null,null,null,null,0,0,{"$error":"#DIV/0!"},{"$error":"#DIV/0!"},{"$error":"#DIV/0!"},{"$error":"#DIV/0!"},{"$error":"#DIV/0!"},{"$error":"#DIV/0!"}]
[null,null,null,null,0,0,{"$error":"#DIV/0!"},{"$error":"#DIV/0!"},{"$error":"#DIV/0!"},{"$error":"#DIV/0!"},{"$error":"#DIV/0!"},{"$error":"#DIV/0!"}]
[null,null,null,null,0,0,{"$error":"#DIV/0!"},{"$error":"#DIV/0!"},{"$error":"#DIV/0!"},{"$error":"#DIV/0!"},{"$error":"#DIV/0!"},{"$error":"#DIV/0!"}]
[null,null,null,null,0,0,{"$error":"#DIV/0!"},{"$error":"#DIV/0!"},{"$error":"#DIV/0!"},{"$error":"#DIV/0!"},{"$error":"#DIV/0!"},{"$error":"#DIV/0!"}]
[null,null,null,null,0,0,{"$error":"#DIV/0!"},{"$error":"#DIV/0!"},{"$error":"#DIV/0!"},{"$error":"#DIV/0!"},{"$error":"#DIV/0!"},{"$error":"#DIV/0!"}]
[null,null,null,null,0,0,{"$error":"#DIV/0!"},{"$error":"#DIV/0!"},{"$error":"#DIV/0!"},{"$error":"#DIV/0!"},{"$error":"#DIV/0!"},{"$error":"#DIV/0!"}]
[null,null,null,null,0,0,{"$error":"#DIV/0!"},{"$error":"#DIV/0!"},{"$error":"#DIV/0!"},{"$error":"#DIV/0!"},{"$error":"#DIV/0!"},{"$error":"#DIV/0!"}]
[null,null,null,null,0,0,{"$error":"#DIV/0!"},{"$error":"#DIV/0!"},{"$error":"#DIV/0!"},{"$error":"#DIV/0!"},{"$error":"#DIV/0!"},{"$error":"#DIV/0!"}]
[null,null,null,null,0,0,{"$error":"#DIV/0!"},{"$error":"#DIV/0!"},{"$error":"#DIV/0!"},{"$error":"#DIV/0!"},{"$error":"#DIV/0!"},{"$error":"#DIV/0!"}]
[null,null,null,null,0,0,{"$error":"#DIV/0!"},{"$error":"#DIV/0!"},{"$error":"#DIV/0!"},{"$error":"#DIV/0!"},{"$error":"#DIV/0!"},{"$error":"#DIV/0!"}]
[null,null,null,null,0,0,{"$error":"#DIV/0!"},{"$error":"#DIV/0!"},{"$error":"#DIV/0!"},{"$error":"#DIV/0!"},{"$error":"#DIV/0!"},{"$error":"#DIV/0!"}]
[null,null,null,null,{"$f":"C258+D258","v":0},{"$f":"C258*D258","v":0},{"$f":"SQRT((E258/F258))","v":{"$error":"#DIV/0!"}},{"$f":"B258*G258","v":{"$error":"#DIV/0!"}},{"$f":"H258^2","v":{"$error":"#DIV/0!"}},{"$f":"SQRT(((E258/F258)+(I258/(2*E258))))","v":{"$error":"#DIV/0!"}},{"$f":"H258-(1.96*J258)","v":{"$error":"#DIV/0!"}},{"$f":"H258+(1.96*J258)","v":{"$error":"#DIV/0!"}}]
[null,null,null,null,0,0,{"$error":"#DIV/0!"},{"$error":"#DIV/0!"},{"$error":"#DIV/0!"},{"$error":"#DIV/0!"},{"$error":"#DIV/0!"},{"$error":"#DIV/0!"}]
[null,null,null,null,0,0,{"$error":"#DIV/0!"},{"$error":"#DIV/0!"},{"$error":"#DIV/0!"},{"$error":"#DIV/0!"},{"$error":"#DIV/0!"},{"$error":"#DIV/0!"}]
[null,null,null,null,0,0,{"$error":"#DIV/0!"},{"$error":"#DIV/0!"},{"$error":"#DIV/0!"},{"$error":"#DIV/0!"},{"$error":"#DIV/0!"},{"$error":"#DIV/0!"}]
[null,null,null,null,0,0,{"$error":"#DIV/0!"},{"$error":"#DIV/0!"},{"$error":"#DIV/0!"},{"$error":"#DIV/0!"},{"$error":"#DIV/0!"},{"$error":"#DIV/0!"}]
[null,null,null,null,0,0,{"$error":"#DIV/0!"},{"$error":"#DIV/0!"},{"$error":"#DIV/0!"},{"$error":"#DIV/0!"},{"$error":"#DIV/0!"},{"$error":"#DIV/0!"}]
[null,null,null,null,0,0,{"$error":"#DIV/0!"},{"$error":"#DIV/0!"},{"$error":"#DIV/0!"},{"$error":"#DIV/0!"},{"$error":"#DIV/0!"},{"$error":"#DIV/0!"}]
[null,null,null,null,0,0,{"$error":"#DIV/0!"},{"$error":"#DIV/0!"},{"$error":"#DIV/0!"},{"$error":"#DIV/0!"},{"$error":"#DIV/0!"},{"$error":"#DIV/0!"}]
[null,null,null,null,0,0,{"$error":"#DIV/0!"},{"$error":"#DIV/0!"},{"$error":"#DIV/0!"},{"$error":"#DIV/0!"},{"$error":"#DIV/0!"},{"$error":"#DIV/0!"}]
[null,null,null,null,0,0,{"$error":"#DIV/0!"},{"$error":"#DIV/0!"},{"$error":"#DIV/0!"},{"$error":"#DIV/0!"},{"$error":"#DIV/0!"},{"$error":"#DIV/0!"}]
[null,null,null,null,0,0,{"$error":"#DIV/0!"},{"$error":"#DIV/0!"},{"$error":"#DIV/0!"},{"$error":"#DIV/0!"},{"$error":"#DIV/0!"},{"$error":"#DIV/0!"}]
[null,null,null,null,0,0,{"$error":"#DIV/0!"},{"$error":"#DIV/0!"},{"$error":"#DIV/0!"},{"$error":"#DIV/0!"},{"$error":"#DIV/0!"},{"$error":"#DIV/0!"}]
[null,null,null,null,0,0,{"$error":"#DIV/0!"},{"$error":"#DIV/0!"},{"$error":"#DIV/0!"},{"$error":"#DIV/0!"},{"$error":"#DIV/0!"},{"$error":"#DIV/0!"}]
[null,null,null,null,0,0,{"$error":"#DIV/0!"},{"$error":"#DIV/0!"},{"$error":"#DIV/0!"},{"$error":"#DIV/0!"},{"$error":"#DIV/0!"},{"$error":"#DIV/0!"}]
[null,null,null,null,0,0,{"$error":"#DIV/0!"},{"$error":"#DIV/0!"},{"$error":"#DIV/0!"},{"$error":"#DIV/0!"},{"$error":"#DIV/0!"},{"$error":"#DIV/0!"}]
[null,null,null,null,0,0,{"$error":"#DIV/0!"},{"$error":"#DIV/0!"},{"$error":"#DIV/0!"},{"$error":"#DIV/0!"},{"$error":"#DIV/0!"},{"$error":"#DIV/0!"}]
[null,null,null,null,0,0,{"$error":"#DIV/0!"},{"$error":"#DIV/0!"},{"$error":"#DIV/0!"},{"$error":"#DIV/0!"},{"$error":"#DIV/0!"},{"$error":"#DIV/0!"}]
[null,null,null,null,0,0,{"$error":"#DIV/0!"},{"$error":"#DIV/0!"},{"$error":"#DIV/0!"},{"$error":"#DIV/0!"},{"$error":"#DIV/0!"},{"$error":"#DIV/0!"}]
[null,null,null,null,0,0,{"$error":"#DIV/0!"},{"$error":"#DIV/0!"},{"$error":"#DIV/0!"},{"$error":"#DIV/0!"},{"$error":"#DIV/0!"},{"$error":"#DIV/0!"}]
[null,null,null,null,0,0,{"$error":"#DIV/0!"},{"$error":"#DIV/0!"},{"$error":"#DIV/0!"},{"$error":"#DIV/0!"},{"$error":"#DIV/0!"},{"$error":"#DIV/0!"}]
[null,null,null,null,0,0,{"$error":"#DIV/0!"},{"$error":"#DIV/0!"},{"$error":"#DIV/0!"},{"$error":"#DIV/0!"},{"$error":"#DIV/0!"},{"$error":"#DIV/0!"}]
[null,null,null,null,0,0,{"$error":"#DIV/0!"},{"$error":"#DIV/0!"},{"$error":"#DIV/0!"},{"$error":"#DIV/0!"},{"$error":"#DIV/0!"},{"$error":"#DIV/0!"}]
[null,null,null,null,0,0,{"$error":"#DIV/0!"},{"$error":"#DIV/0!"},{"$error":"#DIV/0!"},{"$error":"#DIV/0!"},{"$error":"#DIV/0!"},{"$error":"#DIV/0!"}]
[null,null,null,null,0,0,{"$error":"#DIV/0!"},{"$error":"#DIV/0!"},{"$error":"#DIV/0!"},{"$error":"#DIV/0!"},{"$error":"#DIV/0!"},{"$error":"#DIV/0!"}]
[null,null,null,null,0,0,{"$error":"#DIV/0!"},{"$error":"#DIV/0!"},{"$error":"#DIV/0!"},{"$error":"#DIV/0!"},{"$error":"#DIV/0!"},{"$error":"#DIV/0!"}]
[null,null,null,null,0,0,{"$error":"#DIV/0!"},{"$error":"#DIV/0!"},{"$error":"#DIV/0!"},{"$error":"#DIV/0!"},{"$error":"#DIV/0!"},{"$error":"#DIV/0!"}]
[null,null,null,null,0,0,{"$error":"#DIV/0!"},{"$error":"#DIV/0!"},{"$error":"#DIV/0!"},{"$error":"#DIV/0!"},{"$error":"#DIV/0!"},{"$error":"#DIV/0!"}]
[null,null,null,null,0,0,{"$error":"#DIV/0!"},{"$error":"#DIV/0!"},{"$error":"#DIV/0!"},{"$error":"#DIV/0!"},{"$error":"#DIV/0!"},{"$error":"#DIV/0!"}]
[null,null,null,null,0,0,{"$error":"#DIV/0!"},{"$error":"#DIV/0!"},{"$error":"#DIV/0!"},{"$error":"#DIV/0!"},{"$error":"#DIV/0!"},{"$error":"#DIV/0!"}]
[null,null,null,null,0,0,{"$error":"#DIV/0!"},{"$error":"#DIV/0!"},{"$error":"#DIV/0!"},{"$error":"#DIV/0!"},{"$error":"#DIV/0!"},{"$error":"#DIV/0!"}]
[null,null,null,null,0,0,{"$error":"#DIV/0!"},{"$error":"#DIV/0!"},{"$error":"#DIV/0!"},{"$error":"#DIV/0!"},{"$error":"#DIV/0!"},{"$error":"#DIV/0!"}]
[null,null,null,null,0,0,{"$error":"#DIV/0!"},{"$error":"#DIV/0!"},{"$error":"#DIV/0!"},{"$error":"#DIV/0!"},{"$error":"#DIV/0!"},{"$error":"#DIV/0!"}]
[null,null,null,null,0,0,{"$error":"#DIV/0!"},{"$error":"#DIV/0!"},{"$error":"#DIV/0!"},{"$error":"#DIV/0!"},{"$error":"#DIV/0!"},{"$error":"#DIV/0!"}]
[null,null,null,null,0,0,{"$error":"#DIV/0!"},{"$error":"#DIV/0!"},{"$error":"#DIV/0!"},{"$error":"#DIV/0!"},{"$error":"#DIV/0!"},{"$error":"#DIV/0!"}]
[null,null,null,null,0,0,{"$error":"#DIV/0!"},{"$error":"#DIV/0!"},{"$error":"#DIV/0!"},{"$error":"#DIV/0!"},{"$error":"#DIV/0!"},{"$error":"#DIV/0!"}]
[null,null,null,null,0,0,{"$error":"#DIV/0!"},{"$error":"#DIV/0!"},{"$error":"#DIV/0!"},{"$error":"#DIV/0!"},{"$error":"#DIV/0!"},{"$error":"#DIV/0!"}]
[null,null,null,null,0,0,{"$error":"#DIV/0!"},{"$error":"#DIV/0!"},{"$error":"#DIV/0!"},{"$error":"#DIV/0!"},{"$error":"#DIV/0!"},{"$error":"#DIV/0!"}]
[null,null,null,null,0,0,{"$error":"#DIV/0!"},{"$error":"#DIV/0!"},{"$error":"#DIV/0!"},{"$error":"#DIV/0!"},{"$error":"#DIV/0!"},{"$error":"#DIV/0!"}]
[null,null,null,null,0,0,{"$error":"#DIV/0!"},{"$error":"#DIV/0!"},{"$error":"#DIV/0!"},{"$error":"#DIV/0!"},{"$error":"#DIV/0!"},{"$error":"#DIV/0!"}]
[null,null,null,null,0,0,{"$error":"#DIV/0!"},{"$error":"#DIV/0!"},{"$error":"#DIV/0!"},{"$error":"#DIV/0!"},{"$error":"#DIV/0!"},{"$error":"#DIV/0!"}]
[null,null,null,null,0,0,{"$error":"#DIV/0!"},{"$error":"#DIV/0!"},{"$error":"#DIV/0!"},{"$error":"#DIV/0!"},{"$error":"#DIV/0!"},{"$error":"#DIV/0!"}]
[null,null,null,null,0,0,{"$error":"#DIV/0!"},{"$error":"#DIV/0!"},{"$error":"#DIV/0!"},{"$error":"#DIV/0!"},{"$error":"#DIV/0!"},{"$error":"#DIV/0!"}]
[null,null,null,null,0,0,{"$error":"#DIV/0!"},{"$error":"#DIV/0!"},{"$error":"#DIV/0!"},{"$error":"#DIV/0!"},{"$error":"#DIV/0!"},{"$error":"#DIV/0!"}]
[null,null,null,null,0,0,{"$error":"#DIV/0!"},{"$error":"#DIV/0!"},{"$error":"#DIV/0!"},{"$error":"#DIV/0!"},{"$error":"#DIV/0!"},{"$error":"#DIV/0!"}]
[null,null,null,null,0,0,{"$error":"#DIV/0!"},{"$error":"#DIV/0!"},{"$error":"#DIV/0!"},{"$error":"#DIV/0!"},{"$error":"#DIV/0!"},{"$error":"#DIV/0!"}]
[null,null,null,null,0,0,{"$error":"#DIV/0!"},{"$error":"#DIV/0!"},{"$error":"#DIV/0!"},{"$error":"#DIV/0!"},{"$error":"#DIV/0!"},{"$error":"#DIV/0!"}]
[null,null,null,null,0,0,{"$error":"#DIV/0!"},{"$error":"#DIV/0!"},{"$error":"#DIV/0!"},{"$error":"#DIV/0!"},{"$error":"#DIV/0!"},{"$error":"#DIV/0!"}]
[null,null,null,null,0,0,{"$error":"#DIV/0!"},{"$error":"#DIV/0!"},{"$error":"#DIV/0!"},{"$error":"#DIV/0!"},{"$error":"#DIV/0!"},{"$error":"#DIV/0!"}]
[null,null,null,null,0,0,{"$error":"#DIV/0!"},{"$error":"#DIV/0!"},{"$error":"#DIV/0!"},{"$error":"#DIV/0!"},{"$error":"#DIV/0!"},{"$error":"#DIV/0!"}]
[null,null,null,null,0,0,{"$error":"#DIV/0!"},{"$error":"#DIV/0!"},{"$error":"#DIV/0!"},{"$error":"#DIV/0!"},{"$error":"#DIV/0!"},{"$error":"#DIV/0!"}]
[null,null,null,null,0,0,{"$error":"#DIV/0!"},{"$error":"#DIV/0!"},{"$error":"#DIV/0!"},{"$error":"#DIV/0!"},{"$error":"#DIV/0!"},{"$error":"#DIV/0!"}]
[null,null,null,null,0,0,{"$error":"#DIV/0!"},{"$error":"#DIV/0!"},{"$error":"#DIV/0!"},{"$error":"#DIV/0!"},{"$error":"#DIV/0!"},{"$error":"#DIV/0!"}]
[null,null,null,null,0,0,{"$error":"#DIV/0!"},{"$error":"#DIV/0!"},{"$error":"#DIV/0!"},{"$error":"#DIV/0!"},{"$error":"#DIV/0!"},{"$error":"#DIV/0!"}]
[null,null,null,null,0,0,{"$error":"#DIV/0!"},{"$error":"#DIV/0!"},{"$error":"#DIV/0!"},{"$error":"#DIV/0!"},{"$error":"#DIV/0!"},{"$error":"#DIV/0!"}]
[null,null,null,null,0,0,{"$error":"#DIV/0!"},{"$error":"#DIV/0!"},{"$error":"#DIV/0!"},{"$error":"#DIV/0!"},{"$error":"#DIV/0!"},{"$error":"#DIV/0!"}]
[null,null,null,null,0,0,{"$error":"#DIV/0!"},{"$error":"#DIV/0!"},{"$error":"#DIV/0!"},{"$error":"#DIV/0!"},{"$error":"#DIV/0!"},{"$error":"#DIV/0!"}]
[null,null,null,null,0,0,{"$error":"#DIV/0!"},{"$error":"#DIV/0!"},{"$error":"#DIV/0!"},{"$error":"#DIV/0!"},{"$error":"#DIV/0!"},{"$error":"#DIV/0!"}]
[null,null,null,null,0,0,{"$error":"#DIV/0!"},{"$error":"#DIV/0!"},{"$error":"#DIV/0!"},{"$error":"#DIV/0!"},{"$error":"#DIV/0!"},{"$error":"#DIV/0!"}]
[null,null,null,null,0,0,{"$error":"#DIV/0!"},{"$error":"#DIV/0!"},{"$error":"#DIV/0!"},{"$error":"#DIV/0!"},{"$error":"#DIV/0!"},{"$error":"#DIV/0!"}]
[null,null,null,null,0,0,{"$error":"#DIV/0!"},{"$error":"#DIV/0!"},{"$error":"#DIV/0!"},{"$error":"#DIV/0!"},{"$error":"#DIV/0!"},{"$error":"#DIV/0!"}]
[null,null,null,null,0,0,{"$error":"#DIV/0!"},{"$error":"#DIV/0!"},{"$error":"#DIV/0!"},{"$error":"#DIV/0!"},{"$error":"#DIV/0!"},{"$error":"#DIV/0!"}]
[null,null,null,null,0,0,{"$error":"#DIV/0!"},{"$error":"#DIV/0!"},{"$error":"#DIV/0!"},{"$error":"#DIV/0!"},{"$error":"#DIV/0!"},{"$error":"#DIV/0!"}]
[null,null,null,null,0,0,{"$error":"#DIV/0!"},{"$error":"#DIV/0!"},{"$error":"#DIV/0!"},{"$error":"#DIV/0!"},{"$error":"#DIV/0!"},{"$error":"#DIV/0!"}]
[null,null,null,null,0,0,{"$error":"#DIV/0!"},{"$error":"#DIV/0!"},{"$error":"#DIV/0!"},{"$error":"#DIV/0!"},{"$error":"#DIV/0!"},{"$error":"#DIV/0!"}]
[null,null,null,null,{"$f":"C322+D322","v":0},{"$f":"C322*D322","v":0},{"$f":"SQRT((E322/F322))","v":{"$error":"#DIV/0!"}},{"$f":"B322*G322","v":{"$error":"#DIV/0!"}},{"$f":"H322^2","v":{"$error":"#DIV/0!"}},{"$f":"SQRT(((E322/F322)+(I322/(2*E322))))","v":{"$error":"#DIV/0!"}},{"$f":"H322-(1.96*J322)","v":{"$error":"#DIV/0!"}},{"$f":"H322+(1.96*J322)","v":{"$error":"#DIV/0!"}}]
[null,null,null,null,0,0,{"$error":"#DIV/0!"},{"$error":"#DIV/0!"},{"$error":"#DIV/0!"},{"$error":"#DIV/0!"},{"$error":"#DIV/0!"},{"$error":"#DIV/0!"}]
[null,null,null,null,0,0,{"$error":"#DIV/0!"},{"$error":"#DIV/0!"},{"$error":"#DIV/0!"},{"$error":"#DIV/0!"},{"$error":"#DIV/0!"},{"$error":"#DIV/0!"}]
[null,null,null,null,0,0,{"$error":"#DIV/0!"},{"$error":"#DIV/0!"},{"$error":"#DIV/0!"},{"$error":"#DIV/0!"},{"$error":"#DIV/0!"},{"$error":"#DIV/0!"}]
[null,null,null,null,0,0,{"$error":"#DIV/0!"},{"$error":"#DIV/0!"},{"$error":"#DIV/0!"},{"$error":"#DIV/0!"},{"$error":"#DIV/0!"},{"$error":"#DIV/0!"}]
[null,null,null,null,0,0,{"$error":"#DIV/0!"},{"$error":"#DIV/0!"},{"$error":"#DIV/0!"},{"$error":"#DIV/0!"},{"$error":"#DIV/0!"},{"$error":"#DIV/0!"}]
[null,null,null,null,0,0,{"$error":"#DIV/0!"},{"$error":"#DIV/0!"},{"$error":"#DIV/0!"},{"$error":"#DIV/0!"},{"$error":"#DIV/0!"},{"$error":"#DIV/0!"}]
[null,null,null,null,0,0,{"$error":"#DIV/0!"},{"$error":"#DIV/0!"},{"$error":"#DIV/0!"},{"$error":"#DIV/0!"},{"$error":"#DIV/0!"},{"$error":"#DIV/0!"}]
[null,null,null,null,0,0,{"$error":"#DIV/0!"},{"$error":"#DIV/0!"},{"$error":"#DIV/0!"},{"$error":"#DIV/0!"},{"$error":"#DIV/0!"},{"$error":"#DIV/0!"}]
[null,null,null,null,0,0,{"$error":"#DIV/0!"},{"$error":"#DIV/0!"},{"$error":"#DIV/0!"},{"$error":"#DIV/0!"},{"$error":"#DIV/0!"},{"$error":"#DIV/0!"}]
[null,null,null,null,0,0,{"$error":"#DIV/0!"},{"$error":"#DIV/0!"},{"$error":"#DIV/0!"},{"$error":"#DIV/0!"},{"$error":"#DIV/0!"},{"$error":"#DIV/0!"}]
[null,null,null,null,0,0,{"$error":"#DIV/0!"},{"$error":"#DIV/0!"},{"$error":"#DIV/0!"},{"$error":"#DIV/0!"},{"$error":"#DIV/0!"},{"$error":"#DIV/0!"}]
[null,null,null,null,0,0,{"$error":"#DIV/0!"},{"$error":"#DIV/0!"},{"$error":"#DIV/0!"},{"$error":"#DIV/0!"},{"$error":"#DIV/0!"},{"$error":"#DIV/0!"}]
[null,null,null,null,0,0,{"$error":"#DIV/0!"},{"$error":"#DIV/0!"},{"$error":"#DIV/0!"},{"$error":"#DIV/0!"},{"$error":"#DIV/0!"},{"$error":"#DIV/0!"}]
[null,null,null,null,0,0,{"$error":"#DIV/0!"},{"$error":"#DIV/0!"},{"$error":"#DIV/0!"},{"$error":"#DIV/0!"},{"$error":"#DIV/0!"},{"$error":"#DIV/0!"}]
[null,null,null,null,0,0,{"$error":"#DIV/0!"},{"$error":"#DIV/0!"},{"$error":"#DIV/0!"},{"$error":"#DIV/0!"},{"$error":"#DIV/0!"},{"$error":"#DIV/0!"}]
[null,null,null,null,0,0,{"$error":"#DIV/0!"},{"$error":"#DIV/0!"},{"$error":"#DIV/0!"},{"$error":"#DIV/0!"},{"$error":"#DIV/0!"},{"$error":"#DIV/0!"}]
[null,null,null,null,0,0,{"$error":"#DIV/0!"},{"$error":"#DIV/0!"},{"$error":"#DIV/0!"},{"$error":"#DIV/0!"},{"$error":"#DIV/0!"},{"$error":"#DIV/0!"}]
[null,null,null,null,0,0,{"$error":"#DIV/0!"},{"$error":"#DIV/0!"},{"$error":"#DIV/0!"},{"$error":"#DIV/0!"},{"$error":"#DIV/0!"},{"$error":"#DIV/0!"}]
[null,null,null,null,0,0,{"$error":"#DIV/0!"},{"$error":"#DIV/0!"},{"$error":"#DIV/0!"},{"$error":"#DIV/0!"},{"$error":"#DIV/0!"},{"$error":"#DIV/0!"}]
[null,null,null,null,0,0,{"$error":"#DIV/0!"},{"$error":"#DIV/0!"},{"$error":"#DIV/0!"},{"$error":"#DIV/0!"},{"$error":"#DIV/0!"},{"$error":"#DIV/0!"}]
[null,null,null,null,0,0,{"$error":"#DIV/0!"},{"$error":"#DIV/0!"},{"$error":"#DIV/0!"},{"$error":"#DIV/0!"},{"$error":"#DIV/0!"},{"$error":"#DIV/0!"}]
[null,null,null,null,0,0,{"$error":"#DIV/0!"},{"$error":"#DIV/0!"},{"$error":"#DIV/0!"},{"$error":"#DIV/0!"},{"$error":"#DIV/0!"},{"$error":"#DIV/0!"}]
[null,null,null,null,0,0,{"$error":"#DIV/0!"},{"$error":"#DIV/0!"},{"$error":"#DIV/0!"},{"$error":"#DIV/0!"},{"$error":"#DIV/0!"},{"$error":"#DIV/0!"}]
[null,null,null,null,0,0,{"$error":"#DIV/0!"},{"$error":"#DIV/0!"},{"$error":"#DIV/0!"},{"$error":"#DIV/0!"},{"$error":"#DIV/0!"},{"$error":"#DIV/0!"}]
[null,null,null,null,0,0,{"$error":"#DIV/0!"},{"$error":"#DIV/0!"},{"$error":"#DIV/0!"},{"$error":"#DIV/0!"},{"$error":"#DIV/0!"},{"$error":"#DIV/0!"}]
[null,null,null,null,0,0,{"$error":"#DIV/0!"},{"$error":"#DIV/0!"},{"$error":"#DIV/0!"},{"$error":"#DIV/0!"},{"$error":"#DIV/0!"},{"$error":"#DIV/0!"}]
[null,null,null,null,0,0,{"$error":"#DIV/0!"},{"$error":"#DIV/0!"},{"$error":"#DIV/0!"},{"$error":"#DIV/0!"},{"$error":"#DIV/0!"},{"$error":"#DIV/0!"}]
[null,null,null,null,0,0,{"$error":"#DIV/0!"},{"$error":"#DIV/0!"},{"$error":"#DIV/0!"},{"$error":"#DIV/0!"},{"$error":"#DIV/0!"},{"$error":"#DIV/0!"}]
[null,null,null,null,0,0,{"$error":"#DIV/0!"},{"$error":"#DIV/0!"},{"$error":"#DIV/0!"},{"$error":"#DIV/0!"},{"$error":"#DIV/0!"},{"$error":"#DIV/0!"}]
[null,null,null,null,0,0,{"$error":"#DIV/0!"},{"$error":"#DIV/0!"},{"$error":"#DIV/0!"},{"$error":"#DIV/0!"},{"$error":"#DIV/0!"},{"$error":"#DIV/0!"}]
[null,null,null,null,0,0,{"$error":"#DIV/0!"},{"$error":"#DIV/0!"},{"$error":"#DIV/0!"},{"$error":"#DIV/0!"},{"$error":"#DIV/0!"},{"$error":"#DIV/0!"}]
[null,null,null,null,0,0,{"$error":"#DIV/0!"},{"$error":"#DIV/0!"},{"$error":"#DIV/0!"},{"$error":"#DIV/0!"},{"$error":"#DIV/0!"},{"$error":"#DIV/0!"}]
[null,null,null,null,0,0,{"$error":"#DIV/0!"},{"$error":"#DIV/0!"},{"$error":"#DIV/0!"},{"$error":"#DIV/0!"},{"$error":"#DIV/0!"},{"$error":"#DIV/0!"}]
[null,null,null,null,0,0,{"$error":"#DIV/0!"},{"$error":"#DIV/0!"},{"$error":"#DIV/0!"},{"$error":"#DIV/0!"},{"$error":"#DIV/0!"},{"$error":"#DIV/0!"}]
[null,null,null,null,0,0,{"$error":"#DIV/0!"},{"$error":"#DIV/0!"},{"$error":"#DIV/0!"},{"$error":"#DIV/0!"},{"$error":"#DIV/0!"},{"$error":"#DIV/0!"}]
[null,null,null,null,0,0,{"$error":"#DIV/0!"},{"$error":"#DIV/0!"},{"$error":"#DIV/0!"},{"$error":"#DIV/0!"},{"$error":"#DIV/0!"},{"$error":"#DIV/0!"}]
[null,null,null,null,0,0,{"$error":"#DIV/0!"},{"$error":"#DIV/0!"},{"$error":"#DIV/0!"},{"$error":"#DIV/0!"},{"$error":"#DIV/0!"},{"$error":"#DIV/0!"}]
[null,null,null,null,0,0,{"$error":"#DIV/0!"},{"$error":"#DIV/0!"},{"$error":"#DIV/0!"},{"$error":"#DIV/0!"},{"$error":"#DIV/0!"},{"$error":"#DIV/0!"}]
[null,null,null,null,0,0,{"$error":"#DIV/0!"},{"$error":"#DIV/0!"},{"$error":"#DIV/0!"},{"$error":"#DIV/0!"},{"$error":"#DIV/0!"},{"$error":"#DIV/0!"}]
[null,null,null,null,0,0,{"$error":"#DIV/0!"},{"$error":"#DIV/0!"},{"$error":"#DIV/0!"},{"$error":"#DIV/0!"},{"$error":"#DIV/0!"},{"$error":"#DIV/0!"}]
[null,null,null,null,0,0,{"$error":"#DIV/0!"},{"$error":"#DIV/0!"},{"$error":"#DIV/0!"},{"$error":"#DIV/0!"},{"$error":"#DIV/0!"},{"$error":"#DIV/0!"}]
[null,null,null,null,0,0,{"$error":"#DIV/0!"},{"$error":"#DIV/0!"},{"$error":"#DIV/0!"},{"$error":"#DIV/0!"},{"$error":"#DIV/0!"},{"$error":"#DIV/0!"}]
[null,null,null,null,0,0,{"$error":"#DIV/0!"},{"$error":"#DIV/0!"},{"$error":"#DIV/0!"},{"$error":"#DIV/0!"},{"$error":"#DIV/0!"},{"$error":"#DIV/0!"}]
[null,null,null,null,0,0,{"$error":"#DIV/0!"},{"$error":"#DIV/0!"},{"$error":"#DIV/0!"},{"$error":"#DIV/0!"},{"$error":"#DIV/0!"},{"$error":"#DIV/0!"}]
[null,null,null,null,0,0,{"$error":"#DIV/0!"},{"$error":"#DIV/0!"},{"$error":"#DIV/0!"},{"$error":"#DIV/0!"},{"$error":"#DIV/0!"},{"$error":"#DIV/0!"}]
[null,null,null,null,0,0,{"$error":"#DIV/0!"},{"$error":"#DIV/0!"},{"$error":"#DIV/0!"},{"$error":"#DIV/0!"},{"$error":"#DIV/0!"},{"$error":"#DIV/0!"}]
[null,null,null,null,0,0,{"$error":"#DIV/0!"},{"$error":"#DIV/0!"},{"$error":"#DIV/0!"},{"$error":"#DIV/0!"},{"$error":"#DIV/0!"},{"$error":"#DIV/0!"}]
[null,null,null,null,0,0,{"$error":"#DIV/0!"},{"$error":"#DIV/0!"},{"$error":"#DIV/0!"},{"$error":"#DIV/0!"},{"$error":"#DIV/0!"},{"$error":"#DIV/0!"}]
[null,null,null,null,0,0,{"$error":"#DIV/0!"},{"$error":"#DIV/0!"},{"$error":"#DIV/0!"},{"$error":"#DIV/0!"},{"$error":"#DIV/0!"},{"$error":"#DIV/0!"}]
[null,null,null,null,0,0,{"$error":"#DIV/0!"},{"$error":"#DIV/0!"},{"$error":"#DIV/0!"},{"$error":"#DIV/0!"},{"$error":"#DIV/0!"},{"$error":"#DIV/0!"}]
[null,null,null,null,0,0,{"$error":"#DIV/0!"},{"$error":"#DIV/0!"},{"$error":"#DIV/0!"},{"$error":"#DIV/0!"},{"$error":"#DIV/0!"},{"$error":"#DIV/0!"}]
[null,null,null,null,0,0,{"$error":"#DIV/0!"},{"$error":"#DIV/0!"},{"$error":"#DIV/0!"},{"$error":"#DIV/0!"},{"$error":"#DIV/0!"},{"$error":"#DIV/0!"}]
[null,null,null,null,0,0,{"$error":"#DIV/0!"},{"$error":"#DIV/0!"},{"$error":"#DIV/0!"},{"$error":"#DIV/0!"},{"$error":"#DIV/0!"},{"$error":"#DIV/0!"}]
[null,null,null,null,0,0,{"$error":"#DIV/0!"},{"$error":"#DIV/0!"},{"$error":"#DIV/0!"},{"$error":"#DIV/0!"},{"$error":"#DIV/0!"},{"$error":"#DIV/0!"}]
[null,null,null,null,0,0,{"$error":"#DIV/0!"},{"$error":"#DIV/0!"},{"$error":"#DIV/0!"},{"$error":"#DIV/0!"},{"$error":"#DIV/0!"},{"$error":"#DIV/0!"}]
[null,null,null,null,0,0,{"$error":"#DIV/0!"},{"$error":"#DIV/0!"},{"$error":"#DIV/0!"},{"$error":"#DIV/0!"},{"$error":"#DIV/0!"},{"$error":"#DIV/0!"}]
[null,null,null,null,0,0,{"$error":"#DIV/0!"},{"$error":"#DIV/0!"},{"$error":"#DIV/0!"},{"$error":"#DIV/0!"},{"$error":"#DIV/0!"},{"$error":"#DIV/0!"}]
[null,null,null,null,0,0,{"$error":"#DIV/0!"},{"$error":"#DIV/0!"},{"$error":"#DIV/0!"},{"$error":"#DIV/0!"},{"$error":"#DIV/0!"},{"$error":"#DIV/0!"}]
[null,null,null,null,0,0,{"$error":"#DIV/0!"},{"$error":"#DIV/0!"},{"$error":"#DIV/0!"},{"$error":"#DIV/0!"},{"$error":"#DIV/0!"},{"$error":"#DIV/0!"}]
[null,null,null,null,0,0,{"$error":"#DIV/0!"},{"$error":"#DIV/0!"},{"$error":"#DIV/0!"},{"$error":"#DIV/0!"},{"$error":"#DIV/0!"},{"$error":"#DIV/0!"}]
[null,null,null,null,0,0,{"$error":"#DIV/0!"},{"$error":"#DIV/0!"},{"$error":"#DIV/0!"},{"$error":"#DIV/0!"},{"$error":"#DIV/0!"},{"$error":"#DIV/0!"}]
[null,null,null,null,0,0,{"$error":"#DIV/0!"},{"$error":"#DIV/0!"},{"$error":"#DIV/0!"},{"$error":"#DIV/0!"},{"$error":"#DIV/0!"},{"$error":"#DIV/0!"}]
[null,null,null,null,0,0,{"$error":"#DIV/0!"},{"$error":"#DIV/0!"},{"$error":"#DIV/0!"},{"$error":"#DIV/0!"},{"$error":"#DIV/0!"},{"$error":"#DIV/0!"}]
[null,null,null,null,{"$f":"C386+D386","v":0},{"$f":"C386*D386","v":0},{"$f":"SQRT((E386/F386))","v":{"$error":"#DIV/0!"}},{"$f":"B386*G386","v":{"$error":"#DIV/0!"}},{"$f":"H386^2","v":{"$error":"#DIV/0!"}},{"$f":"SQRT(((E386/F386)+(I386/(2*E386))))","v":{"$error":"#DIV/0!"}},{"$f":"H386-(1.96*J386)","v":{"$error":"#DIV/0!"}},{"$f":"H386+(1.96*J386)","v":{"$error":"#DIV/0!"}}]
[null,null,null,null,0,0,{"$error":"#DIV/0!"},{"$error":"#DIV/0!"},{"$error":"#DIV/0!"},{"$error":"#DIV/0!"},{"$error":"#DIV/0!"},{"$error":"#DIV/0!"}]
[null,null,null,null,0,0,{"$error":"#DIV/0!"},{"$error":"#DIV/0!"},{"$error":"#DIV/0!"},{"$error":"#DIV/0!"},{"$error":"#DIV/0!"},{"$error":"#DIV/0!"}]
[null,null,null,null,0,0,{"$error":"#DIV/0!"},{"$error":"#DIV/0!"},{"$error":"#DIV/0!"},{"$error":"#DIV/0!"},{"$error":"#DIV/0!"},{"$error":"#DIV/0!"}]
[null,null,null,null,0,0,{"$error":"#DIV/0!"},{"$error":"#DIV/0!"},{"$error":"#DIV/0!"},{"$error":"#DIV/0!"},{"$error":"#DIV/0!"},{"$error":"#DIV/0!"}]
[null,null,null,null,0,0,{"$error":"#DIV/0!"},{"$error":"#DIV/0!"},{"$error":"#DIV/0!"},{"$error":"#DIV/0!"},{"$error":"#DIV/0!"},{"$error":"#DIV/0!"}]
[null,null,null,null,0,0,{"$error":"#DIV/0!"},{"$error":"#DIV/0!"},{"$error":"#DIV/0!"},{"$error":"#DIV/0!"},{"$error":"#DIV/0!"},{"$error":"#DIV/0!"}]
[null,null,null,null,0,0,{"$error":"#DIV/0!"},{"$error":"#DIV/0!"},{"$error":"#DIV/0!"},{"$error":"#DIV/0!"},{"$error":"#DIV/0!"},{"$error":"#DIV/0!"}]
[null,null,null,null,0,0,{"$error":"#DIV/0!"},{"$error":"#DIV/0!"},{"$error":"#DIV/0!"},{"$error":"#DIV/0!"},{"$error":"#DIV/0!"},{"$error":"#DIV/0!"}]
[null,null,null,null,0,0,{"$error":"#DIV/0!"},{"$error":"#DIV/0!"},{"$error":"#DIV/0!"},{"$error":"#DIV/0!"},{"$error":"#DIV/0!"},{"$error":"#DIV/0!"}]
[null,null,null,null,0,0,{"$error":"#DIV/0!"},{"$error":"#DIV/0!"},{"$error":"#DIV/0!"},{"$error":"#DIV/0!"},{"$error":"#DIV/0!"},{"$error":"#DIV/0!"}]
[null,null,null,null,0,0,{"$error":"#DIV/0!"},{"$error":"#DIV/0!"},{"$error":"#DIV/0!"},{"$error":"#DIV/0!"},{"$error":"#DIV/0!"},{"$error":"#DIV/0!"}]
[null,null,null,null,0,0,{"$error":"#DIV/0!"},{"$error":"#DIV/0!"},{"$error":"#DIV/0!"},{"$error":"#DIV/0!"},{"$error":"#DIV/0!"},{"$error":"#DIV/0!"}]
[null,null,null,null,0,0,{"$error":"#DIV/0!"},{"$error":"#DIV/0!"},{"$error":"#DIV/0!"},{"$error":"#DIV/0!"},{"$error":"#DIV/0!"},{"$error":"#DIV/0!"}]
[null,null,null,null,0,0,{"$error":"#DIV/0!"},{"$error":"#DIV/0!"},{"$error":"#DIV/0!"},{"$error":"#DIV/0!"},{"$error":"#DIV/0!"},{"$error":"#DIV/0!"}]
[null,null,null,null,0,0,{"$error":"#DIV/0!"},{"$error":"#DIV/0!"},{"$error":"#DIV/0!"},{"$error":"#DIV/0!"},{"$error":"#DIV/0!"},{"$error":"#DIV/0!"}]
[null,null,null,null,0,0,{"$error":"#DIV/0!"},{"$error":"#DIV/0!"},{"$error":"#DIV/0!"},{"$error":"#DIV/0!"},{"$error":"#DIV/0!"},{"$error":"#DIV/0!"}]
[null,null,null,null,0,0,{"$error":"#DIV/0!"},{"$error":"#DIV/0!"},{"$error":"#DIV/0!"},{"$error":"#DIV/0!"},{"$error":"#DIV/0!"},{"$error":"#DIV/0!"}]
[null,null,null,null,0,0,{"$error":"#DIV/0!"},{"$error":"#DIV/0!"},{"$error":"#DIV/0!"},{"$error":"#DIV/0!"},{"$error":"#DIV/0!"},{"$error":"#DIV/0!"}]
[null,null,null,null,0,0,{"$error":"#DIV/0!"},{"$error":"#DIV/0!"},{"$error":"#DIV/0!"},{"$error":"#DIV/0!"},{"$error":"#DIV/0!"},{"$error":"#DIV/0!"}]
[null,null,null,null,0,0,{"$error":"#DIV/0!"},{"$error":"#DIV/0!"},{"$error":"#DIV/0!"},{"$error":"#DIV/0!"},{"$error":"#DIV/0!"},{"$error":"#DIV/0!"}]
[null,null,null,null,0,0,{"$error":"#DIV/0!"},{"$error":"#DIV/0!"},{"$error":"#DIV/0!"},{"$error":"#DIV/0!"},{"$error":"#DIV/0!"},{"$error":"#DIV/0!"}]
[null,null,null,null,0,0,{"$error":"#DIV/0!"},{"$error":"#DIV/0!"},{"$error":"#DIV/0!"},{"$error":"#DIV/0!"},{"$error":"#DIV/0!"},{"$error":"#DIV/0!"}]
[null,null,null,null,0,0,{"$error":"#DIV/0!"},{"$error":"#DIV/0!"},{"$error":"#DIV/0!"},{"$error":"#DIV/0!"},{"$error":"#DIV/0!"},{"$error":"#DIV/0!"}]
[null,null,null,null,0,0,{"$error":"#DIV/0!"},{"$error":"#DIV/0!"},{"$error":"#DIV/0!"},{"$error":"#DIV/0!"},{"$error":"#DIV/0!"},{"$error":"#DIV/0!"}]
[null,null,null,null,0,0,{"$error":"#DIV/0!"},{"$error":"#DIV/0!"},{"$error":"#DIV/0!"},{"$error":"#DIV/0!"},{"$error":"#DIV/0!"},{"$error":"#DIV/0!"}]
[null,null,null,null,0,0,{"$error":"#DIV/0!"},{"$error":"#DIV/0!"},{"$error":"#DIV/0!"},{"$error":"#DIV/0!"},{"$error":"#DIV/0!"},{"$error":"#DIV/0!"}]
[null,null,null,null,0,0,{"$error":"#DIV/0!"},{"$error":"#DIV/0!"},{"$error":"#DIV/0!"},{"$error":"#DIV/0!"},{"$error":"#DIV/0!"},{"$error":"#DIV/0!"}]
[null,null,null,null,0,0,{"$error":"#DIV/0!"},{"$error":"#DIV/0!"},{"$error":"#DIV/0!"},{"$error":"#DIV/0!"},{"$error":"#DIV/0!"},{"$error":"#DIV/0!"}]
[null,null,null,null,0,0,{"$error":"#DIV/0!"},{"$error":"#DIV/0!"},{"$error":"#DIV/0!"},{"$error":"#DIV/0!"},{"$error":"#DIV/0!"},{"$error":"#DIV/0!"}]
[null,null,null,null,0,0,{"$error":"#DIV/0!"},{"$error":"#DIV/0!"},{"$error":"#DIV/0!"},{"$error":"#DIV/0!"},{"$error":"#DIV/0!"},{"$error":"#DIV/0!"}]
[null,null,null,null,0,0,{"$error":"#DIV/0!"},{"$error":"#DIV/0!"},{"$error":"#DIV/0!"},{"$error":"#DIV/0!"},{"$error":"#DIV/0!"},{"$error":"#DIV/0!"}]
[null,null,null,null,0,0,{"$error":"#DIV/0!"},{"$error":"#DIV/0!"},{"$error":"#DIV/0!"},{"$error":"#DIV/0!"},{"$error":"#DIV/0!"},{"$error":"#DIV/0!"}]
[null,null,null,null,0,0,{"$error":"#DIV/0!"},{"$error":"#DIV/0!"},{"$error":"#DIV/0!"},{"$error":"#DIV/0!"},{"$error":"#DIV/0!"},{"$error":"#DIV/0!"}]
[null,null,null,null,0,0,{"$error":"#DIV/0!"},{"$error":"#DIV/0!"},{"$error":"#DIV/0!"},{"$error":"#DIV/0!"},{"$error":"#DIV/0!"},{"$error":"#DIV/0!"}]
[null,null,null,null,0,0,{"$error":"#DIV/0!"},{"$error":"#DIV/0!"},{"$error":"#DIV/0!"},{"$error":"#DIV/0!"},{"$error":"#DIV/0!"},{"$error":"#DIV/0!"}]
[null,null,null,null,0,0,{"$error":"#DIV/0!"},{"$error":"#DIV/0!"},{"$error":"#DIV/0!"},{"$error":"#DIV/0!"},{"$error":"#DIV/0!"},{"$error":"#DIV/0!"}]
[null,null,null,null,0,0,{"$error":"#DIV/0!"},{"$error":"#DIV/0!"},{"$error":"#DIV/0!"},{"$error":"#DIV/0!"},{"$error":"#DIV/0!"},{"$error":"#DIV/0!"}]
[null,null,null,null,0,0,{"$error":"#DIV/0!"},{"$error":"#DIV/0!"},{"$error":"#DIV/0!"},{"$error":"#DIV/0!"},{"$error":"#DIV/0!"},{"$error":"#DIV/0!"}]
[null,null,null,null,0,0,{"$error":"#DIV/0!"},{"$error":"#DIV/0!"},{"$error":"#DIV/0!"},{"$error":"#DIV/0!"},{"$error":"#DIV/0!"},{"$error":"#DIV/0!"}]
[null,null,null,null,0,0,{"$error":"#DIV/0!"},{"$error":"#DIV/0!"},{"$error":"#DIV/0!"},{"$error":"#DIV/0!"},{"$error":"#DIV/0!"},{"$error":"#DIV/0!"}]
[null,null,null,null,0,0,{"$error":"#DIV/0!"},{"$error":"#DIV/0!"},{"$error":"#DIV/0!"},{"$error":"#DIV/0!"},{"$error":"#DIV/0!"},{"$error":"#DIV/0!"}]
[null,null,null,null,0,0,{"$error":"#DIV/0!"},{"$error":"#DIV/0!"},{"$error":"#DIV/0!"},{"$error":"#DIV/0!"},{"$error":"#DIV/0!"},{"$error":"#DIV/0!"}]
[null,null,null,null,0,0,{"$error":"#DIV/0!"},{"$error":"#DIV/0!"},{"$error":"#DIV/0!"},{"$error":"#DIV/0!"},{"$error":"#DIV/0!"},{"$error":"#DIV/0!"}]
[null,null,null,null,0,0,{"$error":"#DIV/0!"},{"$error":"#DIV/0!"},{"$error":"#DIV/0!"},{"$error":"#DIV/0!"},{"$error":"#DIV/0!"},{"$error":"#DIV/0!"}]
[null,null,null,null,0,0,{"$error":"#DIV/0!"},{"$error":"#DIV/0!"},{"$error":"#DIV/0!"},{"$error":"#DIV/0!"},{"$error":"#DIV/0!"},{"$error":"#DIV/0!"}]
[null,null,null,null,0,0,{"$error":"#DIV/0!"},{"$error":"#DIV/0!"},{"$error":"#DIV/0!"},{"$error":"#DIV/0!"},{"$error":"#DIV/0!"},{"$error":"#DIV/0!"}]
[null,null,null,null,0,0,{"$error":"#DIV/0!"},{"$error":"#DIV/0!"},{"$error":"#DIV/0!"},{"$error":"#DIV/0!"},{"$error":"#DIV/0!"},{"$error":"#DIV/0!"}]
[null,null,null,null,0,0,{"$error":"#DIV/0!"},{"$error":"#DIV/0!"},{"$error":"#DIV/0!"},{"$error":"#DIV/0!"},{"$error":"#DIV/0!"},{"$error":"#DIV/0!"}]
[null,null,null,null,0,0,{"$error":"#DIV/0!"},{"$error":"#DIV/0!"},{"$error":"#DIV/0!"},{"$error":"#DIV/0!"},{"$error":"#DIV/0!"},{"$error":"#DIV/0!"}]
[null,null,null,null,0,0,{"$error":"#DIV/0!"},{"$error":"#DIV/0!"},{"$error":"#DIV/0!"},{"$error":"#DIV/0!"},{"$error":"#DIV/0!"},{"$error":"#DIV/0!"}]
[null,null,null,null,0,0,{"$error":"#DIV/0!"},{"$error":"#DIV/0!"},{"$error":"#DIV/0!"},{"$error":"#DIV/0!"},{"$error":"#DIV/0!"},{"$error":"#DIV/0!"}]
[null,null,null,null,0,0,{"$error":"#DIV/0!"},{"$error":"#DIV/0!"},{"$error":"#DIV/0!"},{"$error":"#DIV/0!"},{"$error":"#DIV/0!"},{"$error":"#DIV/0!"}]
[null,null,null,null,0,0,{"$error":"#DIV/0!"},{"$error":"#DIV/0!"},{"$error":"#DIV/0!"},{"$error":"#DIV/0!"},{"$error":"#DIV/0!"},{"$error":"#DIV/0!"}]
[null,null,null,null,0,0,{"$error":"#DIV/0!"},{"$error":"#DIV/0!"},{"$error":"#DIV/0!"},{"$error":"#DIV/0!"},{"$error":"#DIV/0!"},{"$error":"#DIV/0!"}]
[null,null,null,null,0,0,{"$error":"#DIV/0!"},{"$error":"#DIV/0!"},{"$error":"#DIV/0!"},{"$error":"#DIV/0!"},{"$error":"#DIV/0!"},{"$error":"#DIV/0!"}]
[null,null,null,null,0,0,{"$error":"#DIV/0!"},{"$error":"#DIV/0!"},{"$error":"#DIV/0!"},{"$error":"#DIV/0!"},{"$error":"#DIV/0!"},{"$error":"#DIV/0!"}]
[null,null,null,null,0,0,{"$error":"#DIV/0!"},{"$error":"#DIV/0!"},{"$error":"#DIV/0!"},{"$error":"#DIV/0!"},{"$error":"#DIV/0!"},{"$error":"#DIV/0!"}]
[null,null,null,null,0,0,{"$error":"#DIV/0!"},{"$error":"#DIV/0!"},{"$error":"#DIV/0!"},{"$error":"#DIV/0!"},{"$error":"#DIV/0!"},{"$error":"#DIV/0!"}]
[null,null,null,null,0,0,{"$error":"#DIV/0!"},{"$error":"#DIV/0!"},{"$error":"#DIV/0!"},{"$error":"#DIV/0!"},{"$error":"#DIV/0!"},{"$error":"#DIV/0!"}]
[null,null,null,null,0,0,{"$error":"#DIV/0!"},{"$error":"#DIV/0!"},{"$error":"#DIV/0!"},{"$error":"#DIV/0!"},{"$error":"#DIV/0!"},{"$error":"#DIV/0!"}]
[null,null,null,null,0,0,{"$error":"#DIV/0!"},{"$error":"#DIV/0!"},{"$error":"#DIV/0!"},{"$error":"#DIV/0!"},{"$error":"#DIV/0!"},{"$error":"#DIV/0!"}]
[null,null,null,null,0,0,{"$error":"#DIV/0!"},{"$error":"#DIV/0!"},{"$error":"#DIV/0!"},{"$error":"#DIV/0!"},{"$error":"#DIV/0!"},{"$error":"#DIV/0!"}]
[null,null,null,null,0,0,{"$error":"#DIV/0!"},{"$error":"#DIV/0!"},{"$error":"#DIV/0!"},{"$error":"#DIV/0!"},{"$error":"#DIV/0!"},{"$error":"#DIV/0!"}]
[null,null,null,null,{"$f":"C450+D450","v":0},{"$f":"C450*D450","v":0},{"$f":"SQRT((E450/F450))","v":{"$error":"#DIV/0!"}},{"$f":"B450*G450","v":{"$error":"#DIV/0!"}},{"$f":"H450^2","v":{"$error":"#DIV/0!"}},{"$f":"SQRT(((E450/F450)+(I450/(2*E450))))","v":{"$error":"#DIV/0!"}},{"$f":"H450-(1.96*J450)","v":{"$error":"#DIV/0!"}},{"$f":"H450+(1.96*J450)","v":{"$error":"#DIV/0!"}}]
[null,null,null,null,0,0,{"$error":"#DIV/0!"},{"$error":"#DIV/0!"},{"$error":"#DIV/0!"},{"$error":"#DIV/0!"},{"$error":"#DIV/0!"},{"$error":"#DIV/0!"}]
[null,null,null,null,0,0,{"$error":"#DIV/0!"},{"$error":"#DIV/0!"},{"$error":"#DIV/0!"},{"$error":"#DIV/0!"},{"$error":"#DIV/0!"},{"$error":"#DIV/0!"}]
[null,null,null,null,0,0,{"$error":"#DIV/0!"},{"$error":"#DIV/0!"},{"$error":"#DIV/0!"},{"$error":"#DIV/0!"},{"$error":"#DIV/0!"},{"$error":"#DIV/0!"}]
[null,null,null,null,0,0,{"$error":"#DIV/0!"},{"$error":"#DIV/0!"},{"$error":"#DIV/0!"},{"$error":"#DIV/0!"},{"$error":"#DIV/0!"},{"$error":"#DIV/0!"}]
[null,null,null,null,0,0,{"$error":"#DIV/0!"},{"$error":"#DIV/0!"},{"$error":"#DIV/0!"},{"$error":"#DIV/0!"},{"$error":"#DIV/0!"},{"$error":"#DIV/0!"}]
[null,null,null,null,0,0,{"$error":"#DIV/0!"},{"$error":"#DIV/0!"},{"$error":"#DIV/0!"},{"$error":"#DIV/0!"},{"$error":"#DIV/0!"},{"$error":"#DIV/0!"}]
[null,null,null,null,0,0,{"$error":"#DIV/0!"},{"$error":"#DIV/0!"},{"$error":"#DIV/0!"},{"$error":"#DIV/0!"},{"$error":"#DIV/0!"},{"$error":"#DIV/0!"}]
[null,null,null,null,0,0,{"$error":"#DIV/0!"},{"$error":"#DIV/0!"},{"$error":"#DIV/0!"},{"$error":"#DIV/0!"},{"$error":"#DIV/0!"},{"$error":"#DIV/0!"}]
[null,null,null,null,0,0,{"$error":"#DIV/0!"},{"$error":"#DIV/0!"},{"$error":"#DIV/0!"},{"$error":"#DIV/0!"},{"$error":"#DIV/0!"},{"$error":"#DIV/0!"}]
[null,null,null,null,0,0,{"$error":"#DIV/0!"},{"$error":"#DIV/0!"},{"$error":"#DIV/0!"},{"$error":"#DIV/0!"},{"$error":"#DIV/0!"},{"$error":"#DIV/0!"}]
[null,null,null,null,0,0,{"$error":"#DIV/0!"},{"$error":"#DIV/0!"},{"$error":"#DIV/0!"},{"$error":"#DIV/0!"},{"$error":"#DIV/0!"},{"$error":"#DIV/0!"}]
[null,null,null,null,0,0,{"$error":"#DIV/0!"},{"$error":"#DIV/0!"},{"$error":"#DIV/0!"},{"$error":"#DIV/0!"},{"$error":"#DIV/0!"},{"$error":"#DIV/0!"}]
[null,null,null,null,0,0,{"$error":"#DIV/0!"},{"$error":"#DIV/0!"},{"$error":"#DIV/0!"},{"$error":"#DIV/0!"},{"$error":"#DIV/0!"},{"$error":"#DIV/0!"}]
[null,null,null,null,0,0,{"$error":"#DIV/0!"},{"$error":"#DIV/0!"},{"$error":"#DIV/0!"},{"$error":"#DIV/0!"},{"$error":"#DIV/0!"},{"$error":"#DIV/0!"}]
[null,null,null,null,0,0,{"$error":"#DIV/0!"},{"$error":"#DIV/0!"},{"$error":"#DIV/0!"},{"$error":"#DIV/0!"},{"$error":"#DIV/0!"},{"$error":"#DIV/0!"}]
[null,null,null,null,0,0,{"$error":"#DIV/0!"},{"$error":"#DIV/0!"},{"$error":"#DIV/0!"},{"$error":"#DIV/0!"},{"$error":"#DIV/0!"},{"$error":"#DIV/0!"}]
[null,null,null,null,0,0,{"$error":"#DIV/0!"},{"$error":"#DIV/0!"},{"$error":"#DIV/0!"},{"$error":"#DIV/0!"},{"$error":"#DIV/0!"},{"$error":"#DIV/0!"}]
[null,null,null,null,0,0,{"$error":"#DIV/0!"},{"$error":"#DIV/0!"},{"$error":"#DIV/0!"},{"$error":"#DIV/0!"},{"$error":"#DIV/0!"},{"$error":"#DIV/0!"}]
[null,null,null,null,0,0,{"$error":"#DIV/0!"},{"$error":"#DIV/0!"},{"$error":"#DIV/0!"},{"$error":"#DIV/0!"},{"$error":"#DIV/0!"},{"$error":"#DIV/0!"}]
[null,null,null,null,0,0,{"$error":"#DIV/0!"},{"$error":"#DIV/0!"},{"$error":"#DIV/0!"},{"$error":"#DIV/0!"},{"$error":"#DIV/0!"},{"$error":"#DIV/0!"}]
[null,null,null,null,0,0,{"$error":"#DIV/0!"},{"$error":"#DIV/0!"},{"$error":"#DIV/0!"},{"$error":"#DIV/0!"},{"$error":"#DIV/0!"},{"$error":"#DIV/0!"}]
[null,null,null,null,0,0,{"$error":"#DIV/0!"},{"$error":"#DIV/0!"},{"$error":"#DIV/0!"},{"$error":"#DIV/0!"},{"$error":"#DIV/0!"},{"$error":"#DIV/0!"}]
[null,null,null,null,0,0,{"$error":"#DIV/0!"},{"$error":"#DIV/0!"},{"$error":"#DIV/0!"},{"$error":"#DIV/0!"},{"$error":"#DIV/0!"},{"$error":"#DIV/0!"}]
[null,null,null,null,0,0,{"$error":"#DIV/0!"},{"$error":"#DIV/0!"},{"$error":"#DIV/0!"},{"$error":"#DIV/0!"},{"$error":"#DIV/0!"},{"$error":"#DIV/0!"}]
[null,null,null,null,0,0,{"$error":"#DIV/0!"},{"$error":"#DIV/0!"},{"$error":"#DIV/0!"},{"$error":"#DIV/0!"},{"$error":"#DIV/0!"},{"$error":"#DIV/0!"}]
[null,null,null,null,0,0,{"$error":"#DIV/0!"},{"$error":"#DIV/0!"},{"$error":"#DIV/0!"},{"$error":"#DIV/0!"},{"$error":"#DIV/0!"},{"$error":"#DIV/0!"}]
[null,null,null,null,0,0,{"$error":"#DIV/0!"},{"$error":"#DIV/0!"},{"$error":"#DIV/0!"},{"$error":"#DIV/0!"},{"$error":"#DIV/0!"},{"$error":"#DIV/0!"}]
[null,null,null,null,0,0,{"$error":"#DIV/0!"},{"$error":"#DIV/0!"},{"$error":"#DIV/0!"},{"$error":"#DIV/0!"},{"$error":"#DIV/0!"},{"$error":"#DIV/0!"}]
[null,null,null,null,0,0,{"$error":"#DIV/0!"},{"$error":"#DIV/0!"},{"$error":"#DIV/0!"},{"$error":"#DIV/0!"},{"$error":"#DIV/0!"},{"$error":"#DIV/0!"}]
[null,null,null,null,0,0,{"$error":"#DIV/0!"},{"$error":"#DIV/0!"},{"$error":"#DIV/0!"},{"$error":"#DIV/0!"},{"$error":"#DIV/0!"},{"$error":"#DIV/0!"}]
[null,null,null,null,0,0,{"$error":"#DIV/0!"},{"$error":"#DIV/0!"},{"$error":"#DIV/0!"},{"$error":"#DIV/0!"},{"$error":"#DIV/0!"},{"$error":"#DIV/0!"}]
[null,null,null,null,0,0,{"$error":"#DIV/0!"},{"$error":"#DIV/0!"},{"$error":"#DIV/0!"},{"$error":"#DIV/0!"},{"$error":"#DIV/0!"},{"$error":"#DIV/0!"}]
[null,null,null,null,0,0,{"$error":"#DIV/0!"},{"$error":"#DIV/0!"},{"$error":"#DIV/0!"},{"$error":"#DIV/0!"},{"$error":"#DIV/0!"},{"$error":"#DIV/0!"}]
[null,null,null,null,0,0,{"$error":"#DIV/0!"},{"$error":"#DIV/0!"},{"$error":"#DIV/0!"},{"$error":"#DIV/0!"},{"$error":"#DIV/0!"},{"$error":"#DIV/0!"}]
[null,null,null,null,0,0,{"$error":"#DIV/0!"},{"$error":"#DIV/0!"},{"$error":"#DIV/0!"},{"$error":"#DIV/0!"},{"$error":"#DIV/0!"},{"$error":"#DIV/0!"}]
[null,null,null,null,0,0,{"$error":"#DIV/0!"},{"$error":"#DIV/0!"},{"$error":"#DIV/0!"},{"$error":"#DIV/0!"},{"$error":"#DIV/0!"},{"$error":"#DIV/0!"}]
[null,null,null,null,0,0,{"$error":"#DIV/0!"},{"$error":"#DIV/0!"},{"$error":"#DIV/0!"},{"$error":"#DIV/0!"},{"$error":"#DIV/0!"},{"$error":"#DIV/0!"}]
[null,null,null,null,0,0,{"$error":"#DIV/0!"},{"$error":"#DIV/0!"},{"$error":"#DIV/0!"},{"$error":"#DIV/0!"},{"$error":"#DIV/0!"},{"$error":"#DIV/0!"}]
[null,null,null,null,0,0,{"$error":"#DIV/0!"},{"$error":"#DIV/0!"},{"$error":"#DIV/0!"},{"$error":"#DIV/0!"},{"$error":"#DIV/0!"},{"$error":"#DIV/0!"}]
[null,null,null,null,0,0,{"$error":"#DIV/0!"},{"$error":"#DIV/0!"},{"$error":"#DIV/0!"},{"$error":"#DIV/0!"},{"$error":"#DIV/0!"},{"$error":"#DIV/0!"}]
[null,null,null,null,0,0,{"$error":"#DIV/0!"},{"$error":"#DIV/0!"},{"$error":"#DIV/0!"},{"$error":"#DIV/0!"},{"$error":"#DIV/0!"},{"$error":"#DIV/0!"}]
[null,null,null,null,0,0,{"$error":"#DIV/0!"},{"$error":"#DIV/0!"},{"$error":"#DIV/0!"},{"$error":"#DIV/0!"},{"$error":"#DIV/0!"},{"$error":"#DIV/0!"}]
[null,null,null,null,0,0,{"$error":"#DIV/0!"},{"$error":"#DIV/0!"},{"$error":"#DIV/0!"},{"$error":"#DIV/0!"},{"$error":"#DIV/0!"},{"$error":"#DIV/0!"}]
[null,null,null,null,0,0,{"$error":"#DIV/0!"},{"$error":"#DIV/0!"},{"$error":"#DIV/0!"},{"$error":"#DIV/0!"},{"$error":"#DIV/0!"},{"$error":"#DIV/0!"}]
[null,null,null,null,0,0,{"$error":"#DIV/0!"},{"$error":"#DIV/0!"},{"$error":"#DIV/0!"},{"$error":"#DIV/0!"},{"$error":"#DIV/0!"},{"$error":"#DIV/0!"}]
[null,null,null,null,0,0,{"$error":"#DIV/0!"},{"$error":"#DIV/0!"},{"$error":"#DIV/0!"},{"$error":"#DIV/0!"},{"$error":"#DIV/0!"},{"$error":"#DIV/0!"}]
[null,null,null,null,0,0,{"$error":"#DIV/0!"},{"$error":"#DIV/0!"},{"$error":"#DIV/0!"},{"$error":"#DIV/0!"},{"$error":"#DIV/0!"},{"$error":"#DIV/0!"}]
[null,null,null,null,0,0,{"$error":"#DIV/0!"},{"$error":"#DIV/0!"},{"$error":"#DIV/0!"},{"$error":"#DIV/0!"},{"$error":"#DIV/0!"},{"$error":"#DIV/0!"}]
[null,null,null,null,0,0,{"$error":"#DIV/0!"},{"$error":"#DIV/0!"},{"$error":"#DIV/0!"},{"$error":"#DIV/0!"},{"$error":"#DIV/0!"},{"$error":"#DIV/0!"}]
[null,null,null,null,0,0,{"$error":"#DIV/0!"},{"$error":"#DIV/0!"},{"$error":"#DIV/0!"},{"$error":"#DIV/0!"},{"$error":"#DIV/0!"},{"$error":"#DIV/0!"}]
[null,null,null,null,0,0,{"$error":"#DIV/0!"},{"$error":"#DIV/0!"},{"$error":"#DIV/0!"},{"$error":"#DIV/0!"},{"$error":"#DIV/0!"},{"$error":"#DIV/0!"}]
[null,null,null,null,0,0,{"$error":"#DIV/0!"},{"$error":"#DIV/0!"},{"$error":"#DIV/0!"},{"$error":"#DIV/0!"},{"$error":"#DIV/0!"},{"$error":"#DIV/0!"}]
[null,null,null,null,0,0,{"$error":"#DIV/0!"},{"$error":"#DIV/0!"},{"$error":"#DIV/0!"},{"$error":"#DIV/0!"},{"$error":"#DIV/0!"},{"$error":"#DIV/0!"}]
[null,null,null,null,0,0,{"$error":"#DIV/0!"},{"$error":"#DIV/0!"},{"$error":"#DIV/0!"},{"$error":"#DIV/0!"},{"$error":"#DIV/0!"},{"$error":"#DIV/0!"}]
[null,null,null,null,0,0,{"$error":"#DIV/0!"},{"$error":"#DIV/0!"},{"$error":"#DIV/0!"},{"$error":"#DIV/0!"},{"$error":"#DIV/0!"},{"$error":"#DIV/0!"}]
[null,null,null,null,0,0,{"$error":"#DIV/0!"},{"$error":"#DIV/0!"},{"$error":"#DIV/0!"},{"$error":"#DIV/0!"},{"$error":"#DIV/0!"},{"$error":"#DIV/0!"}]
[null,null,null,null,0,0,{"$error":"#DIV/0!"},{"$error":"#DIV/0!"},{"$error":"#DIV/0!"},{"$error":"#DIV/0!"},{"$error":"#DIV/0!"},{"$error":"#DIV/0!"}]
[null,null,null,null,0,0,{"$error":"#DIV/0!"},{"$error":"#DIV/0!"},{"$error":"#DIV/0!"},{"$error":"#DIV/0!"},{"$error":"#DIV/0!"},{"$error":"#DIV/0!"}]
[null,null,null,null,0,0,{"$error":"#DIV/0!"},{"$error":"#DIV/0!"},{"$error":"#DIV/0!"},{"$error":"#DIV/0!"},{"$error":"#DIV/0!"},{"$error":"#DIV/0!"}]
[null,null,null,null,0,0,{"$error":"#DIV/0!"},{"$error":"#DIV/0!"},{"$error":"#DIV/0!"},{"$error":"#DIV/0!"},{"$error":"#DIV/0!"},{"$error":"#DIV/0!"}]
[null,null,null,null,0,0,{"$error":"#DIV/0!"},{"$error":"#DIV/0!"},{"$error":"#DIV/0!"},{"$error":"#DIV/0!"},{"$error":"#DIV/0!"},{"$error":"#DIV/0!"}]
[null,null,null,null,0,0,{"$error":"#DIV/0!"},{"$error":"#DIV/0!"},{"$error":"#DIV/0!"},{"$error":"#DIV/0!"},{"$error":"#DIV/0!"},{"$error":"#DIV/0!"}]
[null,null,null,null,0,0,{"$error":"#DIV/0!"},{"$error":"#DIV/0!"},{"$error":"#DIV/0!"},{"$error":"#DIV/0!"},{"$error":"#DIV/0!"},{"$error":"#DIV/0!"}]
[null,null,null,null,{"$f":"C514+D514","v":0},{"$f":"C514*D514","v":0},{"$f":"SQRT((E514/F514))","v":{"$error":"#DIV/0!"}},{"$f":"B514*G514","v":{"$error":"#DIV/0!"}},{"$f":"H514^2","v":{"$error":"#DIV/0!"}},{"$f":"SQRT(((E514/F514)+(I514/(2*E514))))","v":{"$error":"#DIV/0!"}},{"$f":"H514-(1.96*J514)","v":{"$error":"#DIV/0!"}},{"$f":"H514+(1.96*J514)","v":{"$error":"#DIV/0!"}}]
[null,null,null,null,0,0,{"$error":"#DIV/0!"},{"$error":"#DIV/0!"},{"$error":"#DIV/0!"},{"$error":"#DIV/0!"},{"$error":"#DIV/0!"},{"$error":"#DIV/0!"}]
[null,null,null,null,0,0,{"$error":"#DIV/0!"},{"$error":"#DIV/0!"},{"$error":"#DIV/0!"},{"$error":"#DIV/0!"},{"$error":"#DIV/0!"},{"$error":"#DIV/0!"}]
[null,null,null,null,0,0,{"$error":"#DIV/0!"},{"$error":"#DIV/0!"},{"$error":"#DIV/0!"},{"$error":"#DIV/0!"},{"$error":"#DIV/0!"},{"$error":"#DIV/0!"}]
[null,null,null,null,0,0,{"$error":"#DIV/0!"},{"$error":"#DIV/0!"},{"$error":"#DIV/0!"},{"$error":"#DIV/0!"},{"$error":"#DIV/0!"},{"$error":"#DIV/0!"}]
[null,null,null,null,0,0,{"$error":"#DIV/0!"},{"$error":"#DIV/0!"},{"$error":"#DIV/0!"},{"$error":"#DIV/0!"},{"$error":"#DIV/0!"},{"$error":"#DIV/0!"}]
[null,null,null,null,0,0,{"$error":"#DIV/0!"},{"$error":"#DIV/0!"},{"$error":"#DIV/0!"},{"$error":"#DIV/0!"},{"$error":"#DIV/0!"},{"$error":"#DIV/0!"}]
[null,null,null,null,0,0,{"$error":"#DIV/0!"},{"$error":"#DIV/0!"},{"$error":"#DIV/0!"},{"$error":"#DIV/0!"},{"$error":"#DIV/0!"},{"$error":"#DIV/0!"}]
[null,null,null,null,0,0,{"$error":"#DIV/0!"},{"$error":"#DIV/0!"},{"$error":"#DIV/0!"},{"$error":"#DIV/0!"},{"$error":"#DIV/0!"},{"$error":"#DIV/0!"}]
[null,null,null,null,0,0,{"$error":"#DIV/0!"},{"$error":"#DIV/0!"},{"$error":"#DIV/0!"},{"$error":"#DIV/0!"},{"$error":"#DIV/0!"},{"$error":"#DIV/0!"}]
[null,null,null,null,0,0,{"$error":"#DIV/0!"},{"$error":"#DIV/0!"},{"$error":"#DIV/0!"},{"$error":"#DIV/0!"},{"$error":"#DIV/0!"},{"$error":"#DIV/0!"}]
[null,null,null,null,0,0,{"$error":"#DIV/0!"},{"$error":"#DIV/0!"},{"$error":"#DIV/0!"},{"$error":"#DIV/0!"},{"$error":"#DIV/0!"},{"$error":"#DIV/0!"}]
[null,null,null,null,0,0,{"$error":"#DIV/0!"},{"$error":"#DIV/0!"},{"$error":"#DIV/0!"},{"$error":"#DIV/0!"},{"$error":"#DIV/0!"},{"$error":"#DIV/0!"}]
[null,null,null,null,0,0,{"$error":"#DIV/0!"},{"$error":"#DIV/0!"},{"$error":"#DIV/0!"},{"$error":"#DIV/0!"},{"$error":"#DIV/0!"},{"$error":"#DIV/0!"}]
[null,null,null,null,0,0,{"$error":"#DIV/0!"},{"$error":"#DIV/0!"},{"$error":"#DIV/0!"},{"$error":"#DIV/0!"},{"$error":"#DIV/0!"},{"$error":"#DIV/0!"}]
[null,null,null,null,0,0,{"$error":"#DIV/0!"},{"$error":"#DIV/0!"},{"$error":"#DIV/0!"},{"$error":"#DIV/0!"},{"$error":"#DIV/0!"},{"$error":"#DIV/0!"}]
[null,null,null,null,0,0,{"$error":"#DIV/0!"},{"$error":"#DIV/0!"},{"$error":"#DIV/0!"},{"$error":"#DIV/0!"},{"$error":"#DIV/0!"},{"$error":"#DIV/0!"}]
[null,null,null,null,0,0,{"$error":"#DIV/0!"},{"$error":"#DIV/0!"},{"$error":"#DIV/0!"},{"$error":"#DIV/0!"},{"$error":"#DIV/0!"},{"$error":"#DIV/0!"}]
[null,null,null,null,0,0,{"$error":"#DIV/0!"},{"$error":"#DIV/0!"},{"$error":"#DIV/0!"},{"$error":"#DIV/0!"},{"$error":"#DIV/0!"},{"$error":"#DIV/0!"}]
[null,null,null,null,0,0,{"$error":"#DIV/0!"},{"$error":"#DIV/0!"},{"$error":"#DIV/0!"},{"$error":"#DIV/0!"},{"$error":"#DIV/0!"},{"$error":"#DIV/0!"}]
[null,null,null,null,0,0,{"$error":"#DIV/0!"},{"$error":"#DIV/0!"},{"$error":"#DIV/0!"},{"$error":"#DIV/0!"},{"$error":"#DIV/0!"},{"$error":"#DIV/0!"}]
[null,null,null,null,0,0,{"$error":"#DIV/0!"},{"$error":"#DIV/0!"},{"$error":"#DIV/0!"},{"$error":"#DIV/0!"},{"$error":"#DIV/0!"},{"$error":"#DIV/0!"}]
[null,null,null,null,0,0,{"$error":"#DIV/0!"},{"$error":"#DIV/0!"},{"$error":"#DIV/0!"},{"$error":"#DIV/0!"},{"$error":"#DIV/0!"},{"$error":"#DIV/0!"}]
[null,null,null,null,0,0,{"$error":"#DIV/0!"},{"$error":"#DIV/0!"},{"$error":"#DIV/0!"},{"$error":"#DIV/0!"},{"$error":"#DIV/0!"},{"$error":"#DIV/0!"}]
[null,null,null,null,0,0,{"$error":"#DIV/0!"},{"$error":"#DIV/0!"},{"$error":"#DIV/0!"},{"$error":"#DIV/0!"},{"$error":"#DIV/0!"},{"$error":"#DIV/0!"}]
[null,null,null,null,0,0,{"$error":"#DIV/0!"},{"$error":"#DIV/0!"},{"$error":"#DIV/0!"},{"$error":"#DIV/0!"},{"$error":"#DIV/0!"},{"$error":"#DIV/0!"}]
[null,null,null,null,0,0,{"$error":"#DIV/0!"},{"$error":"#DIV/0!"},{"$error":"#DIV/0!"},{"$error":"#DIV/0!"},{"$error":"#DIV/0!"},{"$error":"#DIV/0!"}]
[null,null,null,null,0,0,{"$error":"#DIV/0!"},{"$error":"#DIV/0!"},{"$error":"#DIV/0!"},{"$error":"#DIV/0!"},{"$error":"#DIV/0!"},{"$error":"#DIV/0!"}]
[null,null,null,null,0,0,{"$error":"#DIV/0!"},{"$error":"#DIV/0!"},{"$error":"#DIV/0!"},{"$error":"#DIV/0!"},{"$error":"#DIV/0!"},{"$error":"#DIV/0!"}]
[null,null,null,null,0,0,{"$error":"#DIV/0!"},{"$error":"#DIV/0!"},{"$error":"#DIV/0!"},{"$error":"#DIV/0!"},{"$error":"#DIV/0!"},{"$error":"#DIV/0!"}]
[null,null,null,null,0,0,{"$error":"#DIV/0!"},{"$error":"#DIV/0!"},{"$error":"#DIV/0!"},{"$error":"#DIV/0!"},{"$error":"#DIV/0!"},{"$error":"#DIV/0!"}]
[null,null,null,null,0,0,{"$error":"#DIV/0!"},{"$error":"#DIV/0!"},{"$error":"#DIV/0!"},{"$error":"#DIV/0!"},{"$error":"#DIV/0!"},{"$error":"#DIV/0!"}]
[null,null,null,null,0,0,{"$error":"#DIV/0!"},{"$error":"#DIV/0!"},{"$error":"#DIV/0!"},{"$error":"#DIV/0!"},{"$error":"#DIV/0!"},{"$error":"#DIV/0!"}]
[null,null,null,null,0,0,{"$error":"#DIV/0!"},{"$error":"#DIV/0!"},{"$error":"#DIV/0!"},{"$error":"#DIV/0!"},{"$error":"#DIV/0!"},{"$error":"#DIV/0!"}]
[null,null,null,null,0,0,{"$error":"#DIV/0!"},{"$error":"#DIV/0!"},{"$error":"#DIV/0!"},{"$error":"#DIV/0!"},{"$error":"#DIV/0!"},{"$error":"#DIV/0!"}]
[null,null,null,null,0,0,{"$error":"#DIV/0!"},{"$error":"#DIV/0!"},{"$error":"#DIV/0!"},{"$error":"#DIV/0!"},{"$error":"#DIV/0!"},{"$error":"#DIV/0!"}]
[null,null,null,null,0,0,{"$error":"#DIV/0!"},{"$error":"#DIV/0!"},{"$error":"#DIV/0!"},{"$error":"#DIV/0!"},{"$error":"#DIV/0!"},{"$error":"#DIV/0!"}]
[null,null,null,null,0,0,{"$error":"#DIV/0!"},{"$error":"#DIV/0!"},{"$error":"#DIV/0!"},{"$error":"#DIV/0!"},{"$error":"#DIV/0!"},{"$error":"#DIV/0!"}]
[null,null,null,null,0,0,{"$error":"#DIV/0!"},{"$error":"#DIV/0!"},{"$error":"#DIV/0!"},{"$error":"#DIV/0!"},{"$error":"#DIV/0!"},{"$error":"#DIV/0!"}]
[null,null,null,null,0,0,{"$error":"#DIV/0!"},{"$error":"#DIV/0!"},{"$error":"#DIV/0!"},{"$error":"#DIV/0!"},{"$error":"#DIV/0!"},{"$error":"#DIV/0!"}]
[null,null,null,null,0,0,{"$error":"#DIV/0!"},{"$error":"#DIV/0!"},{"$error":"#DIV/0!"},{"$error":"#DIV/0!"},{"$error":"#DIV/0!"},{"$error":"#DIV/0!"}]
[null,null,null,null,0,0,{"$error":"#DIV/0!"},{"$error":"#DIV/0!"},{"$error":"#DIV/0!"},{"$error":"#DIV/0!"},{"$error":"#DIV/0!"},{"$error":"#DIV/0!"}]
[null,null,null,null,0,0,{"$error":"#DIV/0!"},{"$error":"#DIV/0!"},{"$error":"#DIV/0!"},{"$error":"#DIV/0!"},{"$error":"#DIV/0!"},{"$error":"#DIV/0!"}]
[null,null,null,null,0,0,{"$error":"#DIV/0!"},{"$error":"#DIV/0!"},{"$error":"#DIV/0!"},{"$error":"#DIV/0!"},{"$error":"#DIV/0!"},{"$error":"#DIV/0!"}]
[null,null,null,null,0,0,{"$error":"#DIV/0!"},{"$error":"#DIV/0!"},{"$error":"#DIV/0!"},{"$error":"#DIV/0!"},{"$error":"#DIV/0!"},{"$error":"#DIV/0!"}]
[null,null,null,null,0,0,{"$error":"#DIV/0!"},{"$error":"#DIV/0!"},{"$error":"#DIV/0!"},{"$error":"#DIV/0!"},{"$error":"#DIV/0!"},{"$error":"#DIV/0!"}]
[null,null,null,null,0,0,{"$error":"#DIV/0!"},{"$error":"#DIV/0!"},{"$error":"#DIV/0!"},{"$error":"#DIV/0!"},{"$error":"#DIV/0!"},{"$error":"#DIV/0!"}]
[null,null,null,null,0,0,{"$error":"#DIV/0!"},{"$error":"#DIV/0!"},{"$error":"#DIV/0!"},{"$error":"#DIV/0!"},{"$error":"#DIV/0!"},{"$error":"#DIV/0!"}]
[null,null,null,null,0,0,{"$error":"#DIV/0!"},{"$error":"#DIV/0!"},{"$error":"#DIV/0!"},{"$error":"#DIV/0!"},{"$error":"#DIV/0!"},{"$error":"#DIV/0!"}]
[null,null,null,null,0,0,{"$error":"#DIV/0!"},{"$error":"#DIV/0!"},{"$error":"#DIV/0!"},{"$error":"#DIV/0!"},{"$error":"#DIV/0!"},{"$error":"#DIV/0!"}]
[null,null,null,null,0,0,{"$error":"#DIV/0!"},{"$error":"#DIV/0!"},{"$error":"#DIV/0!"},{"$error":"#DIV/0!"},{"$error":"#DIV/0!"},{"$error":"#DIV/0!"}]
[null,null,null,null,0,0,{"$error":"#DIV/0!"},{"$error":"#DIV/0!"},{"$error":"#DIV/0!"},{"$error":"#DIV/0!"},{"$error":"#DIV/0!"},{"$error":"#DIV/0!"}]
[null,null,null,null,0,0,{"$error":"#DIV/0!"},{"$error":"#DIV/0!"},{"$error":"#DIV/0!"},{"$error":"#DIV/0!"},{"$error":"#DIV/0!"},{"$error":"#DIV/0!"}]
[null,null,null,null,0,0,{"$error":"#DIV/0!"},{"$error":"#DIV/0!"},{"$error":"#DIV/0!"},{"$error":"#DIV/0!"},{"$error":"#DIV/0!"},{"$error":"#DIV/0!"}]
[null,null,null,null,0,0,{"$error":"#DIV/0!"},{"$error":"#DIV/0!"},{"$error":"#DIV/0!"},{"$error":"#DIV/0!"},{"$error":"#DIV/0!"},{"$error":"#DIV/0!"}]
[null,null,null,null,0,0,{"$error":"#DIV/0!"},{"$error":"#DIV/0!"},{"$error":"#DIV/0!"},{"$error":"#DIV/0!"},{"$error":"#DIV/0!"},{"$error":"#DIV/0!"}]
[null,null,null,null,0,0,{"$error":"#DIV/0!"},{"$error":"#DIV/0!"},{"$error":"#DIV/0!"},{"$error":"#DIV/0!"},{"$error":"#DIV/0!"},{"$error":"#DIV/0!"}]
[null,null,null,null,0,0,{"$error":"#DIV/0!"},{"$error":"#DIV/0!"},{"$error":"#DIV/0!"},{"$error":"#DIV/0!"},{"$error":"#DIV/0!"},{"$error":"#DIV/0!"}]
[null,null,null,null,0,0,{"$error":"#DIV/0!"},{"$error":"#DIV/0!"},{"$error":"#DIV/0!"},{"$error":"#DIV/0!"},{"$error":"#DIV/0!"},{"$error":"#DIV/0!"}]
[null,null,null,null,0,0,{"$error":"#DIV/0!"},{"$error":"#DIV/0!"},{"$error":"#DIV/0!"},{"$error":"#DIV/0!"},{"$error":"#DIV/0!"},{"$error":"#DIV/0!"}]
[null,null,null,null,0,0,{"$error":"#DIV/0!"},{"$error":"#DIV/0!"},{"$error":"#DIV/0!"},{"$error":"#DIV/0!"},{"$error":"#DIV/0!"},{"$error":"#DIV/0!"}]
[null,null,null,null,0,0,{"$error":"#DIV/0!"},{"$error":"#DIV/0!"},{"$error":"#DIV/0!"},{"$error":"#DIV/0!"},{"$error":"#DIV/0!"},{"$error":"#DIV/0!"}]
[null,null,null,null,0,0,{"$error":"#DIV/0!"},{"$error":"#DIV/0!"},{"$error":"#DIV/0!"},{"$error":"#DIV/0!"},{"$error":"#DIV/0!"},{"$error":"#DIV/0!"}]
[null,null,null,null,0,0,{"$error":"#DIV/0!"},{"$error":"#DIV/0!"},{"$error":"#DIV/0!"},{"$error":"#DIV/0!"},{"$error":"#DIV/0!"},{"$error":"#DIV/0!"}]
[null,null,null,null,{"$f":"C578+D578","v":0},{"$f":"C578*D578","v":0},{"$f":"SQRT((E578/F578))","v":{"$error":"#DIV/0!"}},{"$f":"B578*G578","v":{"$error":"#DIV/0!"}},{"$f":"H578^2","v":{"$error":"#DIV/0!"}},{"$f":"SQRT(((E578/F578)+(I578/(2*E578))))","v":{"$error":"#DIV/0!"}},{"$f":"H578-(1.96*J578)","v":{"$error":"#DIV/0!"}},{"$f":"H578+(1.96*J578)","v":{"$error":"#DIV/0!"}}]
[null,null,null,null,0,0,{"$error":"#DIV/0!"},{"$error":"#DIV/0!"},{"$error":"#DIV/0!"},{"$error":"#DIV/0!"},{"$error":"#DIV/0!"},{"$error":"#DIV/0!"}]
[null,null,null,null,0,0,{"$error":"#DIV/0!"},{"$error":"#DIV/0!"},{"$error":"#DIV/0!"},{"$error":"#DIV/0!"},{"$error":"#DIV/0!"},{"$error":"#DIV/0!"}]
[null,null,null,null,0,0,{"$error":"#DIV/0!"},{"$error":"#DIV/0!"},{"$error":"#DIV/0!"},{"$error":"#DIV/0!"},{"$error":"#DIV/0!"},{"$error":"#DIV/0!"}]
[null,null,null,null,0,0,{"$error":"#DIV/0!"},{"$error":"#DIV/0!"},{"$error":"#DIV/0!"},{"$error":"#DIV/0!"},{"$error":"#DIV/0!"},{"$error":"#DIV/0!"}]
[null,null,null,null,0,0,{"$error":"#DIV/0!"},{"$error":"#DIV/0!"},{"$error":"#DIV/0!"},{"$error":"#DIV/0!"},{"$error":"#DIV/0!"},{"$error":"#DIV/0!"}]
[null,null,null,null,0,0,{"$error":"#DIV/0!"},{"$error":"#DIV/0!"},{"$error":"#DIV/0!"},{"$error":"#DIV/0!"},{"$error":"#DIV/0!"},{"$error":"#DIV/0!"}]
[null,null,null,null,0,0,{"$error":"#DIV/0!"},{"$error":"#DIV/0!"},{"$error":"#DIV/0!"},{"$error":"#DIV/0!"},{"$error":"#DIV/0!"},{"$error":"#DIV/0!"}]
[null,null,null,null,0,0,{"$error":"#DIV/0!"},{"$error":"#DIV/0!"},{"$error":"#DIV/0!"},{"$error":"#DIV/0!"},{"$error":"#DIV/0!"},{"$error":"#DIV/0!"}]
[null,null,null,null,0,0,{"$error":"#DIV/0!"},{"$error":"#DIV/0!"},{"$error":"#DIV/0!"},{"$error":"#DIV/0!"},{"$error":"#DIV/0!"},{"$error":"#DIV/0!"}]
[null,null,null,null,0,0,{"$error":"#DIV/0!"},{"$error":"#DIV/0!"},{"$error":"#DIV/0!"},{"$error":"#DIV/0!"},{"$error":"#DIV/0!"},{"$error":"#DIV/0!"}]
[null,null,null,null,0,0,{"$error":"#DIV/0!"},{"$error":"#DIV/0!"},{"$error":"#DIV/0!"},{"$error":"#DIV/0!"},{"$error":"#DIV/0!"},{"$error":"#DIV/0!"}]
[null,null,null,null,0,0,{"$error":"#DIV/0!"},{"$error":"#DIV/0!"},{"$error":"#DIV/0!"},{"$error":"#DIV/0!"},{"$error":"#DIV/0!"},{"$error":"#DIV/0!"}]
[null,null,null,null,0,0,{"$error":"#DIV/0!"},{"$error":"#DIV/0!"},{"$error":"#DIV/0!"},{"$error":"#DIV/0!"},{"$error":"#DIV/0!"},{"$error":"#DIV/0!"}]
[null,null,null,null,0,0,{"$error":"#DIV/0!"},{"$error":"#DIV/0!"},{"$error":"#DIV/0!"},{"$error":"#DIV/0!"},{"$error":"#DIV/0!"},{"$error":"#DIV/0!"}]
[null,null,null,null,0,0,{"$error":"#DIV/0!"},{"$error":"#DIV/0!"},{"$error":"#DIV/0!"},{"$error":"#DIV/0!"},{"$error":"#DIV/0!"},{"$error":"#DIV/0!"}]
[null,null,null,null,0,0,{"$error":"#DIV/0!"},{"$error":"#DIV/0!"},{"$error":"#DIV/0!"},{"$error":"#DIV/0!"},{"$error":"#DIV/0!"},{"$error":"#DIV/0!"}]
[null,null,null,null,0,0,{"$error":"#DIV/0!"},{"$error":"#DIV/0!"},{"$error":"#DIV/0!"},{"$error":"#DIV/0!"},{"$error":"#DIV/0!"},{"$error":"#DIV/0!"}]
[null,null,null,null,0,0,{"$error":"#DIV/0!"},{"$error":"#DIV/0!"},{"$error":"#DIV/0!"},{"$error":"#DIV/0!"},{"$error":"#DIV/0!"},{"$error":"#DIV/0!"}]
[null,null,null,null,0,0,{"$error":"#DIV/0!"},{"$error":"#DIV/0!"},{"$error":"#DIV/0!"},{"$error":"#DIV/0!"},{"$error":"#DIV/0!"},{"$error":"#DIV/0!"}]
[null,null,null,null,0,0,{"$error":"#DIV/0!"},{"$error":"#DIV/0!"},{"$error":"#DIV/0!"},{"$error":"#DIV/0!"},{"$error":"#DIV/0!"},{"$error":"#DIV/0!"}]
[null,null,null,null,0,0,{"$error":"#DIV/0!"},{"$error":"#DIV/0!"},{"$error":"#DIV/0!"},{"$error":"#DIV/0!"},{"$error":"#DIV/0!"},{"$error":"#DIV/0!"}]
[null,null,null,null,0,0,{"$error":"#DIV/0!"},{"$error":"#DIV/0!"},{"$error":"#DIV/0!"},{"$error":"#DIV/0!"},{"$error":"#DIV/0!"},{"$error":"#DIV/0!"}]
[null,null,null,null,0,0,{"$error":"#DIV/0!"},{"$error":"#DIV/0!"},{"$error":"#DIV/0!"},{"$error":"#DIV/0!"},{"$error":"#DIV/0!"},{"$error":"#DIV/0!"}]
[null,null,null,null,0,0,{"$error":"#DIV/0!"},{"$error":"#DIV/0!"},{"$error":"#DIV/0!"},{"$error":"#DIV/0!"},{"$error":"#DIV/0!"},{"$error":"#DIV/0!"}]
[null,null,null,null,0,0,{"$error":"#DIV/0!"},{"$error":"#DIV/0!"},{"$error":"#DIV/0!"},{"$error":"#DIV/0!"},{"$error":"#DIV/0!"},{"$error":"#DIV/0!"}]
[null,null,null,null,0,0,{"$error":"#DIV/0!"},{"$error":"#DIV/0!"},{"$error":"#DIV/0!"},{"$error":"#DIV/0!"},{"$error":"#DIV/0!"},{"$error":"#DIV/0!"}]
[null,null,null,null,0,0,{"$error":"#DIV/0!"},{"$error":"#DIV/0!"},{"$error":"#DIV/0!"},{"$error":"#DIV/0!"},{"$error":"#DIV/0!"},{"$error":"#DIV/0!"}]
[null,null,null,null,0,0,{"$error":"#DIV/0!"},{"$error":"#DIV/0!"},{"$error":"#DIV/0!"},{"$error":"#DIV/0!"},{"$error":"#DIV/0!"},{"$error":"#DIV/0!"}]
[null,null,null,null,0,0,{"$error":"#DIV/0!"},{"$error":"#DIV/0!"},{"$error":"#DIV/0!"},{"$error":"#DIV/0!"},{"$error":"#DIV/0!"},{"$error":"#DIV/0!"}]
[null,null,null,null,0,0,{"$error":"#DIV/0!"},{"$error":"#DIV/0!"},{"$error":"#DIV/0!"},{"$error":"#DIV/0!"},{"$error":"#DIV/0!"},{"$error":"#DIV/0!"}]
[null,null,null,null,0,0,{"$error":"#DIV/0!"},{"$error":"#DIV/0!"},{"$error":"#DIV/0!"},{"$error":"#DIV/0!"},{"$error":"#DIV/0!"},{"$error":"#DIV/0!"}]
[null,null,null,null,0,0,{"$error":"#DIV/0!"},{"$error":"#DIV/0!"},{"$error":"#DIV/0!"},{"$error":"#DIV/0!"},{"$error":"#DIV/0!"},{"$error":"#DIV/0!"}]
[null,null,null,null,0,0,{"$error":"#DIV/0!"},{"$error":"#DIV/0!"},{"$error":"#DIV/0!"},{"$error":"#DIV/0!"},{"$error":"#DIV/0!"},{"$error":"#DIV/0!"}]
[null,null,null,null,0,0,{"$error":"#DIV/0!"},{"$error":"#DIV/0!"},{"$error":"#DIV/0!"},{"$error":"#DIV/0!"},{"$error":"#DIV/0!"},{"$error":"#DIV/0!"}]
[null,null,null,null,0,0,{"$error":"#DIV/0!"},{"$error":"#DIV/0!"},{"$error":"#DIV/0!"},{"$error":"#DIV/0!"},{"$error":"#DIV/0!"},{"$error":"#DIV/0!"}]
[null,null,null,null,0,0,{"$error":"#DIV/0!"},{"$error":"#DIV/0!"},{"$error":"#DIV/0!"},{"$error":"#DIV/0!"},{"$error":"#DIV/0!"},{"$error":"#DIV/0!"}]
[null,null,null,null,0,0,{"$error":"#DIV/0!"},{"$error":"#DIV/0!"},{"$error":"#DIV/0!"},{"$error":"#DIV/0!"},{"$error":"#DIV/0!"},{"$error":"#DIV/0!"}]
[null,null,null,null,0,0,{"$error":"#DIV/0!"},{"$error":"#DIV/0!"},{"$error":"#DIV/0!"},{"$error":"#DIV/0!"},{"$error":"#DIV/0!"},{"$error":"#DIV/0!"}]
[null,null,null,null,0,0,{"$error":"#DIV/0!"},{"$error":"#DIV/0!"},{"$error":"#DIV/0!"},{"$error":"#DIV/0!"},{"$error":"#DIV/0!"},{"$error":"#DIV/0!"}]
[null,null,null,null,0,0,{"$error":"#DIV/0!"},{"$error":"#DIV/0!"},{"$error":"#DIV/0!"},{"$error":"#DIV/0!"},{"$error":"#DIV/0!"},{"$error":"#DIV/0!"}]
[null,null,null,null,0,0,{"$error":"#DIV/0!"},{"$error":"#DIV/0!"},{"$error":"#DIV/0!"},{"$error":"#DIV/0!"},{"$error":"#DIV/0!"},{"$error":"#DIV/0!"}]
[null,null,null,null,0,0,{"$error":"#DIV/0!"},{"$error":"#DIV/0!"},{"$error":"#DIV/0!"},{"$error":"#DIV/0!"},{"$error":"#DIV/0!"},{"$error":"#DIV/0!"}]
[null,null,null,null,0,0,{"$error":"#DIV/0!"},{"$error":"#DIV/0!"},{"$error":"#DIV/0!"},{"$error":"#DIV/0!"},{"$error":"#DIV/0!"},{"$error":"#DIV/0!"}]
[null,null,null,null,0,0,{"$error":"#DIV/0!"},{"$error":"#DIV/0!"},{"$error":"#DIV/0!"},{"$error":"#DIV/0!"},{"$error":"#DIV/0!"},{"$error":"#DIV/0!"}]
[null,null,null,null,0,0,{"$error":"#DIV/0!"},{"$error":"#DIV/0!"},{"$error":"#DIV/0!"},{"$error":"#DIV/0!"},{"$error":"#DIV/0!"},{"$error":"#DIV/0!"}]
[null,null,null,null,0,0,{"$error":"#DIV/0!"},{"$error":"#DIV/0!"},{"$error":"#DIV/0!"},{"$error":"#DIV/0!"},{"$error":"#DIV/0!"},{"$error":"#DIV/0!"}]
[null,null,null,null,0,0,{"$error":"#DIV/0!"},{"$error":"#DIV/0!"},{"$error":"#DIV/0!"},{"$error":"#DIV/0!"},{"$error":"#DIV/0!"},{"$error":"#DIV/0!"}]
[null,null,null,null,0,0,{"$error":"#DIV/0!"},{"$error":"#DIV/0!"},{"$error":"#DIV/0!"},{"$error":"#DIV/0!"},{"$error":"#DIV/0!"},{"$error":"#DIV/0!"}]
[null,null,null,null,0,0,{"$error":"#DIV/0!"},{"$error":"#DIV/0!"},{"$error":"#DIV/0!"},{"$error":"#DIV/0!"},{"$error":"#DIV/0!"},{"$error":"#DIV/0!"}]
[null,null,null,null,0,0,{"$error":"#DIV/0!"},{"$error":"#DIV/0!"},{"$error":"#DIV/0!"},{"$error":"#DIV/0!"},{"$error":"#DIV/0!"},{"$error":"#DIV/0!"}]
[null,null,null,null,0,0,{"$error":"#DIV/0!"},{"$error":"#DIV/0!"},{"$error":"#DIV/0!"},{"$error":"#DIV/0!"},{"$error":"#DIV/0!"},{"$error":"#DIV/0!"}]
[null,null,null,null,0,0,{"$error":"#DIV/0!"},{"$error":"#DIV/0!"},{"$error":"#DIV/0!"},{"$error":"#DIV/0!"},{"$error":"#DIV/0!"},{"$error":"#DIV/0!"}]
[null,null,null,null,0,0,{"$error":"#DIV/0!"},{"$error":"#DIV/0!"},{"$error":"#DIV/0!"},{"$error":"#DIV/0!"},{"$error":"#DIV/0!"},{"$error":"#DIV/0!"}]
[null,null,null,null,0,0,{"$error":"#DIV/0!"},{"$error":"#DIV/0!"},{"$error":"#DIV/0!"},{"$error":"#DIV/0!"},{"$error":"#DIV/0!"},{"$error":"#DIV/0!"}]
[null,null,null,null,0,0,{"$error":"#DIV/0!"},{"$error":"#DIV/0!"},{"$error":"#DIV/0!"},{"$error":"#DIV/0!"},{"$error":"#DIV/0!"},{"$error":"#DIV/0!"}]
[null,null,null,null,0,0,{"$error":"#DIV/0!"},{"$error":"#DIV/0!"},{"$error":"#DIV/0!"},{"$error":"#DIV/0!"},{"$error":"#DIV/0!"},{"$error":"#DIV/0!"}]
[null,null,null,null,0,0,{"$error":"#DIV/0!"},{"$error":"#DIV/0!"},{"$error":"#DIV/0!"},{"$error":"#DIV/0!"},{"$error":"#DIV/0!"},{"$error":"#DIV/0!"}]
[null,null,null,null,0,0,{"$error":"#DIV/0!"},{"$error":"#DIV/0!"},{"$error":"#DIV/0!"},{"$error":"#DIV/0!"},{"$error":"#DIV/0!"},{"$error":"#DIV/0!"}]
[null,null,null,null,0,0,{"$error":"#DIV/0!"},{"$error":"#DIV/0!"},{"$error":"#DIV/0!"},{"$error":"#DIV/0!"},{"$error":"#DIV/0!"},{"$error":"#DIV/0!"}]
[null,null,null,null,0,0,{"$error":"#DIV/0!"},{"$error":"#DIV/0!"},{"$error":"#DIV/0!"},{"$error":"#DIV/0!"},{"$error":"#DIV/0!"},{"$error":"#DIV/0!"}]
[null,null,null,null,0,0,{"$error":"#DIV/0!"},{"$error":"#DIV/0!"},{"$error":"#DIV/0!"},{"$error":"#DIV/0!"},{"$error":"#DIV/0!"},{"$error":"#DIV/0!"}]
[null,null,null,null,0,0,{"$error":"#DIV/0!"},{"$error":"#DIV/0!"},{"$error":"#DIV/0!"},{"$error":"#DIV/0!"},{"$error":"#DIV/0!"},{"$error":"#DIV/0!"}]
[null,null,null,null,0,0,{"$error":"#DIV/0!"},{"$error":"#DIV/0!"},{"$error":"#DIV/0!"},{"$error":"#DIV/0!"},{"$error":"#DIV/0!"},{"$error":"#DIV/0!"}]
[null,null,null,null,{"$f":"C642+D642","v":0},{"$f":"C642*D642","v":0},{"$f":"SQRT((E642/F642))","v":{"$error":"#DIV/0!"}},{"$f":"B642*G642","v":{"$error":"#DIV/0!"}},{"$f":"H642^2","v":{"$error":"#DIV/0!"}},{"$f":"SQRT(((E642/F642)+(I642/(2*E642))))","v":{"$error":"#DIV/0!"}},{"$f":"H642-(1.96*J642)","v":{"$error":"#DIV/0!"}},{"$f":"H642+(1.96*J642)","v":{"$error":"#DIV/0!"}}]
[null,null,null,null,0,0,{"$error":"#DIV/0!"},{"$error":"#DIV/0!"},{"$error":"#DIV/0!"},{"$error":"#DIV/0!"},{"$error":"#DIV/0!"},{"$error":"#DIV/0!"}]
[null,null,null,null,0,0,{"$error":"#DIV/0!"},{"$error":"#DIV/0!"},{"$error":"#DIV/0!"},{"$error":"#DIV/0!"},{"$error":"#DIV/0!"},{"$error":"#DIV/0!"}]
[null,null,null,null,0,0,{"$error":"#DIV/0!"},{"$error":"#DIV/0!"},{"$error":"#DIV/0!"},{"$error":"#DIV/0!"},{"$error":"#DIV/0!"},{"$error":"#DIV/0!"}]
[null,null,null,null,0,0,{"$error":"#DIV/0!"},{"$error":"#DIV/0!"},{"$error":"#DIV/0!"},{"$error":"#DIV/0!"},{"$error":"#DIV/0!"},{"$error":"#DIV/0!"}]
[null,null,null,null,0,0,{"$error":"#DIV/0!"},{"$error":"#DIV/0!"},{"$error":"#DIV/0!"},{"$error":"#DIV/0!"},{"$error":"#DIV/0!"},{"$error":"#DIV/0!"}]
[null,null,null,null,0,0,{"$error":"#DIV/0!"},{"$error":"#DIV/0!"},{"$error":"#DIV/0!"},{"$error":"#DIV/0!"},{"$error":"#DIV/0!"},{"$error":"#DIV/0!"}]
[null,null,null,null,0,0,{"$error":"#DIV/0!"},{"$error":"#DIV/0!"},{"$error":"#DIV/0!"},{"$error":"#DIV/0!"},{"$error":"#DIV/0!"},{"$error":"#DIV/0!"}]
[null,null,null,null,0,0,{"$error":"#DIV/0!"},{"$error":"#DIV/0!"},{"$error":"#DIV/0!"},{"$error":"#DIV/0!"},{"$error":"#DIV/0!"},{"$error":"#DIV/0!"}]
[null,null,null,null,0,0,{"$error":"#DIV/0!"},{"$error":"#DIV/0!"},{"$error":"#DIV/0!"},{"$error":"#DIV/0!"},{"$error":"#DIV/0!"},{"$error":"#DIV/0!"}]
[null,null,null,null,0,0,{"$error":"#DIV/0!"},{"$error":"#DIV/0!"},{"$error":"#DIV/0!"},{"$error":"#DIV/0!"},{"$error":"#DIV/0!"},{"$error":"#DIV/0!"}]
[null,null,null,null,0,0,{"$error":"#DIV/0!"},{"$error":"#DIV/0!"},{"$error":"#DIV/0!"},{"$error":"#DIV/0!"},{"$error":"#DIV/0!"},{"$error":"#DIV/0!"}]
[null,null,null,null,0,0,{"$error":"#DIV/0!"},{"$error":"#DIV/0!"},{"$error":"#DIV/0!"},{"$error":"#DIV/0!"},{"$error":"#DIV/0!"},{"$error":"#DIV/0!"}]
[null,null,null,null,0,0,{"$error":"#DIV/0!"},{"$error":"#DIV/0!"},{"$error":"#DIV/0!"},{"$error":"#DIV/0!"},{"$error":"#DIV/0!"},{"$error":"#DIV/0!"}]
[null,null,null,null,0,0,{"$error":"#DIV/0!"},{"$error":"#DIV/0!"},{"$error":"#DIV/0!"},{"$error":"#DIV/0!"},{"$error":"#DIV/0!"},{"$error":"#DIV/0!"}]
[null,null,null,null,0,0,{"$error":"#DIV/0!"},{"$error":"#DIV/0!"},{"$error":"#DIV/0!"},{"$error":"#DIV/0!"},{"$error":"#DIV/0!"},{"$error":"#DIV/0!"}]
[null,null,null,null,0,0,{"$error":"#DIV/0!"},{"$error":"#DIV/0!"},{"$error":"#DIV/0!"},{"$error":"#DIV/0!"},{"$error":"#DIV/0!"},{"$error":"#DIV/0!"}]
[null,null,null,null,0,0,{"$error":"#DIV/0!"},{"$error":"#DIV/0!"},{"$error":"#DIV/0!"},{"$error":"#DIV/0!"},{"$error":"#DIV/0!"},{"$error":"#DIV/0!"}]
[null,null,null,null,0,0,{"$error":"#DIV/0!"},{"$error":"#DIV/0!"},{"$error":"#DIV/0!"},{"$error":"#DIV/0!"},{"$error":"#DIV/0!"},{"$error":"#DIV/0!"}]
[null,null,null,null,0,0,{"$error":"#DIV/0!"},{"$error":"#DIV/0!"},{"$error":"#DIV/0!"},{"$error":"#DIV/0!"},{"$error":"#DIV/0!"},{"$error":"#DIV/0!"}]
[null,null,null,null,0,0,{"$error":"#DIV/0!"},{"$error":"#DIV/0!"},{"$error":"#DIV/0!"},{"$error":"#DIV/0!"},{"$error":"#DIV/0!"},{"$error":"#DIV/0!"}]
[null,null,null,null,0,0,{"$error":"#DIV/0!"},{"$error":"#DIV/0!"},{"$error":"#DIV/0!"},{"$error":"#DIV/0!"},{"$error":"#DIV/0!"},{"$error":"#DIV/0!"}]
[null,null,null,null,0,0,{"$error":"#DIV/0!"},{"$error":"#DIV/0!"},{"$error":"#DIV/0!"},{"$error":"#DIV/0!"},{"$error":"#DIV/0!"},{"$error":"#DIV/0!"}]
[null,null,null,null,0,0,{"$error":"#DIV/0!"},{"$error":"#DIV/0!"},{"$error":"#DIV/0!"},{"$error":"#DIV/0!"},{"$error":"#DIV/0!"},{"$error":"#DIV/0!"}]
[null,null,null,null,0,0,{"$error":"#DIV/0!"},{"$error":"#DIV/0!"},{"$error":"#DIV/0!"},{"$error":"#DIV/0!"},{"$error":"#DIV/0!"},{"$error":"#DIV/0!"}]
[null,null,null,null,0,0,{"$error":"#DIV/0!"},{"$error":"#DIV/0!"},{"$error":"#DIV/0!"},{"$error":"#DIV/0!"},{"$error":"#DIV/0!"},{"$error":"#DIV/0!"}]
[null,null,null,null,0,0,{"$error":"#DIV/0!"},{"$error":"#DIV/0!"},{"$error":"#DIV/0!"},{"$error":"#DIV/0!"},{"$error":"#DIV/0!"},{"$error":"#DIV/0!"}]
[null,null,null,null,0,0,{"$error":"#DIV/0!"},{"$error":"#DIV/0!"},{"$error":"#DIV/0!"},{"$error":"#DIV/0!"},{"$error":"#DIV/0!"},{"$error":"#DIV/0!"}]
[null,null,null,null,0,0,{"$error":"#DIV/0!"},{"$error":"#DIV/0!"},{"$error":"#DIV/0!"},{"$error":"#DIV/0!"},{"$error":"#DIV/0!"},{"$error":"#DIV/0!"}]
[null,null,null,null,0,0,{"$error":"#DIV/0!"},{"$error":"#DIV/0!"},{"$error":"#DIV/0!"},{"$error":"#DIV/0!"},{"$error":"#DIV/0!"},{"$error":"#DIV/0!"}]
[null,null,null,null,null,null,{"$error":"#DIV/0!"},{"$error":"#DIV/0!"}]

{"sheet":"Weighted Effect Size","index":6,"n_rows":186,"n_cols":18,"rows_kept":186,"cut":false,"hidden":false,"merged":[[185,7,185,8],[184,3,184,6],[185,3,185,6],[185,1,185,2]]}
["Report","d","n1","n2","d2","n1n2","2n1n2","n1 + n2","n1n2d2","Numerator:            2n1n2(n1 +n2)","Denominator:         2(n1 +n2)2 + n1n2d2","w","w*d",null,"dave","SEd(avg) ","LO95","HI95"]
[null,null,null,null,{"$f":"B2^2","v":0},{"$f":"C2*D2","v":0},{"$f":"2*C2*D2","v":0},{"$f":"C2+D2","v":0},{"$f":"C2*D2*(B2^2)","v":0},{"$f":"G2*H2","v":0},{"$f":"2*(H2^2)+I2","v":0},{"$f":"IFERROR(J2/K2,0)","v":0},{"$f":"IFERROR(L2*B2,0)","v":0},null,{"$f":"IF(L185=0,0,M185/L185)","v":0},{"$f":"IF(L185=0,0,SQRT(1/$L$185))","v":0},{"$f":"O2-1.96*P2","v":0},{"$f":"O2+1.96*P2","v":0}]
[null,null,null,null,{"$f":"B3^2","v":0},{"$f":"C3*D3","v":0},{"$f":"2*C3*D3","v":0},{"$f":"C3+D3","v":0},{"$f":"C3*D3*(B3^2)","v":0},{"$f":"G3*H3","v":0},{"$f":"2*(H3^2)+I3","v":0},{"$f":"IFERROR(J3/K3,0)","v":0},{"$f":"IFERROR(L3*B3,0)","v":0}]
[null,null,null,null,0,0,0,0,0,0,0,0,0]
[null,null,null,null,0,0,0,0,0,0,0,0,0]
[null,null,null,null,0,0,0,0,0,0,0,0,0]
[null,null,null,null,0,0,0,0,0,0,0,0,0]
[null,null,null,null,0,0,0,0,0,0,0,0,0]
[null,null,null,null,0,0,0,0,0,0,0,0,0]
[null,null,null,null,0,0,0,0,0,0,0,0,0]
[null,null,null,null,0,0,0,0,0,0,0,0,0]
[null,null,null,null,0,0,0,0,0,0,0,0,0]
[null,null,null,null,0,0,0,0,0,0,0,0,0]
[null,null,null,null,0,0,0,0,0,0,0,0,0]
[null,null,null,null,0,0,0,0,0,0,0,0,0]
[null,null,null,null,0,0,0,0,0,0,0,0,0]
[null,null,null,null,0,0,0,0,0,0,0,0,0]
[null,null,null,null,0,0,0,0,0,0,0,0,0]
[null,null,null,null,0,0,0,0,0,0,0,0,0]
[null,null,null,null,0,0,0,0,0,0,0,0,0]
[null,null,null,null,0,0,0,0,0,0,0,0,0]
[null,null,null,null,0,0,{"$f":"2*C22*D22","v":0},{"$f":"C22+D22","v":0},{"$f":"C22*D22*(B22^2)","v":0},{"$f":"G22*H22","v":0},{"$f":"2*(H22^2)+I22","v":0},{"$f":"IFERROR(J22/K22,0)","v":0},{"$f":"IFERROR(L22*B22,0)","v":0}]
[null,null,null,null,0,0,0,0,0,0,0,0,0]
[null,null,null,null,0,0,0,0,0,0,0,0,0]
[null,null,null,null,0,0,0,0,0,0,0,0,0]
[null,null,null,null,0,0,0,0,0,0,0,0,0]
[null,null,null,null,0,0,0,0,0,0,0,0,0]
[null,null,null,null,0,0,0,0,0,0,0,0,0]
[null,null,null,null,0,0,0,0,0,0,0,0,0]
[null,null,null,null,0,0,0,0,0,0,0,0,0]
[null,null,null,null,0,0,0,0,0,0,0,0,0]
[null,null,null,null,0,0,0,0,0,0,0,0,0]
[null,null,null,null,0,0,0,0,0,0,0,0,0]
[null,null,null,null,0,0,0,0,0,0,0,0,0]
[null,null,null,null,0,0,0,0,0,0,0,0,0]
[null,null,null,null,0,0,0,0,0,0,0,0,0]
[null,null,null,null,0,0,0,0,0,0,0,0,0]
[null,null,null,null,0,0,0,0,0,0,0,0,0]
[null,null,null,null,0,0,0,0,0,0,0,0,0]
[null,null,null,null,0,0,0,0,0,0,0,0,0]
[null,null,null,null,0,0,0,0,0,0,0,0,0]
[null,null,null,null,0,0,0,0,0,0,0,0,0]
[null,null,null,null,0,0,0,0,0,0,0,0,0]
[null,null,null,null,0,0,0,0,0,0,0,0,0]
[null,null,null,null,0,0,0,0,0,0,0,0,0]
[null,null,null,null,0,0,0,0,0,0,0,0,0]
[null,null,null,null,0,0,0,0,0,0,0,0,0]
[null,null,null,null,0,0,0,0,0,0,0,0,0]
[null,null,null,null,0,0,0,0,0,0,0,0,0]
[null,null,null,null,0,0,0,0,0,0,0,0,0]
[null,null,null,null,0,0,0,0,0,0,0,0,0]
[null,null,null,null,0,0,0,0,0,0,0,0,0]
[null,null,null,null,0,0,0,0,0,0,0,0,0]
[null,null,null,null,0,0,0,0,0,0,0,0,0]
[null,null,null,null,0,0,0,0,0,0,0,0,0]
[null,null,null,null,0,0,0,0,0,0,0,0,0]
[null,null,null,null,0,0,0,0,0,0,0,0,0]
[null,null,null,null,0,0,0,0,0,0,0,0,0]
[null,null,null,null,0,0,0,0,0,0,0,0,0]
[null,null,null,null,0,0,0,0,0,0,0,0,0]
[null,null,null,null,0,0,0,0,0,0,0,0,0]
[null,null,null,null,0,0,0,0,0,0,0,0,0]
[null,null,null,null,0,0,0,{"$f":"SUM(H2:H61)","v":0},0,0,0,0,0]
[null,null,null,null,0,0,0,0,0,0,0,0,0]
[null,null,null,null,0,0,0,0,0,0,0,0,0]
[null,null,null,null,0,0,0,0,0,0,0,0,0]
[null,null,null,null,{"$f":"B67^2","v":0},{"$f":"C67*D67","v":0},0,0,0,0,0,0,0]
[null,null,null,null,0,0,0,0,0,0,0,0,0]
[null,null,null,null,0,0,0,0,0,0,0,0,0]
[null,null,null,null,0,0,0,0,0,0,0,0,0]
[null,null,null,null,0,0,0,0,0,0,0,0,0]
[null,null,null,null,0,0,0,0,0,0,0,0,0]
[null,null,null,null,0,0,0,0,0,0,0,0,0]
[null,null,null,null,0,0,0,0,0,0,0,0,0]
[null,null,null,null,0,0,0,0,0,0,0,0,0]
[null,null,null,null,0,0,0,0,0,0,0,0,0]
[null,null,null,null,0,0,0,0,0,0,0,0,0]
[null,null,null,null,0,0,0,0,0,0,0,0,0]
[null,null,null,null,0,0,0,0,0,0,0,0,0]
[null,null,null,null,0,0,0,0,0,0,0,0,0]
[null,null,null,null,0,0,0,0,0,0,0,0,0]
[null,null,null,null,0,0,0,0,0,0,0,0,0]
[null,null,null,null,0,0,0,0,0,0,0,0,0]
[null,null,null,null,0,0,0,0,0,0,0,0,0]
[null,null,null,null,0,0,0,0,0,0,0,0,0]
[null,null,null,null,0,0,{"$f":"2*C86*D86","v":0},{"$f":"C86+D86","v":0},{"$f":"C86*D86*(B86^2)","v":0},{"$f":"G86*H86","v":0},{"$f":"2*(H86^2)+I86","v":0},{"$f":"IFERROR(J86/K86,0)","v":0},{"$f":"IFERROR(L86*B86,0)","v":0}]
[null,null,null,null,0,0,0,0,0,0,0,0,0]
[null,null,null,null,0,0,0,0,0,0,0,0,0]
[null,null,null,null,0,0,0,0,0,0,0,0,0]
[null,null,null,null,0,0,0,0,0,0,0,0,0]
[null,null,null,null,0,0,0,0,0,0,0,0,0]
[null,null,null,null,0,0,0,0,0,0,0,0,0]
[null,null,null,null,0,0,0,0,0,0,0,0,0]
[null,null,null,null,0,0,0,0,0,0,0,0,0]
[null,null,null,null,0,0,0,0,0,0,0,0,0]
[null,null,null,null,0,0,0,0,0,0,0,0,0]
[null,null,null,null,0,0,0,0,0,0,0,0,0]
[null,null,null,null,0,0,0,0,0,0,0,0,0]
[null,null,null,null,0,0,0,0,0,0,0,0,0]
[null,null,null,null,0,0,0,0,0,0,0,0,0]
[null,null,null,null,0,0,0,0,0,0,0,0,0]
[null,null,null,null,0,0,0,0,0,0,0,0,0]
[null,null,null,null,0,0,0,0,0,0,0,0,0]
[null,null,null,null,0,0,0,0,0,0,0,0,0]
[null,null,null,null,0,0,0,0,0,0,0,0,0]
[null,null,null,null,0,0,0,0,0,0,0,0,0]
[null,null,null,null,0,0,0,0,0,0,0,0,0]
[null,null,null,null,0,0,0,0,0,0,0,0,0]
[null,null,null,null,0,0,0,0,0,0,0,0,0]
[null,null,null,null,0,0,0,0,0,0,0,0,0]
[null,null,null,null,0,0,0,0,0,0,0,0,0]
[null,null,null,null,0,0,0,0,0,0,0,0,0]
[null,null,null,null,0,0,0,0,0,0,0,0,0]
[null,null,null,null,0,0,0,0,0,0,0,0,0]
[null,null,null,null,0,0,0,{"$f":"SUM(H2:H113)","v":0},0,0,0,0,0]
[null,null,null,null,0,0,0,0,0,0,0,0,0]
[null,null,null,null,0,0,0,0,0,0,0,0,0]
[null,null,null,null,0,0,0,0,0,0,0,0,0]
[null,null,null,null,0,0,0,0,0,0,0,0,0]
[null,null,null,null,0,0,0,0,0,0,0,0,0]
[null,null,null,null,0,0,0,0,0,0,0,0,0]
[null,null,null,null,0,0,0,0,0,0,0,0,0]
[null,null,null,null,0,0,0,0,0,0,0,0,0]
[null,null,null,null,0,0,0,0,0,0,0,0,0]
[null,null,null,null,0,0,0,0,0,0,0,0,0]
[null,null,null,null,0,0,0,0,0,0,0,0,0]
[null,null,null,null,0,0,0,0,0,0,0,0,0]
[null,null,null,null,0,0,0,0,0,0,0,0,0]
[null,null,null,null,0,0,0,0,0,0,0,0,0]
[null,null,null,null,0,0,0,0,0,0,0,0,0]
[null,null,null,null,{"$f":"B131^2","v":0},{"$f":"C131*D131","v":0},0,0,0,0,0,0,0]
[null,null,null,null,0,0,0,0,0,0,0,0,0]
[null,null,null,null,0,0,0,0,0,0,0,0,0]
[null,null,null,null,0,0,0,0,0,0,0,0,0]
[null,null,null,null,0,0,0,0,0,0,0,0,0]
[null,null,null,null,0,0,0,0,0,0,0,0,0]
[null,null,null,null,0,0,0,0,0,0,0,0,0]
[null,null,null,null,0,0,0,0,0,0,0,0,0]
[null,null,null,null,0,0,0,0,0,0,0,0,0]
[null,null,null,null,0,0,0,0,0,0,0,0,0]
[null,null,null,null,0,0,0,0,0,0,0,0,0]
[null,null,null,null,0,0,0,0,0,0,0,0,0]
[null,null,null,null,0,0,0,0,0,0,0,0,0]
[null,null,null,null,0,0,0,0,0,0,0,0,0]
[null,null,null,null,0,0,0,0,0,0,0,0,0]
[null,null,null,null,0,0,0,0,0,0,0,0,0]
[null,null,null,null,0,0,0,0,0,0,0,0,0]
[null,null,null,null,0,0,0,0,0,0,0,0,0]
[null,null,null,null,0,0,0,0,0,0,0,0,0]
[null,null,null,null,0,0,{"$f":"2*C150*D150","v":0},{"$f":"C150+D150","v":0},{"$f":"C150*D150*(B150^2)","v":0},{"$f":"G150*H150","v":0},{"$f":"2*(H150^2)+I150","v":0},{"$f":"IFERROR(J150/K150,0)","v":0},{"$f":"IFERROR(L150*B150,0)","v":0}]
[null,null,null,null,{"$f":"B151^2","v":0},{"$f":"C151*D151","v":0},0,0,0,0,0,0,0]
[null,null,null,null,{"$f":"B152^2","v":0},{"$f":"C152*D152","v":0},0,0,0,0,0,0,0]
[null,null,null,null,0,0,0,0,0,0,0,0,0]
[null,null,null,null,0,0,0,0,0,0,0,0,0]
[null,null,null,null,0,0,0,0,0,0,0,0,0]
[null,null,null,null,0,0,0,0,0,0,0,0,0]
[null,null,null,null,0,0,0,0,0,0,0,0,0]
[null,null,null,null,0,0,0,0,0,0,0,0,0]
[null,null,null,null,0,0,0,0,0,0,0,0,0]
[null,null,null,null,0,0,0,0,0,0,0,0,0]
[null,null,null,null,0,0,0,0,0,0,0,0,0]
[null,null,null,null,0,0,0,0,0,0,0,0,0]
[null,null,null,null,0,0,0,0,0,0,0,0,0]
[null,null,null,null,0,0,0,0,0,0,0,0,0]
[null,null,null,null,0,0,0,0,0,0,0,0,0]
[null,null,null,null,0,0,0,0,0,0,0,0,0]
[null,null,null,null,0,0,0,0,0,0,0,0,0]
[null,null,null,null,0,0,0,0,0,0,0,0,0]
[null,null,null,null,0,0,0,0,0,0,0,0,0]
[null,null,null,null,0,0,0,0,0,0,0,0,0]
[null,null,null,null,0,0,0,0,0,0,0,0,0]
[null,null,null,null,0,0,0,0,0,0,0,0,0]
[null,null,null,null,0,0,0,0,0,0,0,0,0]
[null,null,null,null,0,0,0,0,0,0,0,0,0]
[null,null,null,null,0,0,0,0,0,0,0,0,0]
[null,null,null,null,0,0,0,0,0,0,0,0,0]
[null,null,null,null,0,0,0,0,0,0,0,0,0]
[null,null,null,null,0,0,0,0,0,0,0,0,0]
[null,null,null,null,0,0,0,0,0,0,0,0,0]
[null,null,null,null,0,0,0,0,0,0,0,0,0]
[null,null,null,null,0,0,0,0,0,0,0,0,0]
[null,null,null,null,0,0,0,0,0,0,0,0,0]
[null,null,null,null,0,0,0,0,0,0,0,0,0]
[]
[null,null,"davg:",{"$f":"IF(L185=0,0,M185/L185)","v":0},null,null,null,null,null,null,"Sums:",{"$f":"SUM(L2:L183)","v":0},{"$f":"SUM(M2:M183)","v":0}]
[null,"davg LO95:",null,{"$f":"$D$185-(1.96*$N$2)","v":0},null,null,null,"davg HI95:",null,{"$f":"$D$185+(1.96*$N$2)","v":0}]

{"sheet":"ES from Omnibus F","index":7,"n_rows":27,"n_cols":13,"rows_kept":27,"cut":false,"hidden":false,"merged":[]}
["Report","Study","X Bar","(X Bar)^2","n","n(X Bar)","n(X Bar^2)","MS-Between","Omnibus F","S-Pooled",null,null,"For details of this conversion, see Lipsey & Wilson (2001), p. 183"]
[null,null,null,{"$f":"C2^2","v":0},null,{"$f":"E2*C2","v":0},{"$f":"E2*D2","v":0},{"$f":"(G21-(F21^2/E21))/3","v":{"$error":"#DIV/0!"}},null,{"$f":"SQRT(H2/I2)","v":{"$error":"#DIV/0!"}},null,null,"Note: Must have group means, otherwise this won't work - in that case, no ES can be computed."]
[null,null,null,{"$f":"C3^2","v":0},null,{"$f":"E3*C3","v":0},{"$f":"E3*D3","v":0}]
[null,null,null,0,null,0,0]
[null,null,null,0,null,0,0]
[null,null,null,0,null,0,0]
[null,null,null,0,null,0,0]
[null,null,null,0,null,0,0]
[null,null,null,0,null,0,0]
[null,null,null,0,null,0,0]
[null,null,null,0,null,0,0]
[null,null,null,0,null,0,0]
[null,null,null,0,null,0,0]
[null,null,null,0,null,0,0]
[null,null,null,0,null,0,0]
[null,null,null,0,null,0,0]
[null,null,null,0,null,0,0]
[null,null,null,0,null,0,0]
[null,null,null,0,null,0,0]
[null,null,null,0,null,0,0]
[null,null,null,"Totals:",{"$f":"SUM(E2:E20)","v":0},{"$f":"SUM(F2:F20)","v":0},0]
[]
[null,"Comparison Description","Control Mean","Treatment Mean","Control n","Treatment n","ES"]
[null,null,null,null,null,null,{"$f":"(D24-C24)/$J$2","v":{"$error":"#DIV/0!"}}]
[null,null,null,null,null,null,{"$f":"(D25-C25)/$J$2","v":{"$error":"#DIV/0!"}}]
[]
[null,null,null,null,null,"Average ES:",{"$f":"AVERAGE(G24:G25)","v":{"$error":"#DIV/0!"}}]

{"sheet":"Homogeneity Test","index":8,"n_rows":184,"n_cols":15,"rows_kept":184,"cut":false,"hidden":false,"merged":[[11,9,13,9],[11,10,13,11],[4,9,5,9],[4,10,5,11],[7,9,9,9],[7,10,9,11]]}
["Study","ES","ESavg","w","ES - ESavg","(ES - ESavg)2","w(ES - ESavg)2",null,"Indicator Variable",null,null,null,null,"wi","wi2"]
[{"$f":"'Weighted Effect Size'!#REF!","v":{"$error":"#REF!"}},{"$f":"'Weighted Effect Size'!B2","v":0},{"$f":"'Weighted Effect Size'!D185","v":0},{"$f":"IF(C2=0,0,'Weighted Effect Size'!L2)","v":0},{"$f":"IF(B2=0,0,B2-C2)","v":0},{"$f":"IF(E2=0,0,E2^2)","v":0},{"$f":"IF(F2=0,0,D2*F2)","v":0},null,{"$f":"IF(B2=0,0,1)","v":0},null,null,null,null,{"$f":"D2","v":0},{"$f":"N2^2","v":0}]
[{"$f":"'Weighted Effect Size'!#REF!","v":{"$error":"#REF!"}},{"$f":"'Weighted Effect Size'!B3","v":0},{"$f":"IF(B3=0,0,C$2)","v":0},{"$f":"IF(C3=0,0,'Weighted Effect Size'!L3)","v":0},{"$f":"IF(B3=0,0,B3-C3)","v":0},{"$f":"IF(E3=0,0,E3^2)","v":0},{"$f":"IF(F3=0,0,D3*F3)","v":0},null,{"$f":"IF(B3=0,0,1)","v":0},"Degrees of Freedom:",{"$f":"IF(SUM(I2:I21)<=0,0,SUM(I2:I183)-1)","v":0},null,null,{"$f":"D3","v":0},{"$f":"N3^2","v":0}]
[{"$f":"'Weighted Effect Size'!#REF!","v":{"$error":"#REF!"}},{"$f":"'Weighted Effect Size'!B4","v":0},{"$f":"IF(B4=0,0,C$2)","v":0},{"$f":"IF(C4=0,0,'Weighted Effect Size'!L4)","v":0},0,0,0,null,0,null,null,null,null,0,0]
[{"$f":"'Weighted Effect Size'!#REF!","v":{"$error":"#REF!"}},{"$f":"'Weighted Effect Size'!B5","v":0},0,{"$f":"IF(C5=0,0,'Weighted Effect Size'!L5)","v":0},0,0,0,null,0,"Measure of Heterogeneity, I2:",{"$f":"IF(G184=0,0,($G$184-$K$3)/$G$184)","v":0},null,null,0,0]
[{"$f":"'Weighted Effect Size'!#REF!","v":{"$error":"#REF!"}},{"$f":"'Weighted Effect Size'!B6","v":0},0,{"$f":"IF(C6=0,0,'Weighted Effect Size'!L6)","v":0},0,0,0,null,0,null,null,null,null,0,0]
[{"$f":"'Weighted Effect Size'!#REF!","v":{"$error":"#REF!"}},{"$f":"'Weighted Effect Size'!B7","v":0},0,{"$f":"IF(C7=0,0,'Weighted Effect Size'!L7)","v":0},0,0,0,null,0,null,null,null,null,0,0]
[{"$f":"'Weighted Effect Size'!#REF!","v":{"$error":"#REF!"}},{"$f":"'Weighted Effect Size'!B8","v":0},0,{"$f":"IF(C8=0,0,'Weighted Effect Size'!L8)","v":0},0,0,0,null,0,"Study to Study Variability, τ2: (Calculated)",{"$f":"IF(G184=0,0,(G184-K3)/(N184-(O184/N184)))","v":0},null,null,0,0]
[{"$f":"'Weighted Effect Size'!#REF!","v":{"$error":"#REF!"}},{"$f":"'Weighted Effect Size'!B9","v":0},0,{"$f":"IF(C9=0,0,'Weighted Effect Size'!L9)","v":0},0,0,0,null,0,null,null,null,null,0,0]
[{"$f":"'Weighted Effect Size'!#REF!","v":{"$error":"#REF!"}},{"$f":"'Weighted Effect Size'!B10","v":0},0,{"$f":"IF(C10=0,0,'Weighted Effect Size'!L10)","v":0},0,0,0,null,0,null,null,null,null,0,0]
[{"$f":"'Weighted Effect Size'!#REF!","v":{"$error":"#REF!"}},{"$f":"'Weighted Effect Size'!B11","v":0},0,{"$f":"IF(C11=0,0,'Weighted Effect Size'!L11)","v":0},0,0,0,null,0,null,null,null,null,0,0]
[{"$f":"'Weighted Effect Size'!#REF!","v":{"$error":"#REF!"}},{"$f":"'Weighted Effect Size'!B12","v":0},0,{"$f":"IF(C12=0,0,'Weighted Effect Size'!L12)","v":0},0,0,0,null,0,null,null,null,null,0,0]
[{"$f":"'Weighted Effect Size'!#REF!","v":{"$error":"#REF!"}},{"$f":"'Weighted Effect Size'!B13","v":0},0,{"$f":"IF(C13=0,0,'Weighted Effect Size'!L13)","v":0},0,0,0,null,0,null,null,null,null,0,0]
[{"$f":"'Weighted Effect Size'!#REF!","v":{"$error":"#REF!"}},{"$f":"'Weighted Effect Size'!B14","v":0},0,{"$f":"IF(C14=0,0,'Weighted Effect Size'!L14)","v":0},0,0,0,null,0,null,null,null,null,0,0]
[{"$f":"'Weighted Effect Size'!#REF!","v":{"$error":"#REF!"}},{"$f":"'Weighted Effect Size'!B15","v":0},0,{"$f":"IF(C15=0,0,'Weighted Effect Size'!L15)","v":0},0,0,0,null,0,null,null,null,null,0,0]
[{"$f":"'Weighted Effect Size'!#REF!","v":{"$error":"#REF!"}},{"$f":"'Weighted Effect Size'!B16","v":0},0,{"$f":"IF(C16=0,0,'Weighted Effect Size'!L16)","v":0},0,0,0,null,0,null,null,null,null,0,0]
[{"$f":"'Weighted Effect Size'!#REF!","v":{"$error":"#REF!"}},{"$f":"'Weighted Effect Size'!B17","v":0},0,{"$f":"IF(C17=0,0,'Weighted Effect Size'!L17)","v":0},0,0,0,null,0,null,null,null,null,0,0]
[{"$f":"'Weighted Effect Size'!#REF!","v":{"$error":"#REF!"}},{"$f":"'Weighted Effect Size'!B18","v":0},0,{"$f":"IF(C18=0,0,'Weighted Effect Size'!L18)","v":0},0,0,0,null,0,null,null,null,null,0,0]
[{"$f":"'Weighted Effect Size'!#REF!","v":{"$error":"#REF!"}},{"$f":"'Weighted Effect Size'!B19","v":0},0,{"$f":"IF(C19=0,0,'Weighted Effect Size'!L19)","v":0},0,0,0,null,0,null,null,null,null,0,0]
[{"$f":"'Weighted Effect Size'!#REF!","v":{"$error":"#REF!"}},{"$f":"'Weighted Effect Size'!B20","v":0},0,{"$f":"IF(C20=0,0,'Weighted Effect Size'!L20)","v":0},0,0,0,null,0,null,null,null,null,0,0]
[{"$f":"'Weighted Effect Size'!#REF!","v":{"$error":"#REF!"}},{"$f":"'Weighted Effect Size'!B21","v":0},0,{"$f":"IF(C21=0,0,'Weighted Effect Size'!L21)","v":0},0,0,0,null,0,null,null,null,null,{"$f":"D21","v":0},{"$f":"N21^2","v":0}]
[{"$f":"'Weighted Effect Size'!#REF!","v":{"$error":"#REF!"}},{"$f":"'Weighted Effect Size'!B22","v":0},0,{"$f":"IF(C22=0,0,'Weighted Effect Size'!L22)","v":0},{"$f":"IF(B22=0,0,B22-C22)","v":0},{"$f":"IF(E22=0,0,E22^2)","v":0},{"$f":"IF(F22=0,0,D22*F22)","v":0},null,0,null,null,null,null,0,0]
[{"$f":"'Weighted Effect Size'!#REF!","v":{"$error":"#REF!"}},{"$f":"'Weighted Effect Size'!B23","v":0},0,{"$f":"IF(C23=0,0,'Weighted Effect Size'!L23)","v":0},0,0,0,null,0,null,null,null,null,0,0]
[{"$f":"'Weighted Effect Size'!#REF!","v":{"$error":"#REF!"}},{"$f":"'Weighted Effect Size'!B24","v":0},0,{"$f":"IF(C24=0,0,'Weighted Effect Size'!L24)","v":0},0,0,0,null,0,null,null,null,null,0,0]
[{"$f":"'Weighted Effect Size'!#REF!","v":{"$error":"#REF!"}},{"$f":"'Weighted Effect Size'!B25","v":0},0,{"$f":"IF(C25=0,0,'Weighted Effect Size'!L25)","v":0},0,0,0,null,0,null,null,null,null,0,0]
[{"$f":"'Weighted Effect Size'!#REF!","v":{"$error":"#REF!"}},{"$f":"'Weighted Effect Size'!B26","v":0},0,{"$f":"IF(C26=0,0,'Weighted Effect Size'!L26)","v":0},0,0,0,null,0,null,null,null,null,0,0]
[{"$f":"'Weighted Effect Size'!#REF!","v":{"$error":"#REF!"}},{"$f":"'Weighted Effect Size'!B27","v":0},0,{"$f":"IF(C27=0,0,'Weighted Effect Size'!L27)","v":0},0,0,0,null,0,null,null,null,null,0,0]
[{"$f":"'Weighted Effect Size'!#REF!","v":{"$error":"#REF!"}},{"$f":"'Weighted Effect Size'!B28","v":0},0,{"$f":"IF(C28=0,0,'Weighted Effect Size'!L28)","v":0},0,0,0,null,0,null,null,null,null,0,0]
[{"$f":"'Weighted Effect Size'!#REF!","v":{"$error":"#REF!"}},{"$f":"'Weighted Effect Size'!B29","v":0},0,{"$f":"IF(C29=0,0,'Weighted Effect Size'!L29)","v":0},0,0,0,null,0,null,null,null,null,0,0]
[{"$f":"'Weighted Effect Size'!#REF!","v":{"$error":"#REF!"}},{"$f":"'Weighted Effect Size'!B30","v":0},0,{"$f":"IF(C30=0,0,'Weighted Effect Size'!L30)","v":0},0,0,0,null,0,null,null,null,null,0,0]
[{"$f":"'Weighted Effect Size'!#REF!","v":{"$error":"#REF!"}},{"$f":"'Weighted Effect Size'!B31","v":0},0,{"$f":"IF(C31=0,0,'Weighted Effect Size'!L31)","v":0},0,0,0,null,0,null,null,null,null,0,0]
[{"$f":"'Weighted Effect Size'!#REF!","v":{"$error":"#REF!"}},{"$f":"'Weighted Effect Size'!B32","v":0},0,{"$f":"IF(C32=0,0,'Weighted Effect Size'!L32)","v":0},0,0,0,null,0,null,null,null,null,0,0]
[{"$f":"'Weighted Effect Size'!#REF!","v":{"$error":"#REF!"}},{"$f":"'Weighted Effect Size'!B33","v":0},0,{"$f":"IF(C33=0,0,'Weighted Effect Size'!L33)","v":0},0,0,0,null,0,null,null,null,null,0,0]
[{"$f":"'Weighted Effect Size'!#REF!","v":{"$error":"#REF!"}},{"$f":"'Weighted Effect Size'!B34","v":0},0,{"$f":"IF(C34=0,0,'Weighted Effect Size'!L34)","v":0},0,0,0,null,0,null,null,null,null,0,0]
[{"$f":"'Weighted Effect Size'!#REF!","v":{"$error":"#REF!"}},{"$f":"'Weighted Effect Size'!B35","v":0},0,{"$f":"IF(C35=0,0,'Weighted Effect Size'!L35)","v":0},0,0,0,null,0,null,null,null,null,0,0]
[{"$f":"'Weighted Effect Size'!#REF!","v":{"$error":"#REF!"}},{"$f":"'Weighted Effect Size'!B36","v":0},0,{"$f":"IF(C36=0,0,'Weighted Effect Size'!L36)","v":0},0,0,0,null,0,null,null,null,null,0,0]
[{"$f":"'Weighted Effect Size'!#REF!","v":{"$error":"#REF!"}},{"$f":"'Weighted Effect Size'!B37","v":0},0,{"$f":"IF(C37=0,0,'Weighted Effect Size'!L37)","v":0},0,0,0,null,0,null,null,null,null,0,0]
[{"$f":"'Weighted Effect Size'!#REF!","v":{"$error":"#REF!"}},{"$f":"'Weighted Effect Size'!B38","v":0},0,{"$f":"IF(C38=0,0,'Weighted Effect Size'!L38)","v":0},0,0,0,null,0,null,null,null,null,0,0]
[{"$f":"'Weighted Effect Size'!#REF!","v":{"$error":"#REF!"}},{"$f":"'Weighted Effect Size'!B39","v":0},0,{"$f":"IF(C39=0,0,'Weighted Effect Size'!L39)","v":0},0,0,0,null,0,null,null,null,null,0,0]
[{"$f":"'Weighted Effect Size'!#REF!","v":{"$error":"#REF!"}},{"$f":"'Weighted Effect Size'!B40","v":0},0,{"$f":"IF(C40=0,0,'Weighted Effect Size'!L40)","v":0},0,0,0,null,0,null,null,null,null,0,0]
[{"$f":"'Weighted Effect Size'!#REF!","v":{"$error":"#REF!"}},{"$f":"'Weighted Effect Size'!B41","v":0},0,{"$f":"IF(C41=0,0,'Weighted Effect Size'!L41)","v":0},0,0,0,null,0,null,null,null,null,0,0]
[{"$f":"'Weighted Effect Size'!#REF!","v":{"$error":"#REF!"}},{"$f":"'Weighted Effect Size'!B42","v":0},0,{"$f":"IF(C42=0,0,'Weighted Effect Size'!L42)","v":0},0,0,0,null,0,null,null,null,null,0,0]
[{"$f":"'Weighted Effect Size'!#REF!","v":{"$error":"#REF!"}},{"$f":"'Weighted Effect Size'!B43","v":0},0,{"$f":"IF(C43=0,0,'Weighted Effect Size'!L43)","v":0},0,0,0,null,0,null,null,null,null,0,0]
[{"$f":"'Weighted Effect Size'!#REF!","v":{"$error":"#REF!"}},{"$f":"'Weighted Effect Size'!B44","v":0},0,{"$f":"IF(C44=0,0,'Weighted Effect Size'!L44)","v":0},0,0,0,null,0,null,null,null,null,0,0]
[{"$f":"'Weighted Effect Size'!#REF!","v":{"$error":"#REF!"}},{"$f":"'Weighted Effect Size'!B45","v":0},0,{"$f":"IF(C45=0,0,'Weighted Effect Size'!L45)","v":0},0,0,0,null,0,null,null,null,null,0,0]
[{"$f":"'Weighted Effect Size'!#REF!","v":{"$error":"#REF!"}},{"$f":"'Weighted Effect Size'!B46","v":0},0,{"$f":"IF(C46=0,0,'Weighted Effect Size'!L46)","v":0},0,0,0,null,0,null,null,null,null,0,0]
[{"$f":"'Weighted Effect Size'!#REF!","v":{"$error":"#REF!"}},{"$f":"'Weighted Effect Size'!B47","v":0},0,{"$f":"IF(C47=0,0,'Weighted Effect Size'!L47)","v":0},0,0,0,null,0,null,null,null,null,0,0]
[{"$f":"'Weighted Effect Size'!#REF!","v":{"$error":"#REF!"}},{"$f":"'Weighted Effect Size'!B48","v":0},0,{"$f":"IF(C48=0,0,'Weighted Effect Size'!L48)","v":0},0,0,0,null,0,null,null,null,null,0,0]
[{"$f":"'Weighted Effect Size'!#REF!","v":{"$error":"#REF!"}},{"$f":"'Weighted Effect Size'!B49","v":0},0,{"$f":"IF(C49=0,0,'Weighted Effect Size'!L49)","v":0},0,0,0,null,0,null,null,null,null,0,0]
[{"$f":"'Weighted Effect Size'!#REF!","v":{"$error":"#REF!"}},{"$f":"'Weighted Effect Size'!B50","v":0},0,{"$f":"IF(C50=0,0,'Weighted Effect Size'!L50)","v":0},0,0,0,null,0,null,null,null,null,0,0]
[{"$f":"'Weighted Effect Size'!#REF!","v":{"$error":"#REF!"}},{"$f":"'Weighted Effect Size'!B51","v":0},0,{"$f":"IF(C51=0,0,'Weighted Effect Size'!L51)","v":0},0,0,0,null,0,null,null,null,null,0,0]
[{"$f":"'Weighted Effect Size'!#REF!","v":{"$error":"#REF!"}},{"$f":"'Weighted Effect Size'!B52","v":0},0,{"$f":"IF(C52=0,0,'Weighted Effect Size'!L52)","v":0},0,0,0,null,0,null,null,null,null,0,0]
[{"$f":"'Weighted Effect Size'!#REF!","v":{"$error":"#REF!"}},{"$f":"'Weighted Effect Size'!B53","v":0},0,{"$f":"IF(C53=0,0,'Weighted Effect Size'!L53)","v":0},0,0,0,null,0,null,null,null,null,0,0]
[{"$f":"'Weighted Effect Size'!#REF!","v":{"$error":"#REF!"}},{"$f":"'Weighted Effect Size'!B54","v":0},0,{"$f":"IF(C54=0,0,'Weighted Effect Size'!L54)","v":0},0,0,0,null,0,null,null,null,null,0,0]
[{"$f":"'Weighted Effect Size'!#REF!","v":{"$error":"#REF!"}},{"$f":"'Weighted Effect Size'!B55","v":0},0,{"$f":"IF(C55=0,0,'Weighted Effect Size'!L55)","v":0},0,0,0,null,0,null,null,null,null,0,0]
[{"$f":"'Weighted Effect Size'!#REF!","v":{"$error":"#REF!"}},{"$f":"'Weighted Effect Size'!B56","v":0},0,{"$f":"IF(C56=0,0,'Weighted Effect Size'!L56)","v":0},0,0,0,null,0,null,null,null,null,0,0]
[{"$f":"'Weighted Effect Size'!#REF!","v":{"$error":"#REF!"}},{"$f":"'Weighted Effect Size'!B57","v":0},0,{"$f":"IF(C57=0,0,'Weighted Effect Size'!L57)","v":0},0,0,0,null,0,null,null,null,null,0,0]
[{"$f":"'Weighted Effect Size'!#REF!","v":{"$error":"#REF!"}},{"$f":"'Weighted Effect Size'!B58","v":0},0,{"$f":"IF(C58=0,0,'Weighted Effect Size'!L58)","v":0},0,0,0,null,0,null,null,null,null,0,0]
[{"$f":"'Weighted Effect Size'!#REF!","v":{"$error":"#REF!"}},{"$f":"'Weighted Effect Size'!B59","v":0},0,{"$f":"IF(C59=0,0,'Weighted Effect Size'!L59)","v":0},0,0,0,null,0,null,null,null,null,0,0]
[{"$f":"'Weighted Effect Size'!#REF!","v":{"$error":"#REF!"}},{"$f":"'Weighted Effect Size'!B60","v":0},0,{"$f":"IF(C60=0,0,'Weighted Effect Size'!L60)","v":0},0,0,0,null,0,null,null,null,null,0,0]
[{"$f":"'Weighted Effect Size'!#REF!","v":{"$error":"#REF!"}},{"$f":"'Weighted Effect Size'!B61","v":0},0,{"$f":"IF(C61=0,0,'Weighted Effect Size'!L61)","v":0},0,0,0,null,0,null,null,null,null,0,0]
[{"$f":"'Weighted Effect Size'!#REF!","v":{"$error":"#REF!"}},{"$f":"'Weighted Effect Size'!B62","v":0},0,{"$f":"IF(C62=0,0,'Weighted Effect Size'!L62)","v":0},0,0,0,null,0,null,null,null,null,0,0]
[{"$f":"'Weighted Effect Size'!#REF!","v":{"$error":"#REF!"}},{"$f":"'Weighted Effect Size'!B63","v":0},0,{"$f":"IF(C63=0,0,'Weighted Effect Size'!L63)","v":0},0,0,0,null,0,null,null,null,null,0,0]
[{"$f":"'Weighted Effect Size'!#REF!","v":{"$error":"#REF!"}},{"$f":"'Weighted Effect Size'!B64","v":0},0,{"$f":"IF(C64=0,0,'Weighted Effect Size'!L64)","v":0},0,0,0,null,0,null,null,null,null,0,0]
[{"$f":"'Weighted Effect Size'!#REF!","v":{"$error":"#REF!"}},{"$f":"'Weighted Effect Size'!B65","v":0},0,{"$f":"IF(C65=0,0,'Weighted Effect Size'!L65)","v":0},0,0,0,null,0,null,null,null,null,0,0]
[{"$f":"'Weighted Effect Size'!#REF!","v":{"$error":"#REF!"}},{"$f":"'Weighted Effect Size'!B66","v":0},0,{"$f":"IF(C66=0,0,'Weighted Effect Size'!L66)","v":0},0,0,0,null,0,null,null,null,null,0,0]
[{"$f":"'Weighted Effect Size'!#REF!","v":{"$error":"#REF!"}},{"$f":"'Weighted Effect Size'!B67","v":0},0,{"$f":"IF(C67=0,0,'Weighted Effect Size'!L67)","v":0},0,0,0,null,{"$f":"IF(B67=0,0,1)","v":0},null,null,null,null,0,0]
[{"$f":"'Weighted Effect Size'!#REF!","v":{"$error":"#REF!"}},{"$f":"'Weighted Effect Size'!B68","v":0},{"$f":"IF(B68=0,0,C$2)","v":0},{"$f":"IF(C68=0,0,'Weighted Effect Size'!L68)","v":0},0,0,0,null,0,null,null,null,null,0,0]
[{"$f":"'Weighted Effect Size'!#REF!","v":{"$error":"#REF!"}},{"$f":"'Weighted Effect Size'!B69","v":0},0,{"$f":"IF(C69=0,0,'Weighted Effect Size'!L69)","v":0},0,0,0,null,0,null,null,null,null,0,0]
[{"$f":"'Weighted Effect Size'!#REF!","v":{"$error":"#REF!"}},{"$f":"'Weighted Effect Size'!B70","v":0},0,{"$f":"IF(C70=0,0,'Weighted Effect Size'!L70)","v":0},0,0,0,null,0,null,null,null,null,0,0]
[{"$f":"'Weighted Effect Size'!#REF!","v":{"$error":"#REF!"}},{"$f":"'Weighted Effect Size'!B71","v":0},0,{"$f":"IF(C71=0,0,'Weighted Effect Size'!L71)","v":0},0,0,0,null,0,null,null,null,null,0,0]
[{"$f":"'Weighted Effect Size'!#REF!","v":{"$error":"#REF!"}},{"$f":"'Weighted Effect Size'!B72","v":0},0,{"$f":"IF(C72=0,0,'Weighted Effect Size'!L72)","v":0},0,0,0,null,0,null,null,null,null,0,0]
[{"$f":"'Weighted Effect Size'!#REF!","v":{"$error":"#REF!"}},{"$f":"'Weighted Effect Size'!B73","v":0},0,{"$f":"IF(C73=0,0,'Weighted Effect Size'!L73)","v":0},0,0,0,null,0,null,null,null,null,0,0]
[{"$f":"'Weighted Effect Size'!#REF!","v":{"$error":"#REF!"}},{"$f":"'Weighted Effect Size'!B74","v":0},0,{"$f":"IF(C74=0,0,'Weighted Effect Size'!L74)","v":0},0,0,0,null,0,null,null,null,null,0,0]
[{"$f":"'Weighted Effect Size'!#REF!","v":{"$error":"#REF!"}},{"$f":"'Weighted Effect Size'!B75","v":0},0,{"$f":"IF(C75=0,0,'Weighted Effect Size'!L75)","v":0},0,0,0,null,0,null,null,null,null,0,0]
[{"$f":"'Weighted Effect Size'!#REF!","v":{"$error":"#REF!"}},{"$f":"'Weighted Effect Size'!B76","v":0},0,{"$f":"IF(C76=0,0,'Weighted Effect Size'!L76)","v":0},0,0,0,null,0,null,null,null,null,0,0]
[{"$f":"'Weighted Effect Size'!#REF!","v":{"$error":"#REF!"}},{"$f":"'Weighted Effect Size'!B77","v":0},0,{"$f":"IF(C77=0,0,'Weighted Effect Size'!L77)","v":0},0,0,0,null,0,null,null,null,null,0,0]
[{"$f":"'Weighted Effect Size'!#REF!","v":{"$error":"#REF!"}},{"$f":"'Weighted Effect Size'!B78","v":0},0,{"$f":"IF(C78=0,0,'Weighted Effect Size'!L78)","v":0},0,0,0,null,0,null,null,null,null,0,0]
[{"$f":"'Weighted Effect Size'!#REF!","v":{"$error":"#REF!"}},{"$f":"'Weighted Effect Size'!B79","v":0},0,{"$f":"IF(C79=0,0,'Weighted Effect Size'!L79)","v":0},0,0,0,null,0,null,null,null,null,0,0]
[{"$f":"'Weighted Effect Size'!#REF!","v":{"$error":"#REF!"}},{"$f":"'Weighted Effect Size'!B80","v":0},0,{"$f":"IF(C80=0,0,'Weighted Effect Size'!L80)","v":0},0,0,0,null,0,null,null,null,null,0,0]
[{"$f":"'Weighted Effect Size'!#REF!","v":{"$error":"#REF!"}},{"$f":"'Weighted Effect Size'!B81","v":0},0,{"$f":"IF(C81=0,0,'Weighted Effect Size'!L81)","v":0},0,0,0,null,0,null,null,null,null,0,0]
[{"$f":"'Weighted Effect Size'!#REF!","v":{"$error":"#REF!"}},{"$f":"'Weighted Effect Size'!B82","v":0},0,{"$f":"IF(C82=0,0,'Weighted Effect Size'!L82)","v":0},0,0,0,null,0,null,null,null,null,0,0]
[{"$f":"'Weighted Effect Size'!#REF!","v":{"$error":"#REF!"}},{"$f":"'Weighted Effect Size'!B83","v":0},0,{"$f":"IF(C83=0,0,'Weighted Effect Size'!L83)","v":0},0,0,0,null,0,null,null,null,null,0,0]
[{"$f":"'Weighted Effect Size'!#REF!","v":{"$error":"#REF!"}},{"$f":"'Weighted Effect Size'!B84","v":0},0,{"$f":"IF(C84=0,0,'Weighted Effect Size'!L84)","v":0},0,0,0,null,0,null,null,null,null,0,0]
[{"$f":"'Weighted Effect Size'!#REF!","v":{"$error":"#REF!"}},{"$f":"'Weighted Effect Size'!B85","v":0},0,{"$f":"IF(C85=0,0,'Weighted Effect Size'!L85)","v":0},0,0,0,null,0,null,null,null,null,{"$f":"D85","v":0},{"$f":"N85^2","v":0}]
[{"$f":"'Weighted Effect Size'!#REF!","v":{"$error":"#REF!"}},{"$f":"'Weighted Effect Size'!B86","v":0},0,{"$f":"IF(C86=0,0,'Weighted Effect Size'!L86)","v":0},{"$f":"IF(B86=0,0,B86-C86)","v":0},{"$f":"IF(E86=0,0,E86^2)","v":0},{"$f":"IF(F86=0,0,D86*F86)","v":0},null,0,null,null,null,null,0,0]
[{"$f":"'Weighted Effect Size'!#REF!","v":{"$error":"#REF!"}},{"$f":"'Weighted Effect Size'!B87","v":0},0,{"$f":"IF(C87=0,0,'Weighted Effect Size'!L87)","v":0},0,0,0,null,0,null,null,null,null,0,0]
[{"$f":"'Weighted Effect Size'!#REF!","v":{"$error":"#REF!"}},{"$f":"'Weighted Effect Size'!B88","v":0},0,{"$f":"IF(C88=0,0,'Weighted Effect Size'!L88)","v":0},0,0,0,null,0,null,null,null,null,0,0]
[{"$f":"'Weighted Effect Size'!#REF!","v":{"$error":"#REF!"}},{"$f":"'Weighted Effect Size'!B89","v":0},0,{"$f":"IF(C89=0,0,'Weighted Effect Size'!L89)","v":0},0,0,0,null,0,null,null,null,null,0,0]
[{"$f":"'Weighted Effect Size'!#REF!","v":{"$error":"#REF!"}},{"$f":"'Weighted Effect Size'!B90","v":0},0,{"$f":"IF(C90=0,0,'Weighted Effect Size'!L90)","v":0},0,0,0,null,0,null,null,null,null,0,0]
[{"$f":"'Weighted Effect Size'!#REF!","v":{"$error":"#REF!"}},{"$f":"'Weighted Effect Size'!B91","v":0},0,{"$f":"IF(C91=0,0,'Weighted Effect Size'!L91)","v":0},0,0,0,null,0,null,null,null,null,0,0]
[{"$f":"'Weighted Effect Size'!#REF!","v":{"$error":"#REF!"}},{"$f":"'Weighted Effect Size'!B92","v":0},0,{"$f":"IF(C92=0,0,'Weighted Effect Size'!L92)","v":0},0,0,0,null,0,null,null,null,null,0,0]
[{"$f":"'Weighted Effect Size'!#REF!","v":{"$error":"#REF!"}},{"$f":"'Weighted Effect Size'!B93","v":0},0,{"$f":"IF(C93=0,0,'Weighted Effect Size'!L93)","v":0},0,0,0,null,0,null,null,null,null,0,0]
[{"$f":"'Weighted Effect Size'!#REF!","v":{"$error":"#REF!"}},{"$f":"'Weighted Effect Size'!B94","v":0},0,{"$f":"IF(C94=0,0,'Weighted Effect Size'!L94)","v":0},0,0,0,null,0,null,null,null,null,0,0]
[{"$f":"'Weighted Effect Size'!#REF!","v":{"$error":"#REF!"}},{"$f":"'Weighted Effect Size'!B95","v":0},0,{"$f":"IF(C95=0,0,'Weighted Effect Size'!L95)","v":0},0,0,0,null,0,null,null,null,null,0,0]
[{"$f":"'Weighted Effect Size'!#REF!","v":{"$error":"#REF!"}},{"$f":"'Weighted Effect Size'!B96","v":0},0,{"$f":"IF(C96=0,0,'Weighted Effect Size'!L96)","v":0},0,0,0,null,0,null,null,null,null,0,0]
[{"$f":"'Weighted Effect Size'!#REF!","v":{"$error":"#REF!"}},{"$f":"'Weighted Effect Size'!B97","v":0},0,{"$f":"IF(C97=0,0,'Weighted Effect Size'!L97)","v":0},0,0,0,null,0,null,null,null,null,0,0]
[{"$f":"'Weighted Effect Size'!#REF!","v":{"$error":"#REF!"}},{"$f":"'Weighted Effect Size'!B98","v":0},0,{"$f":"IF(C98=0,0,'Weighted Effect Size'!L98)","v":0},0,0,0,null,0,null,null,null,null,0,0]
[{"$f":"'Weighted Effect Size'!#REF!","v":{"$error":"#REF!"}},{"$f":"'Weighted Effect Size'!B99","v":0},0,{"$f":"IF(C99=0,0,'Weighted Effect Size'!L99)","v":0},0,0,0,null,0,null,null,null,null,0,0]
[{"$f":"'Weighted Effect Size'!#REF!","v":{"$error":"#REF!"}},{"$f":"'Weighted Effect Size'!B100","v":0},0,{"$f":"IF(C100=0,0,'Weighted Effect Size'!L100)","v":0},0,0,0,null,0,null,null,null,null,0,0]
[{"$f":"'Weighted Effect Size'!#REF!","v":{"$error":"#REF!"}},{"$f":"'Weighted Effect Size'!B101","v":0},0,{"$f":"IF(C101=0,0,'Weighted Effect Size'!L101)","v":0},0,0,0,null,0,null,null,null,null,0,0]
[{"$f":"'Weighted Effect Size'!#REF!","v":{"$error":"#REF!"}},{"$f":"'Weighted Effect Size'!B102","v":0},0,{"$f":"IF(C102=0,0,'Weighted Effect Size'!L102)","v":0},0,0,0,null,0,null,null,null,null,0,0]
[{"$f":"'Weighted Effect Size'!#REF!","v":{"$error":"#REF!"}},{"$f":"'Weighted Effect Size'!B103","v":0},0,{"$f":"IF(C103=0,0,'Weighted Effect Size'!L103)","v":0},0,0,0,null,0,null,null,null,null,0,0]
[{"$f":"'Weighted Effect Size'!#REF!","v":{"$error":"#REF!"}},{"$f":"'Weighted Effect Size'!B104","v":0},0,{"$f":"IF(C104=0,0,'Weighted Effect Size'!L104)","v":0},0,0,0,null,0,null,null,null,null,0,0]
[{"$f":"'Weighted Effect Size'!#REF!","v":{"$error":"#REF!"}},{"$f":"'Weighted Effect Size'!B105","v":0},0,{"$f":"IF(C105=0,0,'Weighted Effect Size'!L105)","v":0},0,0,0,null,0,null,null,null,null,0,0]
[{"$f":"'Weighted Effect Size'!#REF!","v":{"$error":"#REF!"}},{"$f":"'Weighted Effect Size'!B106","v":0},0,{"$f":"IF(C106=0,0,'Weighted Effect Size'!L106)","v":0},0,0,0,null,0,null,null,null,null,0,0]
[{"$f":"'Weighted Effect Size'!#REF!","v":{"$error":"#REF!"}},{"$f":"'Weighted Effect Size'!B107","v":0},0,{"$f":"IF(C107=0,0,'Weighted Effect Size'!L107)","v":0},0,0,0,null,0,null,null,null,null,0,0]
[{"$f":"'Weighted Effect Size'!#REF!","v":{"$error":"#REF!"}},{"$f":"'Weighted Effect Size'!B108","v":0},0,{"$f":"IF(C108=0,0,'Weighted Effect Size'!L108)","v":0},0,0,0,null,0,null,null,null,null,0,0]
[{"$f":"'Weighted Effect Size'!#REF!","v":{"$error":"#REF!"}},{"$f":"'Weighted Effect Size'!B109","v":0},0,{"$f":"IF(C109=0,0,'Weighted Effect Size'!L109)","v":0},0,0,0,null,0,null,null,null,null,0,0]
[{"$f":"'Weighted Effect Size'!#REF!","v":{"$error":"#REF!"}},{"$f":"'Weighted Effect Size'!B110","v":0},0,{"$f":"IF(C110=0,0,'Weighted Effect Size'!L110)","v":0},0,0,0,null,0,null,null,null,null,0,0]
[{"$f":"'Weighted Effect Size'!#REF!","v":{"$error":"#REF!"}},{"$f":"'Weighted Effect Size'!B111","v":0},0,{"$f":"IF(C111=0,0,'Weighted Effect Size'!L111)","v":0},0,0,0,null,0,null,null,null,null,0,0]
[{"$f":"'Weighted Effect Size'!#REF!","v":{"$error":"#REF!"}},{"$f":"'Weighted Effect Size'!B112","v":0},0,{"$f":"IF(C112=0,0,'Weighted Effect Size'!L112)","v":0},0,0,0,null,0,null,null,null,null,0,0]
[{"$f":"'Weighted Effect Size'!#REF!","v":{"$error":"#REF!"}},{"$f":"'Weighted Effect Size'!B113","v":0},0,{"$f":"IF(C113=0,0,'Weighted Effect Size'!L113)","v":0},0,0,0,null,0,null,null,null,null,0,0]
[{"$f":"'Weighted Effect Size'!#REF!","v":{"$error":"#REF!"}},{"$f":"'Weighted Effect Size'!B114","v":0},0,{"$f":"IF(C114=0,0,'Weighted Effect Size'!L114)","v":0},0,0,0,null,0,null,null,null,null,0,0]
[{"$f":"'Weighted Effect Size'!#REF!","v":{"$error":"#REF!"}},{"$f":"'Weighted Effect Size'!B115","v":0},0,{"$f":"IF(C115=0,0,'Weighted Effect Size'!L115)","v":0},0,0,0,null,0,null,null,null,null,0,0]
[{"$f":"'Weighted Effect Size'!#REF!","v":{"$error":"#REF!"}},{"$f":"'Weighted Effect Size'!B116","v":0},0,{"$f":"IF(C116=0,0,'Weighted Effect Size'!L116)","v":0},0,0,0,null,0,null,null,null,null,0,0]
[{"$f":"'Weighted Effect Size'!#REF!","v":{"$error":"#REF!"}},{"$f":"'Weighted Effect Size'!B117","v":0},0,{"$f":"IF(C117=0,0,'Weighted Effect Size'!L117)","v":0},0,0,0,null,0,null,null,null,null,0,0]
[{"$f":"'Weighted Effect Size'!#REF!","v":{"$error":"#REF!"}},{"$f":"'Weighted Effect Size'!B118","v":0},0,{"$f":"IF(C118=0,0,'Weighted Effect Size'!L118)","v":0},0,0,0,null,0,null,null,null,null,0,0]
[{"$f":"'Weighted Effect Size'!#REF!","v":{"$error":"#REF!"}},{"$f":"'Weighted Effect Size'!B119","v":0},0,{"$f":"IF(C119=0,0,'Weighted Effect Size'!L119)","v":0},0,0,0,null,0,null,null,null,null,0,0]
[{"$f":"'Weighted Effect Size'!#REF!","v":{"$error":"#REF!"}},{"$f":"'Weighted Effect Size'!B120","v":0},0,{"$f":"IF(C120=0,0,'Weighted Effect Size'!L120)","v":0},0,0,0,null,0,null,null,null,null,0,0]
[{"$f":"'Weighted Effect Size'!#REF!","v":{"$error":"#REF!"}},{"$f":"'Weighted Effect Size'!B121","v":0},0,{"$f":"IF(C121=0,0,'Weighted Effect Size'!L121)","v":0},0,0,0,null,0,null,null,null,null,0,0]
[{"$f":"'Weighted Effect Size'!#REF!","v":{"$error":"#REF!"}},{"$f":"'Weighted Effect Size'!B122","v":0},0,{"$f":"IF(C122=0,0,'Weighted Effect Size'!L122)","v":0},0,0,0,null,0,null,null,null,null,0,0]
[{"$f":"'Weighted Effect Size'!#REF!","v":{"$error":"#REF!"}},{"$f":"'Weighted Effect Size'!B123","v":0},0,{"$f":"IF(C123=0,0,'Weighted Effect Size'!L123)","v":0},0,0,0,null,0,null,null,null,null,0,0]
[{"$f":"'Weighted Effect Size'!#REF!","v":{"$error":"#REF!"}},{"$f":"'Weighted Effect Size'!B124","v":0},0,{"$f":"IF(C124=0,0,'Weighted Effect Size'!L124)","v":0},0,0,0,null,0,null,null,null,null,0,0]
[{"$f":"'Weighted Effect Size'!#REF!","v":{"$error":"#REF!"}},{"$f":"'Weighted Effect Size'!B125","v":0},0,{"$f":"IF(C125=0,0,'Weighted Effect Size'!L125)","v":0},0,0,0,null,0,null,null,null,null,0,0]
[{"$f":"'Weighted Effect Size'!#REF!","v":{"$error":"#REF!"}},{"$f":"'Weighted Effect Size'!B126","v":0},0,{"$f":"IF(C126=0,0,'Weighted Effect Size'!L126)","v":0},0,0,0,null,0,null,null,null,null,0,0]
[{"$f":"'Weighted Effect Size'!#REF!","v":{"$error":"#REF!"}},{"$f":"'Weighted Effect Size'!B127","v":0},0,{"$f":"IF(C127=0,0,'Weighted Effect Size'!L127)","v":0},0,0,0,null,0,null,null,null,null,0,0]
[{"$f":"'Weighted Effect Size'!#REF!","v":{"$error":"#REF!"}},{"$f":"'Weighted Effect Size'!B128","v":0},0,{"$f":"IF(C128=0,0,'Weighted Effect Size'!L128)","v":0},0,0,0,null,0,null,null,null,null,0,0]
[{"$f":"'Weighted Effect Size'!#REF!","v":{"$error":"#REF!"}},{"$f":"'Weighted Effect Size'!B129","v":0},0,{"$f":"IF(C129=0,0,'Weighted Effect Size'!L129)","v":0},0,0,0,null,0,null,null,null,null,0,0]
[{"$f":"'Weighted Effect Size'!#REF!","v":{"$error":"#REF!"}},{"$f":"'Weighted Effect Size'!B130","v":0},0,{"$f":"IF(C130=0,0,'Weighted Effect Size'!L130)","v":0},0,0,0,null,0,null,null,null,null,0,0]
[{"$f":"'Weighted Effect Size'!#REF!","v":{"$error":"#REF!"}},{"$f":"'Weighted Effect Size'!B131","v":0},0,{"$f":"IF(C131=0,0,'Weighted Effect Size'!L131)","v":0},0,0,0,null,{"$f":"IF(B131=0,0,1)","v":0},null,null,null,null,0,0]
[{"$f":"'Weighted Effect Size'!#REF!","v":{"$error":"#REF!"}},{"$f":"'Weighted Effect Size'!B132","v":0},{"$f":"IF(B132=0,0,C$2)","v":0},{"$f":"IF(C132=0,0,'Weighted Effect Size'!L132)","v":0},0,0,0,null,0,null,null,null,null,0,0]
[{"$f":"'Weighted Effect Size'!#REF!","v":{"$error":"#REF!"}},{"$f":"'Weighted Effect Size'!B133","v":0},0,{"$f":"IF(C133=0,0,'Weighted Effect Size'!L133)","v":0},0,0,0,null,0,null,null,null,null,0,0]
[{"$f":"'Weighted Effect Size'!#REF!","v":{"$error":"#REF!"}},{"$f":"'Weighted Effect Size'!B134","v":0},0,{"$f":"IF(C134=0,0,'Weighted Effect Size'!L134)","v":0},0,0,0,null,0,null,null,null,null,0,0]
[{"$f":"'Weighted Effect Size'!#REF!","v":{"$error":"#REF!"}},{"$f":"'Weighted Effect Size'!B135","v":0},0,{"$f":"IF(C135=0,0,'Weighted Effect Size'!L135)","v":0},0,0,0,null,0,null,null,null,null,0,0]
[{"$f":"'Weighted Effect Size'!#REF!","v":{"$error":"#REF!"}},{"$f":"'Weighted Effect Size'!B136","v":0},0,{"$f":"IF(C136=0,0,'Weighted Effect Size'!L136)","v":0},0,0,0,null,0,null,null,null,null,0,0]
[{"$f":"'Weighted Effect Size'!#REF!","v":{"$error":"#REF!"}},{"$f":"'Weighted Effect Size'!B137","v":0},0,{"$f":"IF(C137=0,0,'Weighted Effect Size'!L137)","v":0},0,0,0,null,0,null,null,null,null,0,0]
[{"$f":"'Weighted Effect Size'!#REF!","v":{"$error":"#REF!"}},{"$f":"'Weighted Effect Size'!B138","v":0},0,{"$f":"IF(C138=0,0,'Weighted Effect Size'!L138)","v":0},0,0,0,null,0,null,null,null,null,0,0]
[{"$f":"'Weighted Effect Size'!#REF!","v":{"$error":"#REF!"}},{"$f":"'Weighted Effect Size'!B139","v":0},0,{"$f":"IF(C139=0,0,'Weighted Effect Size'!L139)","v":0},0,0,0,null,0,null,null,null,null,0,0]
[{"$f":"'Weighted Effect Size'!#REF!","v":{"$error":"#REF!"}},{"$f":"'Weighted Effect Size'!B140","v":0},0,{"$f":"IF(C140=0,0,'Weighted Effect Size'!L140)","v":0},0,0,0,null,0,null,null,null,null,0,0]
[{"$f":"'Weighted Effect Size'!#REF!","v":{"$error":"#REF!"}},{"$f":"'Weighted Effect Size'!B141","v":0},0,{"$f":"IF(C141=0,0,'Weighted Effect Size'!L141)","v":0},0,0,0,null,0,null,null,null,null,0,0]
[{"$f":"'Weighted Effect Size'!#REF!","v":{"$error":"#REF!"}},{"$f":"'Weighted Effect Size'!B142","v":0},0,{"$f":"IF(C142=0,0,'Weighted Effect Size'!L142)","v":0},0,0,0,null,0,null,null,null,null,0,0]
[{"$f":"'Weighted Effect Size'!#REF!","v":{"$error":"#REF!"}},{"$f":"'Weighted Effect Size'!B143","v":0},0,{"$f":"IF(C143=0,0,'Weighted Effect Size'!L143)","v":0},0,0,0,null,0,null,null,null,null,0,0]
[{"$f":"'Weighted Effect Size'!#REF!","v":{"$error":"#REF!"}},{"$f":"'Weighted Effect Size'!B144","v":0},0,{"$f":"IF(C144=0,0,'Weighted Effect Size'!L144)","v":0},0,0,0,null,0,null,null,null,null,0,0]
[{"$f":"'Weighted Effect Size'!#REF!","v":{"$error":"#REF!"}},{"$f":"'Weighted Effect Size'!B145","v":0},0,{"$f":"IF(C145=0,0,'Weighted Effect Size'!L145)","v":0},0,0,0,null,0,null,null,null,null,0,0]
[{"$f":"'Weighted Effect Size'!#REF!","v":{"$error":"#REF!"}},{"$f":"'Weighted Effect Size'!B146","v":0},0,{"$f":"IF(C146=0,0,'Weighted Effect Size'!L146)","v":0},0,0,0,null,0,null,null,null,null,0,0]
[{"$f":"'Weighted Effect Size'!#REF!","v":{"$error":"#REF!"}},{"$f":"'Weighted Effect Size'!B147","v":0},0,{"$f":"IF(C147=0,0,'Weighted Effect Size'!L147)","v":0},0,0,0,null,0,null,null,null,null,0,0]
[{"$f":"'Weighted Effect Size'!#REF!","v":{"$error":"#REF!"}},{"$f":"'Weighted Effect Size'!B148","v":0},0,{"$f":"IF(C148=0,0,'Weighted Effect Size'!L148)","v":0},0,0,0,null,0,null,null,null,null,0,0]
[{"$f":"'Weighted Effect Size'!#REF!","v":{"$error":"#REF!"}},{"$f":"'Weighted Effect Size'!B149","v":0},0,{"$f":"IF(C149=0,0,'Weighted Effect Size'!L149)","v":0},0,0,0,null,0,null,null,null,null,{"$f":"D149","v":0},{"$f":"N149^2","v":0}]
[{"$f":"'Weighted Effect Size'!#REF!","v":{"$error":"#REF!"}},{"$f":"'Weighted Effect Size'!B150","v":0},0,{"$f":"IF(C150=0,0,'Weighted Effect Size'!L150)","v":0},{"$f":"IF(B150=0,0,B150-C150)","v":0},{"$f":"IF(E150=0,0,E150^2)","v":0},{"$f":"IF(F150=0,0,D150*F150)","v":0},null,0,null,null,null,null,0,0]
[{"$f":"'Weighted Effect Size'!#REF!","v":{"$error":"#REF!"}},{"$f":"'Weighted Effect Size'!B151","v":0},0,{"$f":"IF(C151=0,0,'Weighted Effect Size'!L151)","v":0},0,0,0,null,0,null,null,null,null,0,0]
[{"$f":"'Weighted Effect Size'!#REF!","v":{"$error":"#REF!"}},{"$f":"'Weighted Effect Size'!B152","v":0},0,{"$f":"IF(C152=0,0,'Weighted Effect Size'!L152)","v":0},0,0,0,null,0,null,null,null,null,0,0]
[{"$f":"'Weighted Effect Size'!#REF!","v":{"$error":"#REF!"}},{"$f":"'Weighted Effect Size'!B153","v":0},0,{"$f":"IF(C153=0,0,'Weighted Effect Size'!L153)","v":0},0,0,0,null,0,null,null,null,null,0,0]
[{"$f":"'Weighted Effect Size'!#REF!","v":{"$error":"#REF!"}},{"$f":"'Weighted Effect Size'!B154","v":0},0,{"$f":"IF(C154=0,0,'Weighted Effect Size'!L154)","v":0},0,0,0,null,0,null,null,null,null,0,0]
[{"$f":"'Weighted Effect Size'!#REF!","v":{"$error":"#REF!"}},{"$f":"'Weighted Effect Size'!B155","v":0},0,{"$f":"IF(C155=0,0,'Weighted Effect Size'!L155)","v":0},0,0,0,null,0,null,null,null,null,0,0]
[{"$f":"'Weighted Effect Size'!#REF!","v":{"$error":"#REF!"}},{"$f":"'Weighted Effect Size'!B156","v":0},0,{"$f":"IF(C156=0,0,'Weighted Effect Size'!L156)","v":0},0,0,0,null,0,null,null,null,null,0,0]
[{"$f":"'Weighted Effect Size'!#REF!","v":{"$error":"#REF!"}},{"$f":"'Weighted Effect Size'!B157","v":0},0,{"$f":"IF(C157=0,0,'Weighted Effect Size'!L157)","v":0},0,0,0,null,0,null,null,null,null,0,0]
[{"$f":"'Weighted Effect Size'!#REF!","v":{"$error":"#REF!"}},{"$f":"'Weighted Effect Size'!B158","v":0},0,{"$f":"IF(C158=0,0,'Weighted Effect Size'!L158)","v":0},0,0,0,null,0,null,null,null,null,0,0]
[{"$f":"'Weighted Effect Size'!#REF!","v":{"$error":"#REF!"}},{"$f":"'Weighted Effect Size'!B159","v":0},0,{"$f":"IF(C159=0,0,'Weighted Effect Size'!L159)","v":0},0,0,0,null,0,null,null,null,null,0,0]
[{"$f":"'Weighted Effect Size'!#REF!","v":{"$error":"#REF!"}},{"$f":"'Weighted Effect Size'!B160","v":0},0,{"$f":"IF(C160=0,0,'Weighted Effect Size'!L160)","v":0},0,0,0,null,0,null,null,null,null,0,0]
[{"$f":"'Weighted Effect Size'!#REF!","v":{"$error":"#REF!"}},{"$f":"'Weighted Effect Size'!B161","v":0},0,{"$f":"IF(C161=0,0,'Weighted Effect Size'!L161)","v":0},0,0,0,null,0,null,null,null,null,0,0]
[{"$f":"'Weighted Effect Size'!#REF!","v":{"$error":"#REF!"}},{"$f":"'Weighted Effect Size'!B162","v":0},0,{"$f":"IF(C162=0,0,'Weighted Effect Size'!L162)","v":0},0,0,0,null,0,null,null,null,null,0,0]
[{"$f":"'Weighted Effect Size'!#REF!","v":{"$error":"#REF!"}},{"$f":"'Weighted Effect Size'!B163","v":0},0,{"$f":"IF(C163=0,0,'Weighted Effect Size'!L163)","v":0},0,0,0,null,0,null,null,null,null,0,0]
[{"$f":"'Weighted Effect Size'!#REF!","v":{"$error":"#REF!"}},{"$f":"'Weighted Effect Size'!B164","v":0},0,{"$f":"IF(C164=0,0,'Weighted Effect Size'!L164)","v":0},0,0,0,null,0,null,null,null,null,0,0]
[{"$f":"'Weighted Effect Size'!#REF!","v":{"$error":"#REF!"}},{"$f":"'Weighted Effect Size'!B165","v":0},0,{"$f":"IF(C165=0,0,'Weighted Effect Size'!L165)","v":0},0,0,0,null,0,null,null,null,null,0,0]
[{"$f":"'Weighted Effect Size'!#REF!","v":{"$error":"#REF!"}},{"$f":"'Weighted Effect Size'!B166","v":0},0,{"$f":"IF(C166=0,0,'Weighted Effect Size'!L166)","v":0},0,0,0,null,0,null,null,null,null,0,0]
[{"$f":"'Weighted Effect Size'!#REF!","v":{"$error":"#REF!"}},{"$f":"'Weighted Effect Size'!B167","v":0},0,{"$f":"IF(C167=0,0,'Weighted Effect Size'!L167)","v":0},0,0,0,null,0,null,null,null,null,0,0]
[{"$f":"'Weighted Effect Size'!#REF!","v":{"$error":"#REF!"}},{"$f":"'Weighted Effect Size'!B168","v":0},0,{"$f":"IF(C168=0,0,'Weighted Effect Size'!L168)","v":0},0,0,0,null,0,null,null,null,null,0,0]
[{"$f":"'Weighted Effect Size'!#REF!","v":{"$error":"#REF!"}},{"$f":"'Weighted Effect Size'!B169","v":0},0,{"$f":"IF(C169=0,0,'Weighted Effect Size'!L169)","v":0},0,0,0,null,0,null,null,null,null,0,0]
[{"$f":"'Weighted Effect Size'!#REF!","v":{"$error":"#REF!"}},{"$f":"'Weighted Effect Size'!B170","v":0},0,{"$f":"IF(C170=0,0,'Weighted Effect Size'!L170)","v":0},0,0,0,null,0,null,null,null,null,0,0]
[{"$f":"'Weighted Effect Size'!#REF!","v":{"$error":"#REF!"}},{"$f":"'Weighted Effect Size'!B171","v":0},0,{"$f":"IF(C171=0,0,'Weighted Effect Size'!L171)","v":0},0,0,0,null,0,null,null,null,null,0,0]
[{"$f":"'Weighted Effect Size'!#REF!","v":{"$error":"#REF!"}},{"$f":"'Weighted Effect Size'!B172","v":0},0,{"$f":"IF(C172=0,0,'Weighted Effect Size'!L172)","v":0},0,0,0,null,0,null,null,null,null,0,0]
[{"$f":"'Weighted Effect Size'!#REF!","v":{"$error":"#REF!"}},{"$f":"'Weighted Effect Size'!B173","v":0},0,{"$f":"IF(C173=0,0,'Weighted Effect Size'!L173)","v":0},0,0,0,null,0,null,null,null,null,0,0]
[{"$f":"'Weighted Effect Size'!#REF!","v":{"$error":"#REF!"}},{"$f":"'Weighted Effect Size'!B174","v":0},0,{"$f":"IF(C174=0,0,'Weighted Effect Size'!L174)","v":0},0,0,0,null,0,null,null,null,null,0,0]
[{"$f":"'Weighted Effect Size'!#REF!","v":{"$error":"#REF!"}},{"$f":"'Weighted Effect Size'!B175","v":0},0,{"$f":"IF(C175=0,0,'Weighted Effect Size'!L175)","v":0},0,0,0,null,0,null,null,null,null,0,0]
[{"$f":"'Weighted Effect Size'!#REF!","v":{"$error":"#REF!"}},{"$f":"'Weighted Effect Size'!B176","v":0},0,{"$f":"IF(C176=0,0,'Weighted Effect Size'!L176)","v":0},0,0,0,null,0,null,null,null,null,0,0]
[{"$f":"'Weighted Effect Size'!#REF!","v":{"$error":"#REF!"}},{"$f":"'Weighted Effect Size'!B177","v":0},0,{"$f":"IF(C177=0,0,'Weighted Effect Size'!L177)","v":0},0,0,0,null,0,null,null,null,null,0,0]
[{"$f":"'Weighted Effect Size'!#REF!","v":{"$error":"#REF!"}},{"$f":"'Weighted Effect Size'!B178","v":0},0,{"$f":"IF(C178=0,0,'Weighted Effect Size'!L178)","v":0},0,0,0,null,0,null,null,null,null,0,0]
[{"$f":"'Weighted Effect Size'!#REF!","v":{"$error":"#REF!"}},{"$f":"'Weighted Effect Size'!B179","v":0},0,{"$f":"IF(C179=0,0,'Weighted Effect Size'!L179)","v":0},0,0,0,null,0,null,null,null,null,0,0]
[{"$f":"'Weighted Effect Size'!#REF!","v":{"$error":"#REF!"}},{"$f":"'Weighted Effect Size'!B180","v":0},0,{"$f":"IF(C180=0,0,'Weighted Effect Size'!L180)","v":0},0,0,0,null,0,null,null,null,null,0,0]
[{"$f":"'Weighted Effect Size'!#REF!","v":{"$error":"#REF!"}},{"$f":"'Weighted Effect Size'!B181","v":0},0,{"$f":"IF(C181=0,0,'Weighted Effect Size'!L181)","v":0},0,0,0,null,0,null,null,null,null,0,0]
[{"$f":"'Weighted Effect Size'!#REF!","v":{"$error":"#REF!"}},{"$f":"'Weighted Effect Size'!B182","v":0},0,{"$f":"IF(C182=0,0,'Weighted Effect Size'!L182)","v":0},0,0,0,null,0,null,null,null,null,0,0]
[{"$f":"'Weighted Effect Size'!#REF!","v":{"$error":"#REF!"}},{"$f":"'Weighted Effect Size'!B183","v":0},0,{"$f":"IF(C183=0,0,'Weighted Effect Size'!L183)","v":0},0,0,0,null,0,null,null,null,null,0,0]
[null,null,null,null,null,"Q:  Σ[w(ES - ESavg)2]",{"$f":"SUM(G2:G183)","v":0},null,null,null,null,null,"Sums:",{"$f":"SUM(N2:N183)","v":0},{"$f":"SUM(O2:O183)","v":0}]

{"sheet":"Random Variance Component","index":9,"n_rows":184,"n_cols":24,"rows_kept":184,"cut":false,"hidden":false,"merged":[[4,9,5,9],[4,10,5,11],[7,9,9,9],[7,10,9,11],[11,9,13,9],[11,10,13,11]]}
["Study","ES","ESavg","w","ES - ESavg","(ES - ESavg)2","w(ES - ESavg)2",null,"Indicator Variable",null,null,null,null,"wi","wi2","vi","vi*","wi*","wi**d","d*ave","SE*dave","(1.96)(SE*)","LO95*","HI95*"]
[{"$f":"'Weighted Effect Size'!#REF!","v":{"$error":"#REF!"}},{"$f":"'Weighted Effect Size'!B2","v":0},{"$f":"'Weighted Effect Size'!D185","v":0},{"$f":"IF(C2=0,0,'Weighted Effect Size'!L2)","v":0},{"$f":"IF(B2=0,0,B2-C2)","v":0},{"$f":"IF(E2=0,0,E2^2)","v":0},{"$f":"IF(F2=0,0,D2*F2)","v":0},null,{"$f":"IF(B2=0,0,1)","v":0},"Q",{"$f":"G184","v":0},null,null,{"$f":"D2","v":0},{"$f":"N2^2","v":0},{"$f":"IF(B2=0,0,1/D2)","v":0},{"$f":"IF(B2=0,0,(P2+$K$15))","v":0},{"$f":"IF(B2=0,0,1/Q2)","v":0},{"$f":"IF(B2=0,0,R2*B2)","v":0},{"$f":"IF(B2=0,0,(S184/R184))","v":0},{"$f":"IF(B2=0,0,SQRT(1/$R$184))","v":0},{"$f":"1.96*U2","v":0},{"$f":"T2-V2","v":0},{"$f":"T2+V2","v":0}]
[{"$f":"'Weighted Effect Size'!#REF!","v":{"$error":"#REF!"}},{"$f":"'Weighted Effect Size'!B3","v":0},{"$f":"IF(B3=0,0,C$2)","v":0},{"$f":"IF(C3=0,0,'Weighted Effect Size'!L3)","v":0},{"$f":"IF(B3=0,0,B3-C3)","v":0},{"$f":"IF(E3=0,0,E3^2)","v":0},{"$f":"IF(F3=0,0,D3*F3)","v":0},null,{"$f":"IF(B3=0,0,1)","v":0},"Degrees of Freedom:",{"$f":"IF(SUM(I2:I21)<=0,0,SUM(I2:I183)-1)","v":0},null,null,{"$f":"D3","v":0},{"$f":"N3^2","v":0},{"$f":"IF(B3=0,0,1/D3)","v":0},{"$f":"IF(B3=0,0,(P3+$K$15))","v":0},{"$f":"IF(B3=0,0,1/Q3)","v":0},{"$f":"IF(B3=0,0,R3*B3)","v":0}]
[{"$f":"'Weighted Effect Size'!#REF!","v":{"$error":"#REF!"}},{"$f":"'Weighted Effect Size'!B4","v":0},{"$f":"IF(B4=0,0,C$2)","v":0},{"$f":"IF(C4=0,0,'Weighted Effect Size'!L4)","v":0},0,0,0,null,0,null,null,null,null,0,0,0,0,0,0]
[{"$f":"'Weighted Effect Size'!#REF!","v":{"$error":"#REF!"}},{"$f":"'Weighted Effect Size'!B5","v":0},0,{"$f":"IF(C5=0,0,'Weighted Effect Size'!L5)","v":0},0,0,0,null,0,"Measure of Heterogeneity, I2:",{"$f":"IF(G184=0,0,($G$184-$K$3)/$G$184)","v":0},null,null,0,0,0,0,0,0]
[{"$f":"'Weighted Effect Size'!#REF!","v":{"$error":"#REF!"}},{"$f":"'Weighted Effect Size'!B6","v":0},0,{"$f":"IF(C6=0,0,'Weighted Effect Size'!L6)","v":0},0,0,0,null,0,null,null,null,null,0,0,0,0,0,0]
[{"$f":"'Weighted Effect Size'!#REF!","v":{"$error":"#REF!"}},{"$f":"'Weighted Effect Size'!B7","v":0},0,{"$f":"IF(C7=0,0,'Weighted Effect Size'!L7)","v":0},0,0,0,null,0,null,null,null,null,0,0,0,0,0,0]
[{"$f":"'Weighted Effect Size'!#REF!","v":{"$error":"#REF!"}},{"$f":"'Weighted Effect Size'!B8","v":0},0,{"$f":"IF(C8=0,0,'Weighted Effect Size'!L8)","v":0},0,0,0,null,0,"Study to Study Variability, τ2: (Calculated)",{"$f":"IF(G184=0,0,(G184-K3)/(N184-(O184/N184)))","v":0},null,null,0,0,0,0,0,0]
[{"$f":"'Weighted Effect Size'!#REF!","v":{"$error":"#REF!"}},{"$f":"'Weighted Effect Size'!B9","v":0},0,{"$f":"IF(C9=0,0,'Weighted Effect Size'!L9)","v":0},0,0,0,null,0,null,null,null,null,0,0,0,0,0,0]
[{"$f":"'Weighted Effect Size'!#REF!","v":{"$error":"#REF!"}},{"$f":"'Weighted Effect Size'!B10","v":0},0,{"$f":"IF(C10=0,0,'Weighted Effect Size'!L10)","v":0},0,0,0,null,0,null,null,null,null,0,0,0,0,0,0]
[{"$f":"'Weighted Effect Size'!#REF!","v":{"$error":"#REF!"}},{"$f":"'Weighted Effect Size'!B11","v":0},0,{"$f":"IF(C11=0,0,'Weighted Effect Size'!L11)","v":0},0,0,0,null,0,null,null,null,null,0,0,0,0,0,0]
[{"$f":"'Weighted Effect Size'!#REF!","v":{"$error":"#REF!"}},{"$f":"'Weighted Effect Size'!B12","v":0},0,{"$f":"IF(C12=0,0,'Weighted Effect Size'!L12)","v":0},0,0,0,null,0,null,null,null,null,0,0,0,0,0,0]
[{"$f":"'Weighted Effect Size'!#REF!","v":{"$error":"#REF!"}},{"$f":"'Weighted Effect Size'!B13","v":0},0,{"$f":"IF(C13=0,0,'Weighted Effect Size'!L13)","v":0},0,0,0,null,0,null,null,null,null,0,0,0,0,0,0]
[{"$f":"'Weighted Effect Size'!#REF!","v":{"$error":"#REF!"}},{"$f":"'Weighted Effect Size'!B14","v":0},0,{"$f":"IF(C14=0,0,'Weighted Effect Size'!L14)","v":0},0,0,0,null,0,null,null,null,null,0,0,0,0,0,0]
[{"$f":"'Weighted Effect Size'!#REF!","v":{"$error":"#REF!"}},{"$f":"'Weighted Effect Size'!B15","v":0},0,{"$f":"IF(C15=0,0,'Weighted Effect Size'!L15)","v":0},0,0,0,null,0,"Value Added:",{"$f":"IF(K8<=0,0,K8)","v":0},null,null,0,0,0,0,0,0]
[{"$f":"'Weighted Effect Size'!#REF!","v":{"$error":"#REF!"}},{"$f":"'Weighted Effect Size'!B16","v":0},0,{"$f":"IF(C16=0,0,'Weighted Effect Size'!L16)","v":0},0,0,0,null,0,null,null,null,null,0,0,0,0,0,0]
[{"$f":"'Weighted Effect Size'!#REF!","v":{"$error":"#REF!"}},{"$f":"'Weighted Effect Size'!B17","v":0},0,{"$f":"IF(C17=0,0,'Weighted Effect Size'!L17)","v":0},0,0,0,null,0,null,null,null,null,0,0,0,0,0,0]
[{"$f":"'Weighted Effect Size'!#REF!","v":{"$error":"#REF!"}},{"$f":"'Weighted Effect Size'!B18","v":0},0,{"$f":"IF(C18=0,0,'Weighted Effect Size'!L18)","v":0},0,0,0,null,0,null,null,null,null,0,0,0,0,0,0]
[{"$f":"'Weighted Effect Size'!#REF!","v":{"$error":"#REF!"}},{"$f":"'Weighted Effect Size'!B19","v":0},0,{"$f":"IF(C19=0,0,'Weighted Effect Size'!L19)","v":0},0,0,0,null,0,null,null,null,null,0,0,0,0,0,0]
[{"$f":"'Weighted Effect Size'!#REF!","v":{"$error":"#REF!"}},{"$f":"'Weighted Effect Size'!B20","v":0},0,{"$f":"IF(C20=0,0,'Weighted Effect Size'!L20)","v":0},0,0,0,null,0,null,null,null,null,0,0,0,0,0,0]
[{"$f":"'Weighted Effect Size'!#REF!","v":{"$error":"#REF!"}},{"$f":"'Weighted Effect Size'!B21","v":0},0,{"$f":"IF(C21=0,0,'Weighted Effect Size'!L21)","v":0},0,0,0,null,0,null,null,null,null,0,0,0,0,0,0]
[{"$f":"'Weighted Effect Size'!#REF!","v":{"$error":"#REF!"}},{"$f":"'Weighted Effect Size'!B22","v":0},0,{"$f":"IF(C22=0,0,'Weighted Effect Size'!L22)","v":0},0,0,0,null,0,null,null,null,null,0,0,0,0,0,0]
[{"$f":"'Weighted Effect Size'!#REF!","v":{"$error":"#REF!"}},{"$f":"'Weighted Effect Size'!B23","v":0},0,{"$f":"IF(C23=0,0,'Weighted Effect Size'!L23)","v":0},0,0,0,null,0,null,null,null,null,0,0,0,0,0,0]
[{"$f":"'Weighted Effect Size'!#REF!","v":{"$error":"#REF!"}},{"$f":"'Weighted Effect Size'!B24","v":0},0,{"$f":"IF(C24=0,0,'Weighted Effect Size'!L24)","v":0},0,0,0,null,0,null,null,null,null,0,0,0,0,0,0]
[{"$f":"'Weighted Effect Size'!#REF!","v":{"$error":"#REF!"}},{"$f":"'Weighted Effect Size'!B25","v":0},0,{"$f":"IF(C25=0,0,'Weighted Effect Size'!L25)","v":0},0,0,0,null,0,null,null,null,null,0,0,0,0,0,0]
[{"$f":"'Weighted Effect Size'!#REF!","v":{"$error":"#REF!"}},{"$f":"'Weighted Effect Size'!B26","v":0},0,{"$f":"IF(C26=0,0,'Weighted Effect Size'!L26)","v":0},0,0,0,null,0,null,null,null,null,0,0,0,0,0,0]
[{"$f":"'Weighted Effect Size'!#REF!","v":{"$error":"#REF!"}},{"$f":"'Weighted Effect Size'!B27","v":0},0,{"$f":"IF(C27=0,0,'Weighted Effect Size'!L27)","v":0},0,0,0,null,0,null,null,null,null,0,0,0,0,0,0]
[{"$f":"'Weighted Effect Size'!#REF!","v":{"$error":"#REF!"}},{"$f":"'Weighted Effect Size'!B28","v":0},0,{"$f":"IF(C28=0,0,'Weighted Effect Size'!L28)","v":0},0,0,0,null,0,null,null,null,null,0,0,0,0,0,0]
[{"$f":"'Weighted Effect Size'!#REF!","v":{"$error":"#REF!"}},{"$f":"'Weighted Effect Size'!B29","v":0},0,{"$f":"IF(C29=0,0,'Weighted Effect Size'!L29)","v":0},0,0,0,null,0,null,null,null,null,0,0,0,0,0,0]
[{"$f":"'Weighted Effect Size'!#REF!","v":{"$error":"#REF!"}},{"$f":"'Weighted Effect Size'!B30","v":0},0,{"$f":"IF(C30=0,0,'Weighted Effect Size'!L30)","v":0},0,0,0,null,0,null,null,null,null,0,0,0,0,0,0]
[{"$f":"'Weighted Effect Size'!#REF!","v":{"$error":"#REF!"}},{"$f":"'Weighted Effect Size'!B31","v":0},0,{"$f":"IF(C31=0,0,'Weighted Effect Size'!L31)","v":0},0,0,0,null,0,null,null,null,null,0,0,0,0,0,0]
[{"$f":"'Weighted Effect Size'!#REF!","v":{"$error":"#REF!"}},{"$f":"'Weighted Effect Size'!B32","v":0},0,{"$f":"IF(C32=0,0,'Weighted Effect Size'!L32)","v":0},0,0,0,null,0,null,null,null,null,0,0,0,0,0,0]
[{"$f":"'Weighted Effect Size'!#REF!","v":{"$error":"#REF!"}},{"$f":"'Weighted Effect Size'!B33","v":0},0,{"$f":"IF(C33=0,0,'Weighted Effect Size'!L33)","v":0},0,0,0,null,0,null,null,null,null,0,0,0,0,0,0]
[{"$f":"'Weighted Effect Size'!#REF!","v":{"$error":"#REF!"}},{"$f":"'Weighted Effect Size'!B34","v":0},0,{"$f":"IF(C34=0,0,'Weighted Effect Size'!L34)","v":0},0,0,0,null,0,null,null,null,null,0,0,0,0,0,0]
[{"$f":"'Weighted Effect Size'!#REF!","v":{"$error":"#REF!"}},{"$f":"'Weighted Effect Size'!B35","v":0},0,{"$f":"IF(C35=0,0,'Weighted Effect Size'!L35)","v":0},0,0,0,null,0,null,null,null,null,0,0,0,0,0,0]
[{"$f":"'Weighted Effect Size'!#REF!","v":{"$error":"#REF!"}},{"$f":"'Weighted Effect Size'!B36","v":0},0,{"$f":"IF(C36=0,0,'Weighted Effect Size'!L36)","v":0},0,0,0,null,0,null,null,null,null,0,0,0,0,0,0]
[{"$f":"'Weighted Effect Size'!#REF!","v":{"$error":"#REF!"}},{"$f":"'Weighted Effect Size'!B37","v":0},0,{"$f":"IF(C37=0,0,'Weighted Effect Size'!L37)","v":0},0,0,0,null,0,null,null,null,null,0,0,0,0,0,0]
[{"$f":"'Weighted Effect Size'!#REF!","v":{"$error":"#REF!"}},{"$f":"'Weighted Effect Size'!B38","v":0},0,{"$f":"IF(C38=0,0,'Weighted Effect Size'!L38)","v":0},0,0,0,null,0,null,null,null,null,0,0,0,0,0,0]
[{"$f":"'Weighted Effect Size'!#REF!","v":{"$error":"#REF!"}},{"$f":"'Weighted Effect Size'!B39","v":0},0,{"$f":"IF(C39=0,0,'Weighted Effect Size'!L39)","v":0},0,0,0,null,0,null,null,null,null,0,0,0,0,0,0]
[{"$f":"'Weighted Effect Size'!#REF!","v":{"$error":"#REF!"}},{"$f":"'Weighted Effect Size'!B40","v":0},0,{"$f":"IF(C40=0,0,'Weighted Effect Size'!L40)","v":0},0,0,0,null,0,null,null,null,null,0,0,0,0,0,0]
[{"$f":"'Weighted Effect Size'!#REF!","v":{"$error":"#REF!"}},{"$f":"'Weighted Effect Size'!B41","v":0},0,{"$f":"IF(C41=0,0,'Weighted Effect Size'!L41)","v":0},0,0,0,null,0,null,null,null,null,0,0,0,0,0,0]
[{"$f":"'Weighted Effect Size'!#REF!","v":{"$error":"#REF!"}},{"$f":"'Weighted Effect Size'!B42","v":0},0,{"$f":"IF(C42=0,0,'Weighted Effect Size'!L42)","v":0},0,0,0,null,0,null,null,null,null,0,0,0,0,0,0]
[{"$f":"'Weighted Effect Size'!#REF!","v":{"$error":"#REF!"}},{"$f":"'Weighted Effect Size'!B43","v":0},0,{"$f":"IF(C43=0,0,'Weighted Effect Size'!L43)","v":0},0,0,0,null,0,null,null,null,null,0,0,0,0,0,0]
[{"$f":"'Weighted Effect Size'!#REF!","v":{"$error":"#REF!"}},{"$f":"'Weighted Effect Size'!B44","v":0},0,{"$f":"IF(C44=0,0,'Weighted Effect Size'!L44)","v":0},0,0,0,null,0,null,null,null,null,0,0,0,0,0,0]
[{"$f":"'Weighted Effect Size'!#REF!","v":{"$error":"#REF!"}},{"$f":"'Weighted Effect Size'!B45","v":0},0,{"$f":"IF(C45=0,0,'Weighted Effect Size'!L45)","v":0},0,0,0,null,0,null,null,null,null,0,0,0,0,0,0]
[{"$f":"'Weighted Effect Size'!#REF!","v":{"$error":"#REF!"}},{"$f":"'Weighted Effect Size'!B46","v":0},0,{"$f":"IF(C46=0,0,'Weighted Effect Size'!L46)","v":0},0,0,0,null,0,null,null,null,null,0,0,0,0,0,0]
[{"$f":"'Weighted Effect Size'!#REF!","v":{"$error":"#REF!"}},{"$f":"'Weighted Effect Size'!B47","v":0},0,{"$f":"IF(C47=0,0,'Weighted Effect Size'!L47)","v":0},0,0,0,null,0,null,null,null,null,0,0,0,0,0,0]
[{"$f":"'Weighted Effect Size'!#REF!","v":{"$error":"#REF!"}},{"$f":"'Weighted Effect Size'!B48","v":0},0,{"$f":"IF(C48=0,0,'Weighted Effect Size'!L48)","v":0},0,0,0,null,0,null,null,null,null,0,0,0,0,0,0]
[{"$f":"'Weighted Effect Size'!#REF!","v":{"$error":"#REF!"}},{"$f":"'Weighted Effect Size'!B49","v":0},0,{"$f":"IF(C49=0,0,'Weighted Effect Size'!L49)","v":0},0,0,0,null,0,null,null,null,null,0,0,0,0,0,0]
[{"$f":"'Weighted Effect Size'!#REF!","v":{"$error":"#REF!"}},{"$f":"'Weighted Effect Size'!B50","v":0},0,{"$f":"IF(C50=0,0,'Weighted Effect Size'!L50)","v":0},0,0,0,null,0,null,null,null,null,0,0,0,0,0,0]
[{"$f":"'Weighted Effect Size'!#REF!","v":{"$error":"#REF!"}},{"$f":"'Weighted Effect Size'!B51","v":0},0,{"$f":"IF(C51=0,0,'Weighted Effect Size'!L51)","v":0},0,0,0,null,0,null,null,null,null,0,0,0,0,0,0]
[{"$f":"'Weighted Effect Size'!#REF!","v":{"$error":"#REF!"}},{"$f":"'Weighted Effect Size'!B52","v":0},0,{"$f":"IF(C52=0,0,'Weighted Effect Size'!L52)","v":0},0,0,0,null,0,null,null,null,null,0,0,0,0,0,0]
[{"$f":"'Weighted Effect Size'!#REF!","v":{"$error":"#REF!"}},{"$f":"'Weighted Effect Size'!B53","v":0},0,{"$f":"IF(C53=0,0,'Weighted Effect Size'!L53)","v":0},0,0,0,null,0,null,null,null,null,0,0,0,0,0,0]
[{"$f":"'Weighted Effect Size'!#REF!","v":{"$error":"#REF!"}},{"$f":"'Weighted Effect Size'!B54","v":0},0,{"$f":"IF(C54=0,0,'Weighted Effect Size'!L54)","v":0},0,0,0,null,0,null,null,null,null,0,0,0,0,0,0]
[{"$f":"'Weighted Effect Size'!#REF!","v":{"$error":"#REF!"}},{"$f":"'Weighted Effect Size'!B55","v":0},0,{"$f":"IF(C55=0,0,'Weighted Effect Size'!L55)","v":0},0,0,0,null,0,null,null,null,null,0,0,0,0,0,0]
[{"$f":"'Weighted Effect Size'!#REF!","v":{"$error":"#REF!"}},{"$f":"'Weighted Effect Size'!B56","v":0},0,{"$f":"IF(C56=0,0,'Weighted Effect Size'!L56)","v":0},0,0,0,null,0,null,null,null,null,0,0,0,0,0,0]
[{"$f":"'Weighted Effect Size'!#REF!","v":{"$error":"#REF!"}},{"$f":"'Weighted Effect Size'!B57","v":0},0,{"$f":"IF(C57=0,0,'Weighted Effect Size'!L57)","v":0},0,0,0,null,0,null,null,null,null,0,0,0,0,0,0]
[{"$f":"'Weighted Effect Size'!#REF!","v":{"$error":"#REF!"}},{"$f":"'Weighted Effect Size'!B58","v":0},0,{"$f":"IF(C58=0,0,'Weighted Effect Size'!L58)","v":0},0,0,0,null,0,null,null,null,null,0,0,0,0,0,0]
[{"$f":"'Weighted Effect Size'!#REF!","v":{"$error":"#REF!"}},{"$f":"'Weighted Effect Size'!B59","v":0},0,{"$f":"IF(C59=0,0,'Weighted Effect Size'!L59)","v":0},0,0,0,null,0,null,null,null,null,0,0,0,0,0,0]
[{"$f":"'Weighted Effect Size'!#REF!","v":{"$error":"#REF!"}},{"$f":"'Weighted Effect Size'!B60","v":0},0,{"$f":"IF(C60=0,0,'Weighted Effect Size'!L60)","v":0},0,0,0,null,0,null,null,null,null,0,0,0,0,0,0]
[{"$f":"'Weighted Effect Size'!#REF!","v":{"$error":"#REF!"}},{"$f":"'Weighted Effect Size'!B61","v":0},0,{"$f":"IF(C61=0,0,'Weighted Effect Size'!L61)","v":0},0,0,0,null,0,null,null,null,null,0,0,0,0,0,0]
[{"$f":"'Weighted Effect Size'!#REF!","v":{"$error":"#REF!"}},{"$f":"'Weighted Effect Size'!B62","v":0},0,{"$f":"IF(C62=0,0,'Weighted Effect Size'!L62)","v":0},0,0,0,null,0,null,null,null,null,0,0,0,0,0,0]
[{"$f":"'Weighted Effect Size'!#REF!","v":{"$error":"#REF!"}},{"$f":"'Weighted Effect Size'!B63","v":0},0,{"$f":"IF(C63=0,0,'Weighted Effect Size'!L63)","v":0},0,0,0,null,0,null,null,null,null,0,0,0,0,0,0]
[{"$f":"'Weighted Effect Size'!#REF!","v":{"$error":"#REF!"}},{"$f":"'Weighted Effect Size'!B64","v":0},0,{"$f":"IF(C64=0,0,'Weighted Effect Size'!L64)","v":0},0,0,0,null,0,null,null,null,null,0,0,0,0,0,0]
[{"$f":"'Weighted Effect Size'!#REF!","v":{"$error":"#REF!"}},{"$f":"'Weighted Effect Size'!B65","v":0},0,{"$f":"IF(C65=0,0,'Weighted Effect Size'!L65)","v":0},0,0,0,null,0,null,null,null,null,0,0,0,0,0,0]
[{"$f":"'Weighted Effect Size'!#REF!","v":{"$error":"#REF!"}},{"$f":"'Weighted Effect Size'!B66","v":0},0,{"$f":"IF(C66=0,0,'Weighted Effect Size'!L66)","v":0},0,0,0,null,0,null,null,null,null,0,0,0,0,0,0]
[{"$f":"'Weighted Effect Size'!#REF!","v":{"$error":"#REF!"}},{"$f":"'Weighted Effect Size'!B67","v":0},0,{"$f":"IF(C67=0,0,'Weighted Effect Size'!L67)","v":0},{"$f":"IF(B67=0,0,B67-C67)","v":0},{"$f":"IF(E67=0,0,E67^2)","v":0},{"$f":"IF(F67=0,0,D67*F67)","v":0},null,{"$f":"IF(B67=0,0,1)","v":0},null,null,null,null,{"$f":"D67","v":0},{"$f":"N67^2","v":0},{"$f":"IF(B67=0,0,1/D67)","v":0},{"$f":"IF(B67=0,0,(P67+$K$15))","v":0},{"$f":"IF(B67=0,0,1/Q67)","v":0},{"$f":"IF(B67=0,0,R67*B67)","v":0}]
[{"$f":"'Weighted Effect Size'!#REF!","v":{"$error":"#REF!"}},{"$f":"'Weighted Effect Size'!B68","v":0},{"$f":"IF(B68=0,0,C$2)","v":0},{"$f":"IF(C68=0,0,'Weighted Effect Size'!L68)","v":0},0,0,0,null,0,null,null,null,null,0,0,0,0,0,0]
[{"$f":"'Weighted Effect Size'!#REF!","v":{"$error":"#REF!"}},{"$f":"'Weighted Effect Size'!B69","v":0},0,{"$f":"IF(C69=0,0,'Weighted Effect Size'!L69)","v":0},0,0,0,null,0,null,null,null,null,0,0,0,0,0,0]
[{"$f":"'Weighted Effect Size'!#REF!","v":{"$error":"#REF!"}},{"$f":"'Weighted Effect Size'!B70","v":0},0,{"$f":"IF(C70=0,0,'Weighted Effect Size'!L70)","v":0},0,0,0,null,0,null,null,null,null,0,0,0,0,0,0]
[{"$f":"'Weighted Effect Size'!#REF!","v":{"$error":"#REF!"}},{"$f":"'Weighted Effect Size'!B71","v":0},0,{"$f":"IF(C71=0,0,'Weighted Effect Size'!L71)","v":0},0,0,0,null,0,null,null,null,null,0,0,0,0,0,0]
[{"$f":"'Weighted Effect Size'!#REF!","v":{"$error":"#REF!"}},{"$f":"'Weighted Effect Size'!B72","v":0},0,{"$f":"IF(C72=0,0,'Weighted Effect Size'!L72)","v":0},0,0,0,null,0,null,null,null,null,0,0,0,0,0,0]
[{"$f":"'Weighted Effect Size'!#REF!","v":{"$error":"#REF!"}},{"$f":"'Weighted Effect Size'!B73","v":0},0,{"$f":"IF(C73=0,0,'Weighted Effect Size'!L73)","v":0},0,0,0,null,0,null,null,null,null,0,0,0,0,0,0]
[{"$f":"'Weighted Effect Size'!#REF!","v":{"$error":"#REF!"}},{"$f":"'Weighted Effect Size'!B74","v":0},0,{"$f":"IF(C74=0,0,'Weighted Effect Size'!L74)","v":0},0,0,0,null,0,null,null,null,null,0,0,0,0,0,0]
[{"$f":"'Weighted Effect Size'!#REF!","v":{"$error":"#REF!"}},{"$f":"'Weighted Effect Size'!B75","v":0},0,{"$f":"IF(C75=0,0,'Weighted Effect Size'!L75)","v":0},0,0,0,null,0,null,null,null,null,0,0,0,0,0,0]
[{"$f":"'Weighted Effect Size'!#REF!","v":{"$error":"#REF!"}},{"$f":"'Weighted Effect Size'!B76","v":0},0,{"$f":"IF(C76=0,0,'Weighted Effect Size'!L76)","v":0},0,0,0,null,0,null,null,null,null,0,0,0,0,0,0]
[{"$f":"'Weighted Effect Size'!#REF!","v":{"$error":"#REF!"}},{"$f":"'Weighted Effect Size'!B77","v":0},0,{"$f":"IF(C77=0,0,'Weighted Effect Size'!L77)","v":0},0,0,0,null,0,null,null,null,null,0,0,0,0,0,0]
[{"$f":"'Weighted Effect Size'!#REF!","v":{"$error":"#REF!"}},{"$f":"'Weighted Effect Size'!B78","v":0},0,{"$f":"IF(C78=0,0,'Weighted Effect Size'!L78)","v":0},0,0,0,null,0,null,null,null,null,0,0,0,0,0,0]
[{"$f":"'Weighted Effect Size'!#REF!","v":{"$error":"#REF!"}},{"$f":"'Weighted Effect Size'!B79","v":0},0,{"$f":"IF(C79=0,0,'Weighted Effect Size'!L79)","v":0},0,0,0,null,0,null,null,null,null,0,0,0,0,0,0]
[{"$f":"'Weighted Effect Size'!#REF!","v":{"$error":"#REF!"}},{"$f":"'Weighted Effect Size'!B80","v":0},0,{"$f":"IF(C80=0,0,'Weighted Effect Size'!L80)","v":0},0,0,0,null,0,null,null,null,null,0,0,0,0,0,0]
[{"$f":"'Weighted Effect Size'!#REF!","v":{"$error":"#REF!"}},{"$f":"'Weighted Effect Size'!B81","v":0},0,{"$f":"IF(C81=0,0,'Weighted Effect Size'!L81)","v":0},0,0,0,null,0,null,null,null,null,0,0,0,0,0,0]
[{"$f":"'Weighted Effect Size'!#REF!","v":{"$error":"#REF!"}},{"$f":"'Weighted Effect Size'!B82","v":0},0,{"$f":"IF(C82=0,0,'Weighted Effect Size'!L82)","v":0},0,0,0,null,0,null,null,null,null,0,0,0,0,0,0]
[{"$f":"'Weighted Effect Size'!#REF!","v":{"$error":"#REF!"}},{"$f":"'Weighted Effect Size'!B83","v":0},0,{"$f":"IF(C83=0,0,'Weighted Effect Size'!L83)","v":0},0,0,0,null,0,null,null,null,null,0,0,0,0,0,0]
[{"$f":"'Weighted Effect Size'!#REF!","v":{"$error":"#REF!"}},{"$f":"'Weighted Effect Size'!B84","v":0},0,{"$f":"IF(C84=0,0,'Weighted Effect Size'!L84)","v":0},0,0,0,null,0,null,null,null,null,0,0,0,0,0,0]
[{"$f":"'Weighted Effect Size'!#REF!","v":{"$error":"#REF!"}},{"$f":"'Weighted Effect Size'!B85","v":0},0,{"$f":"IF(C85=0,0,'Weighted Effect Size'!L85)","v":0},0,0,0,null,0,null,null,null,null,0,0,0,0,0,0]
[{"$f":"'Weighted Effect Size'!#REF!","v":{"$error":"#REF!"}},{"$f":"'Weighted Effect Size'!B86","v":0},0,{"$f":"IF(C86=0,0,'Weighted Effect Size'!L86)","v":0},0,0,0,null,0,null,null,null,null,0,0,0,0,0,0]
[{"$f":"'Weighted Effect Size'!#REF!","v":{"$error":"#REF!"}},{"$f":"'Weighted Effect Size'!B87","v":0},0,{"$f":"IF(C87=0,0,'Weighted Effect Size'!L87)","v":0},0,0,0,null,0,null,null,null,null,0,0,0,0,0,0]
[{"$f":"'Weighted Effect Size'!#REF!","v":{"$error":"#REF!"}},{"$f":"'Weighted Effect Size'!B88","v":0},0,{"$f":"IF(C88=0,0,'Weighted Effect Size'!L88)","v":0},0,0,0,null,0,null,null,null,null,0,0,0,0,0,0]
[{"$f":"'Weighted Effect Size'!#REF!","v":{"$error":"#REF!"}},{"$f":"'Weighted Effect Size'!B89","v":0},0,{"$f":"IF(C89=0,0,'Weighted Effect Size'!L89)","v":0},0,0,0,null,0,null,null,null,null,0,0,0,0,0,0]
[{"$f":"'Weighted Effect Size'!#REF!","v":{"$error":"#REF!"}},{"$f":"'Weighted Effect Size'!B90","v":0},0,{"$f":"IF(C90=0,0,'Weighted Effect Size'!L90)","v":0},0,0,0,null,0,null,null,null,null,0,0,0,0,0,0]
[{"$f":"'Weighted Effect Size'!#REF!","v":{"$error":"#REF!"}},{"$f":"'Weighted Effect Size'!B91","v":0},0,{"$f":"IF(C91=0,0,'Weighted Effect Size'!L91)","v":0},0,0,0,null,0,null,null,null,null,0,0,0,0,0,0]
[{"$f":"'Weighted Effect Size'!#REF!","v":{"$error":"#REF!"}},{"$f":"'Weighted Effect Size'!B92","v":0},0,{"$f":"IF(C92=0,0,'Weighted Effect Size'!L92)","v":0},0,0,0,null,0,null,null,null,null,0,0,0,0,0,0]
[{"$f":"'Weighted Effect Size'!#REF!","v":{"$error":"#REF!"}},{"$f":"'Weighted Effect Size'!B93","v":0},0,{"$f":"IF(C93=0,0,'Weighted Effect Size'!L93)","v":0},0,0,0,null,0,null,null,null,null,0,0,0,0,0,0]
[{"$f":"'Weighted Effect Size'!#REF!","v":{"$error":"#REF!"}},{"$f":"'Weighted Effect Size'!B94","v":0},0,{"$f":"IF(C94=0,0,'Weighted Effect Size'!L94)","v":0},0,0,0,null,0,null,null,null,null,0,0,0,0,0,0]
[{"$f":"'Weighted Effect Size'!#REF!","v":{"$error":"#REF!"}},{"$f":"'Weighted Effect Size'!B95","v":0},0,{"$f":"IF(C95=0,0,'Weighted Effect Size'!L95)","v":0},0,0,0,null,0,null,null,null,null,0,0,0,0,0,0]
[{"$f":"'Weighted Effect Size'!#REF!","v":{"$error":"#REF!"}},{"$f":"'Weighted Effect Size'!B96","v":0},0,{"$f":"IF(C96=0,0,'Weighted Effect Size'!L96)","v":0},0,0,0,null,0,null,null,null,null,0,0,0,0,0,0]
[{"$f":"'Weighted Effect Size'!#REF!","v":{"$error":"#REF!"}},{"$f":"'Weighted Effect Size'!B97","v":0},0,{"$f":"IF(C97=0,0,'Weighted Effect Size'!L97)","v":0},0,0,0,null,0,null,null,null,null,0,0,0,0,0,0]
[{"$f":"'Weighted Effect Size'!#REF!","v":{"$error":"#REF!"}},{"$f":"'Weighted Effect Size'!B98","v":0},0,{"$f":"IF(C98=0,0,'Weighted Effect Size'!L98)","v":0},0,0,0,null,0,null,null,null,null,0,0,0,0,0,0]
[{"$f":"'Weighted Effect Size'!#REF!","v":{"$error":"#REF!"}},{"$f":"'Weighted Effect Size'!B99","v":0},0,{"$f":"IF(C99=0,0,'Weighted Effect Size'!L99)","v":0},0,0,0,null,0,null,null,null,null,0,0,0,0,0,0]
[{"$f":"'Weighted Effect Size'!#REF!","v":{"$error":"#REF!"}},{"$f":"'Weighted Effect Size'!B100","v":0},0,{"$f":"IF(C100=0,0,'Weighted Effect Size'!L100)","v":0},0,0,0,null,0,null,null,null,null,0,0,0,0,0,0]
[{"$f":"'Weighted Effect Size'!#REF!","v":{"$error":"#REF!"}},{"$f":"'Weighted Effect Size'!B101","v":0},0,{"$f":"IF(C101=0,0,'Weighted Effect Size'!L101)","v":0},0,0,0,null,0,null,null,null,null,0,0,0,0,0,0]
[{"$f":"'Weighted Effect Size'!#REF!","v":{"$error":"#REF!"}},{"$f":"'Weighted Effect Size'!B102","v":0},0,{"$f":"IF(C102=0,0,'Weighted Effect Size'!L102)","v":0},0,0,0,null,0,null,null,null,null,0,0,0,0,0,0]
[{"$f":"'Weighted Effect Size'!#REF!","v":{"$error":"#REF!"}},{"$f":"'Weighted Effect Size'!B103","v":0},0,{"$f":"IF(C103=0,0,'Weighted Effect Size'!L103)","v":0},0,0,0,null,0,null,null,null,null,0,0,0,0,0,0]
[{"$f":"'Weighted Effect Size'!#REF!","v":{"$error":"#REF!"}},{"$f":"'Weighted Effect Size'!B104","v":0},0,{"$f":"IF(C104=0,0,'Weighted Effect Size'!L104)","v":0},0,0,0,null,0,null,null,null,null,0,0,0,0,0,0]
[{"$f":"'Weighted Effect Size'!#REF!","v":{"$error":"#REF!"}},{"$f":"'Weighted Effect Size'!B105","v":0},0,{"$f":"IF(C105=0,0,'Weighted Effect Size'!L105)","v":0},0,0,0,null,0,null,null,null,null,0,0,0,0,0,0]
[{"$f":"'Weighted Effect Size'!#REF!","v":{"$error":"#REF!"}},{"$f":"'Weighted Effect Size'!B106","v":0},0,{"$f":"IF(C106=0,0,'Weighted Effect Size'!L106)","v":0},0,0,0,null,0,null,null,null,null,0,0,0,0,0,0]
[{"$f":"'Weighted Effect Size'!#REF!","v":{"$error":"#REF!"}},{"$f":"'Weighted Effect Size'!B107","v":0},0,{"$f":"IF(C107=0,0,'Weighted Effect Size'!L107)","v":0},0,0,0,null,0,null,null,null,null,0,0,0,0,0,0]
[{"$f":"'Weighted Effect Size'!#REF!","v":{"$error":"#REF!"}},{"$f":"'Weighted Effect Size'!B108","v":0},0,{"$f":"IF(C108=0,0,'Weighted Effect Size'!L108)","v":0},0,0,0,null,0,null,null,null,null,0,0,0,0,0,0]
[{"$f":"'Weighted Effect Size'!#REF!","v":{"$error":"#REF!"}},{"$f":"'Weighted Effect Size'!B109","v":0},0,{"$f":"IF(C109=0,0,'Weighted Effect Size'!L109)","v":0},0,0,0,null,0,null,null,null,null,0,0,0,0,0,0]
[{"$f":"'Weighted Effect Size'!#REF!","v":{"$error":"#REF!"}},{"$f":"'Weighted Effect Size'!B110","v":0},0,{"$f":"IF(C110=0,0,'Weighted Effect Size'!L110)","v":0},0,0,0,null,0,null,null,null,null,0,0,0,0,0,0]
[{"$f":"'Weighted Effect Size'!#REF!","v":{"$error":"#REF!"}},{"$f":"'Weighted Effect Size'!B111","v":0},0,{"$f":"IF(C111=0,0,'Weighted Effect Size'!L111)","v":0},0,0,0,null,0,null,null,null,null,0,0,0,0,0,0]
[{"$f":"'Weighted Effect Size'!#REF!","v":{"$error":"#REF!"}},{"$f":"'Weighted Effect Size'!B112","v":0},0,{"$f":"IF(C112=0,0,'Weighted Effect Size'!L112)","v":0},0,0,0,null,0,null,null,null,null,0,0,0,0,0,0]
[{"$f":"'Weighted Effect Size'!#REF!","v":{"$error":"#REF!"}},{"$f":"'Weighted Effect Size'!B113","v":0},0,{"$f":"IF(C113=0,0,'Weighted Effect Size'!L113)","v":0},0,0,0,null,0,null,null,null,null,0,0,0,0,0,0]
[{"$f":"'Weighted Effect Size'!#REF!","v":{"$error":"#REF!"}},{"$f":"'Weighted Effect Size'!B114","v":0},0,{"$f":"IF(C114=0,0,'Weighted Effect Size'!L114)","v":0},0,0,0,null,0,null,null,null,null,0,0,0,0,0,0]
[{"$f":"'Weighted Effect Size'!#REF!","v":{"$error":"#REF!"}},{"$f":"'Weighted Effect Size'!B115","v":0},0,{"$f":"IF(C115=0,0,'Weighted Effect Size'!L115)","v":0},0,0,0,null,0,null,null,null,null,0,0,0,0,0,0]
[{"$f":"'Weighted Effect Size'!#REF!","v":{"$error":"#REF!"}},{"$f":"'Weighted Effect Size'!B116","v":0},0,{"$f":"IF(C116=0,0,'Weighted Effect Size'!L116)","v":0},0,0,0,null,0,null,null,null,null,0,0,0,0,0,0]
[{"$f":"'Weighted Effect Size'!#REF!","v":{"$error":"#REF!"}},{"$f":"'Weighted Effect Size'!B117","v":0},0,{"$f":"IF(C117=0,0,'Weighted Effect Size'!L117)","v":0},0,0,0,null,0,null,null,null,null,0,0,0,0,0,0]
[{"$f":"'Weighted Effect Size'!#REF!","v":{"$error":"#REF!"}},{"$f":"'Weighted Effect Size'!B118","v":0},0,{"$f":"IF(C118=0,0,'Weighted Effect Size'!L118)","v":0},0,0,0,null,0,null,null,null,null,0,0,0,0,0,0]
[{"$f":"'Weighted Effect Size'!#REF!","v":{"$error":"#REF!"}},{"$f":"'Weighted Effect Size'!B119","v":0},0,{"$f":"IF(C119=0,0,'Weighted Effect Size'!L119)","v":0},0,0,0,null,0,null,null,null,null,0,0,0,0,0,0]
[{"$f":"'Weighted Effect Size'!#REF!","v":{"$error":"#REF!"}},{"$f":"'Weighted Effect Size'!B120","v":0},0,{"$f":"IF(C120=0,0,'Weighted Effect Size'!L120)","v":0},0,0,0,null,0,null,null,null,null,0,0,0,0,0,0]
[{"$f":"'Weighted Effect Size'!#REF!","v":{"$error":"#REF!"}},{"$f":"'Weighted Effect Size'!B121","v":0},0,{"$f":"IF(C121=0,0,'Weighted Effect Size'!L121)","v":0},0,0,0,null,0,null,null,null,null,0,0,0,0,0,0]
[{"$f":"'Weighted Effect Size'!#REF!","v":{"$error":"#REF!"}},{"$f":"'Weighted Effect Size'!B122","v":0},0,{"$f":"IF(C122=0,0,'Weighted Effect Size'!L122)","v":0},0,0,0,null,0,null,null,null,null,0,0,0,0,0,0]
[{"$f":"'Weighted Effect Size'!#REF!","v":{"$error":"#REF!"}},{"$f":"'Weighted Effect Size'!B123","v":0},0,{"$f":"IF(C123=0,0,'Weighted Effect Size'!L123)","v":0},0,0,0,null,0,null,null,null,null,0,0,0,0,0,0]
[{"$f":"'Weighted Effect Size'!#REF!","v":{"$error":"#REF!"}},{"$f":"'Weighted Effect Size'!B124","v":0},0,{"$f":"IF(C124=0,0,'Weighted Effect Size'!L124)","v":0},0,0,0,null,0,null,null,null,null,0,0,0,0,0,0]
[{"$f":"'Weighted Effect Size'!#REF!","v":{"$error":"#REF!"}},{"$f":"'Weighted Effect Size'!B125","v":0},0,{"$f":"IF(C125=0,0,'Weighted Effect Size'!L125)","v":0},0,0,0,null,0,null,null,null,null,0,0,0,0,0,0]
[{"$f":"'Weighted Effect Size'!#REF!","v":{"$error":"#REF!"}},{"$f":"'Weighted Effect Size'!B126","v":0},0,{"$f":"IF(C126=0,0,'Weighted Effect Size'!L126)","v":0},0,0,0,null,0,null,null,null,null,0,0,0,0,0,0]
[{"$f":"'Weighted Effect Size'!#REF!","v":{"$error":"#REF!"}},{"$f":"'Weighted Effect Size'!B127","v":0},0,{"$f":"IF(C127=0,0,'Weighted Effect Size'!L127)","v":0},0,0,0,null,0,null,null,null,null,0,0,0,0,0,0]
[{"$f":"'Weighted Effect Size'!#REF!","v":{"$error":"#REF!"}},{"$f":"'Weighted Effect Size'!B128","v":0},0,{"$f":"IF(C128=0,0,'Weighted Effect Size'!L128)","v":0},0,0,0,null,0,null,null,null,null,0,0,0,0,0,0]
[{"$f":"'Weighted Effect Size'!#REF!","v":{"$error":"#REF!"}},{"$f":"'Weighted Effect Size'!B129","v":0},0,{"$f":"IF(C129=0,0,'Weighted Effect Size'!L129)","v":0},0,0,0,null,0,null,null,null,null,0,0,0,0,0,0]
[{"$f":"'Weighted Effect Size'!#REF!","v":{"$error":"#REF!"}},{"$f":"'Weighted Effect Size'!B130","v":0},0,{"$f":"IF(C130=0,0,'Weighted Effect Size'!L130)","v":0},0,0,0,null,0,null,null,null,null,0,0,0,0,0,0]
[{"$f":"'Weighted Effect Size'!#REF!","v":{"$error":"#REF!"}},{"$f":"'Weighted Effect Size'!B131","v":0},0,{"$f":"IF(C131=0,0,'Weighted Effect Size'!L131)","v":0},{"$f":"IF(B131=0,0,B131-C131)","v":0},{"$f":"IF(E131=0,0,E131^2)","v":0},{"$f":"IF(F131=0,0,D131*F131)","v":0},null,{"$f":"IF(B131=0,0,1)","v":0},null,null,null,null,{"$f":"D131","v":0},{"$f":"N131^2","v":0},{"$f":"IF(B131=0,0,1/D131)","v":0},{"$f":"IF(B131=0,0,(P131+$K$15))","v":0},{"$f":"IF(B131=0,0,1/Q131)","v":0},{"$f":"IF(B131=0,0,R131*B131)","v":0}]
[{"$f":"'Weighted Effect Size'!#REF!","v":{"$error":"#REF!"}},{"$f":"'Weighted Effect Size'!B132","v":0},{"$f":"IF(B132=0,0,C$2)","v":0},{"$f":"IF(C132=0,0,'Weighted Effect Size'!L132)","v":0},0,0,0,null,0,null,null,null,null,0,0,0,0,0,0]
[{"$f":"'Weighted Effect Size'!#REF!","v":{"$error":"#REF!"}},{"$f":"'Weighted Effect Size'!B133","v":0},0,{"$f":"IF(C133=0,0,'Weighted Effect Size'!L133)","v":0},0,0,0,null,0,null,null,null,null,0,0,0,0,0,0]
[{"$f":"'Weighted Effect Size'!#REF!","v":{"$error":"#REF!"}},{"$f":"'Weighted Effect Size'!B134","v":0},0,{"$f":"IF(C134=0,0,'Weighted Effect Size'!L134)","v":0},0,0,0,null,0,null,null,null,null,0,0,0,0,0,0]
[{"$f":"'Weighted Effect Size'!#REF!","v":{"$error":"#REF!"}},{"$f":"'Weighted Effect Size'!B135","v":0},0,{"$f":"IF(C135=0,0,'Weighted Effect Size'!L135)","v":0},0,0,0,null,0,null,null,null,null,0,0,0,0,0,0]
[{"$f":"'Weighted Effect Size'!#REF!","v":{"$error":"#REF!"}},{"$f":"'Weighted Effect Size'!B136","v":0},0,{"$f":"IF(C136=0,0,'Weighted Effect Size'!L136)","v":0},0,0,0,null,0,null,null,null,null,0,0,0,0,0,0]
[{"$f":"'Weighted Effect Size'!#REF!","v":{"$error":"#REF!"}},{"$f":"'Weighted Effect Size'!B137","v":0},0,{"$f":"IF(C137=0,0,'Weighted Effect Size'!L137)","v":0},0,0,0,null,0,null,null,null,null,0,0,0,0,0,0]
[{"$f":"'Weighted Effect Size'!#REF!","v":{"$error":"#REF!"}},{"$f":"'Weighted Effect Size'!B138","v":0},0,{"$f":"IF(C138=0,0,'Weighted Effect Size'!L138)","v":0},0,0,0,null,0,null,null,null,null,0,0,0,0,0,0]
[{"$f":"'Weighted Effect Size'!#REF!","v":{"$error":"#REF!"}},{"$f":"'Weighted Effect Size'!B139","v":0},0,{"$f":"IF(C139=0,0,'Weighted Effect Size'!L139)","v":0},0,0,0,null,0,null,null,null,null,0,0,0,0,0,0]
[{"$f":"'Weighted Effect Size'!#REF!","v":{"$error":"#REF!"}},{"$f":"'Weighted Effect Size'!B140","v":0},0,{"$f":"IF(C140=0,0,'Weighted Effect Size'!L140)","v":0},0,0,0,null,0,null,null,null,null,0,0,0,0,0,0]
[{"$f":"'Weighted Effect Size'!#REF!","v":{"$error":"#REF!"}},{"$f":"'Weighted Effect Size'!B141","v":0},0,{"$f":"IF(C141=0,0,'Weighted Effect Size'!L141)","v":0},0,0,0,null,0,null,null,null,null,0,0,0,0,0,0]
[{"$f":"'Weighted Effect Size'!#REF!","v":{"$error":"#REF!"}},{"$f":"'Weighted Effect Size'!B142","v":0},0,{"$f":"IF(C142=0,0,'Weighted Effect Size'!L142)","v":0},0,0,0,null,0,null,null,null,null,0,0,0,0,0,0]
[{"$f":"'Weighted Effect Size'!#REF!","v":{"$error":"#REF!"}},{"$f":"'Weighted Effect Size'!B143","v":0},0,{"$f":"IF(C143=0,0,'Weighted Effect Size'!L143)","v":0},0,0,0,null,0,null,null,null,null,0,0,0,0,0,0]
[{"$f":"'Weighted Effect Size'!#REF!","v":{"$error":"#REF!"}},{"$f":"'Weighted Effect Size'!B144","v":0},0,{"$f":"IF(C144=0,0,'Weighted Effect Size'!L144)","v":0},0,0,0,null,0,null,null,null,null,0,0,0,0,0,0]
[{"$f":"'Weighted Effect Size'!#REF!","v":{"$error":"#REF!"}},{"$f":"'Weighted Effect Size'!B145","v":0},0,{"$f":"IF(C145=0,0,'Weighted Effect Size'!L145)","v":0},0,0,0,null,0,null,null,null,null,0,0,0,0,0,0]
[{"$f":"'Weighted Effect Size'!#REF!","v":{"$error":"#REF!"}},{"$f":"'Weighted Effect Size'!B146","v":0},0,{"$f":"IF(C146=0,0,'Weighted Effect Size'!L146)","v":0},0,0,0,null,0,null,null,null,null,0,0,0,0,0,0]
[{"$f":"'Weighted Effect Size'!#REF!","v":{"$error":"#REF!"}},{"$f":"'Weighted Effect Size'!B147","v":0},0,{"$f":"IF(C147=0,0,'Weighted Effect Size'!L147)","v":0},0,0,0,null,0,null,null,null,null,0,0,0,0,0,0]
[{"$f":"'Weighted Effect Size'!#REF!","v":{"$error":"#REF!"}},{"$f":"'Weighted Effect Size'!B148","v":0},0,{"$f":"IF(C148=0,0,'Weighted Effect Size'!L148)","v":0},0,0,0,null,0,null,null,null,null,0,0,0,0,0,0]
[{"$f":"'Weighted Effect Size'!#REF!","v":{"$error":"#REF!"}},{"$f":"'Weighted Effect Size'!B149","v":0},0,{"$f":"IF(C149=0,0,'Weighted Effect Size'!L149)","v":0},0,0,0,null,0,null,null,null,null,0,0,0,0,0,0]
[{"$f":"'Weighted Effect Size'!#REF!","v":{"$error":"#REF!"}},{"$f":"'Weighted Effect Size'!B150","v":0},0,{"$f":"IF(C150=0,0,'Weighted Effect Size'!L150)","v":0},0,0,0,null,0,null,null,null,null,0,0,0,0,0,0]
[{"$f":"'Weighted Effect Size'!#REF!","v":{"$error":"#REF!"}},{"$f":"'Weighted Effect Size'!B151","v":0},0,{"$f":"IF(C151=0,0,'Weighted Effect Size'!L151)","v":0},0,0,0,null,0,null,null,null,null,0,0,0,0,0,0]
[{"$f":"'Weighted Effect Size'!#REF!","v":{"$error":"#REF!"}},{"$f":"'Weighted Effect Size'!B152","v":0},0,{"$f":"IF(C152=0,0,'Weighted Effect Size'!L152)","v":0},0,0,0,null,0,null,null,null,null,0,0,0,0,0,0]
[{"$f":"'Weighted Effect Size'!#REF!","v":{"$error":"#REF!"}},{"$f":"'Weighted Effect Size'!B153","v":0},0,{"$f":"IF(C153=0,0,'Weighted Effect Size'!L153)","v":0},0,0,0,null,0,null,null,null,null,0,0,0,0,0,0]
[{"$f":"'Weighted Effect Size'!#REF!","v":{"$error":"#REF!"}},{"$f":"'Weighted Effect Size'!B154","v":0},0,{"$f":"IF(C154=0,0,'Weighted Effect Size'!L154)","v":0},0,0,0,null,0,null,null,null,null,0,0,0,0,0,0]
[{"$f":"'Weighted Effect Size'!#REF!","v":{"$error":"#REF!"}},{"$f":"'Weighted Effect Size'!B155","v":0},0,{"$f":"IF(C155=0,0,'Weighted Effect Size'!L155)","v":0},0,0,0,null,0,null,null,null,null,0,0,0,0,0,0]
[{"$f":"'Weighted Effect Size'!#REF!","v":{"$error":"#REF!"}},{"$f":"'Weighted Effect Size'!B156","v":0},0,{"$f":"IF(C156=0,0,'Weighted Effect Size'!L156)","v":0},0,0,0,null,0,null,null,null,null,0,0,0,0,0,0]
[{"$f":"'Weighted Effect Size'!#REF!","v":{"$error":"#REF!"}},{"$f":"'Weighted Effect Size'!B157","v":0},0,{"$f":"IF(C157=0,0,'Weighted Effect Size'!L157)","v":0},0,0,0,null,0,null,null,null,null,0,0,0,0,0,0]
[{"$f":"'Weighted Effect Size'!#REF!","v":{"$error":"#REF!"}},{"$f":"'Weighted Effect Size'!B158","v":0},0,{"$f":"IF(C158=0,0,'Weighted Effect Size'!L158)","v":0},0,0,0,null,0,null,null,null,null,0,0,0,0,0,0]
[{"$f":"'Weighted Effect Size'!#REF!","v":{"$error":"#REF!"}},{"$f":"'Weighted Effect Size'!B159","v":0},0,{"$f":"IF(C159=0,0,'Weighted Effect Size'!L159)","v":0},0,0,0,null,0,null,null,null,null,0,0,0,0,0,0]
[{"$f":"'Weighted Effect Size'!#REF!","v":{"$error":"#REF!"}},{"$f":"'Weighted Effect Size'!B160","v":0},0,{"$f":"IF(C160=0,0,'Weighted Effect Size'!L160)","v":0},0,0,0,null,0,null,null,null,null,0,0,0,0,0,0]
[{"$f":"'Weighted Effect Size'!#REF!","v":{"$error":"#REF!"}},{"$f":"'Weighted Effect Size'!B161","v":0},0,{"$f":"IF(C161=0,0,'Weighted Effect Size'!L161)","v":0},0,0,0,null,0,null,null,null,null,0,0,0,0,0,0]
[{"$f":"'Weighted Effect Size'!#REF!","v":{"$error":"#REF!"}},{"$f":"'Weighted Effect Size'!B162","v":0},0,{"$f":"IF(C162=0,0,'Weighted Effect Size'!L162)","v":0},0,0,0,null,0,null,null,null,null,0,0,0,0,0,0]
[{"$f":"'Weighted Effect Size'!#REF!","v":{"$error":"#REF!"}},{"$f":"'Weighted Effect Size'!B163","v":0},0,{"$f":"IF(C163=0,0,'Weighted Effect Size'!L163)","v":0},0,0,0,null,0,null,null,null,null,0,0,0,0,0,0]
[{"$f":"'Weighted Effect Size'!#REF!","v":{"$error":"#REF!"}},{"$f":"'Weighted Effect Size'!B164","v":0},0,{"$f":"IF(C164=0,0,'Weighted Effect Size'!L164)","v":0},0,0,0,null,0,null,null,null,null,0,0,0,0,0,0]
[{"$f":"'Weighted Effect Size'!#REF!","v":{"$error":"#REF!"}},{"$f":"'Weighted Effect Size'!B165","v":0},0,{"$f":"IF(C165=0,0,'Weighted Effect Size'!L165)","v":0},0,0,0,null,0,null,null,null,null,0,0,0,0,0,0]
[{"$f":"'Weighted Effect Size'!#REF!","v":{"$error":"#REF!"}},{"$f":"'Weighted Effect Size'!B166","v":0},0,{"$f":"IF(C166=0,0,'Weighted Effect Size'!L166)","v":0},0,0,0,null,0,null,null,null,null,0,0,0,0,0,0]
[{"$f":"'Weighted Effect Size'!#REF!","v":{"$error":"#REF!"}},{"$f":"'Weighted Effect Size'!B167","v":0},0,{"$f":"IF(C167=0,0,'Weighted Effect Size'!L167)","v":0},0,0,0,null,0,null,null,null,null,0,0,0,0,0,0]
[{"$f":"'Weighted Effect Size'!#REF!","v":{"$error":"#REF!"}},{"$f":"'Weighted Effect Size'!B168","v":0},0,{"$f":"IF(C168=0,0,'Weighted Effect Size'!L168)","v":0},0,0,0,null,0,null,null,null,null,0,0,0,0,0,0]
[{"$f":"'Weighted Effect Size'!#REF!","v":{"$error":"#REF!"}},{"$f":"'Weighted Effect Size'!B169","v":0},0,{"$f":"IF(C169=0,0,'Weighted Effect Size'!L169)","v":0},0,0,0,null,0,null,null,null,null,0,0,0,0,0,0]
[{"$f":"'Weighted Effect Size'!#REF!","v":{"$error":"#REF!"}},{"$f":"'Weighted Effect Size'!B170","v":0},0,{"$f":"IF(C170=0,0,'Weighted Effect Size'!L170)","v":0},0,0,0,null,0,null,null,null,null,0,0,0,0,0,0]
[{"$f":"'Weighted Effect Size'!#REF!","v":{"$error":"#REF!"}},{"$f":"'Weighted Effect Size'!B171","v":0},0,{"$f":"IF(C171=0,0,'Weighted Effect Size'!L171)","v":0},0,0,0,null,0,null,null,null,null,0,0,0,0,0,0]
[{"$f":"'Weighted Effect Size'!#REF!","v":{"$error":"#REF!"}},{"$f":"'Weighted Effect Size'!B172","v":0},0,{"$f":"IF(C172=0,0,'Weighted Effect Size'!L172)","v":0},0,0,0,null,0,null,null,null,null,0,0,0,0,0,0]
[{"$f":"'Weighted Effect Size'!#REF!","v":{"$error":"#REF!"}},{"$f":"'Weighted Effect Size'!B173","v":0},0,{"$f":"IF(C173=0,0,'Weighted Effect Size'!L173)","v":0},0,0,0,null,0,null,null,null,null,0,0,0,0,0,0]
[{"$f":"'Weighted Effect Size'!#REF!","v":{"$error":"#REF!"}},{"$f":"'Weighted Effect Size'!B174","v":0},0,{"$f":"IF(C174=0,0,'Weighted Effect Size'!L174)","v":0},0,0,0,null,0,null,null,null,null,0,0,0,0,0,0]
[{"$f":"'Weighted Effect Size'!#REF!","v":{"$error":"#REF!"}},{"$f":"'Weighted Effect Size'!B175","v":0},0,{"$f":"IF(C175=0,0,'Weighted Effect Size'!L175)","v":0},0,0,0,null,0,null,null,null,null,0,0,0,0,0,0]
[{"$f":"'Weighted Effect Size'!#REF!","v":{"$error":"#REF!"}},{"$f":"'Weighted Effect Size'!B176","v":0},0,{"$f":"IF(C176=0,0,'Weighted Effect Size'!L176)","v":0},0,0,0,null,0,null,null,null,null,0,0,0,0,0,0]
[{"$f":"'Weighted Effect Size'!#REF!","v":{"$error":"#REF!"}},{"$f":"'Weighted Effect Size'!B177","v":0},0,{"$f":"IF(C177=0,0,'Weighted Effect Size'!L177)","v":0},0,0,0,null,0,null,null,null,null,0,0,0,0,0,0]
[{"$f":"'Weighted Effect Size'!#REF!","v":{"$error":"#REF!"}},{"$f":"'Weighted Effect Size'!B178","v":0},0,{"$f":"IF(C178=0,0,'Weighted Effect Size'!L178)","v":0},0,0,0,null,0,null,null,null,null,0,0,0,0,0,0]
[{"$f":"'Weighted Effect Size'!#REF!","v":{"$error":"#REF!"}},{"$f":"'Weighted Effect Size'!B179","v":0},0,{"$f":"IF(C179=0,0,'Weighted Effect Size'!L179)","v":0},0,0,0,null,0,null,null,null,null,0,0,0,0,0,0]
[{"$f":"'Weighted Effect Size'!#REF!","v":{"$error":"#REF!"}},{"$f":"'Weighted Effect Size'!B180","v":0},0,{"$f":"IF(C180=0,0,'Weighted Effect Size'!L180)","v":0},0,0,0,null,0,null,null,null,null,0,0,0,0,0,0]
[{"$f":"'Weighted Effect Size'!#REF!","v":{"$error":"#REF!"}},{"$f":"'Weighted Effect Size'!B181","v":0},0,{"$f":"IF(C181=0,0,'Weighted Effect Size'!L181)","v":0},0,0,0,null,0,null,null,null,null,0,0,0,0,0,0]
[{"$f":"'Weighted Effect Size'!#REF!","v":{"$error":"#REF!"}},{"$f":"'Weighted Effect Size'!B182","v":0},0,{"$f":"IF(C182=0,0,'Weighted Effect Size'!L182)","v":0},0,0,0,null,0,null,null,null,null,0,0,0,0,0,0]
[{"$f":"'Weighted Effect Size'!#REF!","v":{"$error":"#REF!"}},{"$f":"'Weighted Effect Size'!B183","v":0},0,{"$f":"IF(C183=0,0,'Weighted Effect Size'!L183)","v":0},0,0,0,null,0,null,null,null,null,0,0,0,{"$f":"IF(B183=0,0,(P183+$K$15))","v":0},0,0]
[null,null,null,null,null,"Q:  Σ[w(ES - ESavg)2]",{"$f":"SUM(G2:G183)","v":0},null,null,null,null,null,"Sums:",{"$f":"SUM(N2:N183)","v":0},{"$f":"SUM(O2:O183)","v":0},null,null,0,0]

{"sheet":"Random Effects Model Summary","index":10,"n_rows":184,"n_cols":13,"rows_kept":184,"cut":false,"hidden":false,"merged":[]}
["Study","ES","wi","wi2","vi","vi*","wi*","wi*(d)","d*ave","SE*dave","(1.96)(SE*)","LO95*","HI95*"]
[{"$f":"'Random Variance Component'!A2","v":{"$error":"#REF!"}},{"$f":"'Random Variance Component'!B2","v":0},{"$f":"'Random Variance Component'!N2","v":0},{"$f":"'Random Variance Component'!O2","v":0},{"$f":"'Random Variance Component'!P2","v":0},{"$f":"'Random Variance Component'!Q2","v":0},{"$f":"'Random Variance Component'!R2","v":0},{"$f":"'Random Variance Component'!S2","v":0},{"$f":"'Random Variance Component'!T2","v":0},{"$f":"'Random Variance Component'!U2","v":0},{"$f":"'Random Variance Component'!V2","v":0},{"$f":"'Random Variance Component'!W2","v":0},{"$f":"'Random Variance Component'!X2","v":0}]
[{"$f":"'Random Variance Component'!A3","v":{"$error":"#REF!"}},{"$f":"'Random Variance Component'!B3","v":0},{"$f":"'Random Variance Component'!N3","v":0},{"$f":"'Random Variance Component'!O3","v":0},{"$f":"'Random Variance Component'!P3","v":0},{"$f":"'Random Variance Component'!Q3","v":0},{"$f":"'Random Variance Component'!R3","v":0},{"$f":"'Random Variance Component'!S3","v":0},{"$f":"'Random Variance Component'!T3","v":0},{"$f":"'Random Variance Component'!U3","v":0},{"$f":"'Random Variance Component'!V3","v":0},{"$f":"'Random Variance Component'!W3","v":0},{"$f":"'Random Variance Component'!X3","v":0}]
[{"$f":"'Random Variance Component'!A4","v":{"$error":"#REF!"}},{"$f":"'Random Variance Component'!B4","v":0},{"$f":"'Random Variance Component'!N4","v":0},{"$f":"'Random Variance Component'!O4","v":0},{"$f":"'Random Variance Component'!P4","v":0},{"$f":"'Random Variance Component'!Q4","v":0},{"$f":"'Random Variance Component'!R4","v":0},{"$f":"'Random Variance Component'!S4","v":0},{"$f":"'Random Variance Component'!T4","v":0},{"$f":"'Random Variance Component'!U4","v":0},{"$f":"'Random Variance Component'!V4","v":0},{"$f":"'Random Variance Component'!W4","v":0},{"$f":"'Random Variance Component'!X4","v":0}]
[{"$f":"'Random Variance Component'!A5","v":{"$error":"#REF!"}},{"$f":"'Random Variance Component'!B5","v":0},{"$f":"'Random Variance Component'!N5","v":0},{"$f":"'Random Variance Component'!O5","v":0},{"$f":"'Random Variance Component'!P5","v":0},{"$f":"'Random Variance Component'!Q5","v":0},{"$f":"'Random Variance Component'!R5","v":0},{"$f":"'Random Variance Component'!S5","v":0},{"$f":"'Random Variance Component'!T5","v":0},{"$f":"'Random Variance Component'!U5","v":0},{"$f":"'Random Variance Component'!V5","v":0},{"$f":"'Random Variance Component'!W5","v":0},{"$f":"'Random Variance Component'!X5","v":0}]
[{"$f":"'Random Variance Component'!A6","v":{"$error":"#REF!"}},{"$f":"'Random Variance Component'!B6","v":0},{"$f":"'Random Variance Component'!N6","v":0},{"$f":"'Random Variance Component'!O6","v":0},{"$f":"'Random Variance Component'!P6","v":0},{"$f":"'Random Variance Component'!Q6","v":0},{"$f":"'Random Variance Component'!R6","v":0},{"$f":"'Random Variance Component'!S6","v":0},{"$f":"'Random Variance Component'!T6","v":0},{"$f":"'Random Variance Component'!U6","v":0},{"$f":"'Random Variance Component'!V6","v":0},{"$f":"'Random Variance Component'!W6","v":0},{"$f":"'Random Variance Component'!X6","v":0}]
[{"$f":"'Random Variance Component'!A7","v":{"$error":"#REF!"}},{"$f":"'Random Variance Component'!B7","v":0},{"$f":"'Random Variance Component'!N7","v":0},{"$f":"'Random Variance Component'!O7","v":0},{"$f":"'Random Variance Component'!P7","v":0},{"$f":"'Random Variance Component'!Q7","v":0},{"$f":"'Random Variance Component'!R7","v":0},{"$f":"'Random Variance Component'!S7","v":0},{"$f":"'Random Variance Component'!T7","v":0},{"$f":"'Random Variance Component'!U7","v":0},{"$f":"'Random Variance Component'!V7","v":0},{"$f":"'Random Variance Component'!W7","v":0},{"$f":"'Random Variance Component'!X7","v":0}]
[{"$f":"'Random Variance Component'!A8","v":{"$error":"#REF!"}},{"$f":"'Random Variance Component'!B8","v":0},{"$f":"'Random Variance Component'!N8","v":0},{"$f":"'Random Variance Component'!O8","v":0},{"$f":"'Random Variance Component'!P8","v":0},{"$f":"'Random Variance Component'!Q8","v":0},{"$f":"'Random Variance Component'!R8","v":0},{"$f":"'Random Variance Component'!S8","v":0},{"$f":"'Random Variance Component'!T8","v":0},{"$f":"'Random Variance Component'!U8","v":0},{"$f":"'Random Variance Component'!V8","v":0},{"$f":"'Random Variance Component'!W8","v":0},{"$f":"'Random Variance Component'!X8","v":0}]
[{"$f":"'Random Variance Component'!A9","v":{"$error":"#REF!"}},{"$f":"'Random Variance Component'!B9","v":0},{"$f":"'Random Variance Component'!N9","v":0},{"$f":"'Random Variance Component'!O9","v":0},{"$f":"'Random Variance Component'!P9","v":0},{"$f":"'Random Variance Component'!Q9","v":0},{"$f":"'Random Variance Component'!R9","v":0},{"$f":"'Random Variance Component'!S9","v":0},{"$f":"'Random Variance Component'!T9","v":0},{"$f":"'Random Variance Component'!U9","v":0},{"$f":"'Random Variance Component'!V9","v":0},{"$f":"'Random Variance Component'!W9","v":0},{"$f":"'Random Variance Component'!X9","v":0}]
[{"$f":"'Random Variance Component'!A10","v":{"$error":"#REF!"}},{"$f":"'Random Variance Component'!B10","v":0},{"$f":"'Random Variance Component'!N10","v":0},{"$f":"'Random Variance Component'!O10","v":0},{"$f":"'Random Variance Component'!P10","v":0},{"$f":"'Random Variance Component'!Q10","v":0},{"$f":"'Random Variance Component'!R10","v":0},{"$f":"'Random Variance Component'!S10","v":0},{"$f":"'Random Variance Component'!T10","v":0},{"$f":"'Random Variance Component'!U10","v":0},{"$f":"'Random Variance Component'!V10","v":0},{"$f":"'Random Variance Component'!W10","v":0},{"$f":"'Random Variance Component'!X10","v":0}]
[{"$f":"'Random Variance Component'!A11","v":{"$error":"#REF!"}},{"$f":"'Random Variance Component'!B11","v":0},{"$f":"'Random Variance Component'!N11","v":0},{"$f":"'Random Variance Component'!O11","v":0},{"$f":"'Random Variance Component'!P11","v":0},{"$f":"'Random Variance Component'!Q11","v":0},{"$f":"'Random Variance Component'!R11","v":0},{"$f":"'Random Variance Component'!S11","v":0},{"$f":"'Random Variance Component'!T11","v":0},{"$f":"'Random Variance Component'!U11","v":0},{"$f":"'Random Variance Component'!V11","v":0},{"$f":"'Random Variance Component'!W11","v":0},{"$f":"'Random Variance Component'!X11","v":0}]
[{"$f":"'Random Variance Component'!A12","v":{"$error":"#REF!"}},{"$f":"'Random Variance Component'!B12","v":0},{"$f":"'Random Variance Component'!N12","v":0},{"$f":"'Random Variance Component'!O12","v":0},{"$f":"'Random Variance Component'!P12","v":0},{"$f":"'Random Variance Component'!Q12","v":0},{"$f":"'Random Variance Component'!R12","v":0},{"$f":"'Random Variance Component'!S12","v":0},{"$f":"'Random Variance Component'!T12","v":0},{"$f":"'Random Variance Component'!U12","v":0},{"$f":"'Random Variance Component'!V12","v":0},{"$f":"'Random Variance Component'!W12","v":0},{"$f":"'Random Variance Component'!X12","v":0}]
[{"$f":"'Random Variance Component'!A13","v":{"$error":"#REF!"}},{"$f":"'Random Variance Component'!B13","v":0},{"$f":"'Random Variance Component'!N13","v":0},{"$f":"'Random Variance Component'!O13","v":0},{"$f":"'Random Variance Component'!P13","v":0},{"$f":"'Random Variance Component'!Q13","v":0},{"$f":"'Random Variance Component'!R13","v":0},{"$f":"'Random Variance Component'!S13","v":0},{"$f":"'Random Variance Component'!T13","v":0},{"$f":"'Random Variance Component'!U13","v":0},{"$f":"'Random Variance Component'!V13","v":0},{"$f":"'Random Variance Component'!W13","v":0},{"$f":"'Random Variance Component'!X13","v":0}]
[{"$f":"'Random Variance Component'!A14","v":{"$error":"#REF!"}},{"$f":"'Random Variance Component'!B14","v":0},{"$f":"'Random Variance Component'!N14","v":0},{"$f":"'Random Variance Component'!O14","v":0},{"$f":"'Random Variance Component'!P14","v":0},{"$f":"'Random Variance Component'!Q14","v":0},{"$f":"'Random Variance Component'!R14","v":0},{"$f":"'Random Variance Component'!S14","v":0},{"$f":"'Random Variance Component'!T14","v":0},{"$f":"'Random Variance Component'!U14","v":0},{"$f":"'Random Variance Component'!V14","v":0},{"$f":"'Random Variance Component'!W14","v":0},{"$f":"'Random Variance Component'!X14","v":0}]
[{"$f":"'Random Variance Component'!A15","v":{"$error":"#REF!"}},{"$f":"'Random Variance Component'!B15","v":0},{"$f":"'Random Variance Component'!N15","v":0},{"$f":"'Random Variance Component'!O15","v":0},{"$f":"'Random Variance Component'!P15","v":0},{"$f":"'Random Variance Component'!Q15","v":0},{"$f":"'Random Variance Component'!R15","v":0},{"$f":"'Random Variance Component'!S15","v":0},{"$f":"'Random Variance Component'!T15","v":0},{"$f":"'Random Variance Component'!U15","v":0},{"$f":"'Random Variance Component'!V15","v":0},{"$f":"'Random Variance Component'!W15","v":0},{"$f":"'Random Variance Component'!X15","v":0}]
[{"$f":"'Random Variance Component'!A16","v":{"$error":"#REF!"}},{"$f":"'Random Variance Component'!B16","v":0},{"$f":"'Random Variance Component'!N16","v":0},{"$f":"'Random Variance Component'!O16","v":0},{"$f":"'Random Variance Component'!P16","v":0},{"$f":"'Random Variance Component'!Q16","v":0},{"$f":"'Random Variance Component'!R16","v":0},{"$f":"'Random Variance Component'!S16","v":0},{"$f":"'Random Variance Component'!T16","v":0},{"$f":"'Random Variance Component'!U16","v":0},{"$f":"'Random Variance Component'!V16","v":0},{"$f":"'Random Variance Component'!W16","v":0},{"$f":"'Random Variance Component'!X16","v":0}]
[{"$f":"'Random Variance Component'!A17","v":{"$error":"#REF!"}},{"$f":"'Random Variance Component'!B17","v":0},{"$f":"'Random Variance Component'!N17","v":0},{"$f":"'Random Variance Component'!O17","v":0},{"$f":"'Random Variance Component'!P17","v":0},{"$f":"'Random Variance Component'!Q17","v":0},{"$f":"'Random Variance Component'!R17","v":0},{"$f":"'Random Variance Component'!S17","v":0},{"$f":"'Random Variance Component'!T17","v":0},{"$f":"'Random Variance Component'!U17","v":0},{"$f":"'Random Variance Component'!V17","v":0},{"$f":"'Random Variance Component'!W17","v":0},{"$f":"'Random Variance Component'!X17","v":0}]
[{"$f":"'Random Variance Component'!A18","v":{"$error":"#REF!"}},{"$f":"'Random Variance Component'!B18","v":0},{"$f":"'Random Variance Component'!N18","v":0},{"$f":"'Random Variance Component'!O18","v":0},{"$f":"'Random Variance Component'!P18","v":0},{"$f":"'Random Variance Component'!Q18","v":0},{"$f":"'Random Variance Component'!R18","v":0},{"$f":"'Random Variance Component'!S18","v":0},{"$f":"'Random Variance Component'!T18","v":0},{"$f":"'Random Variance Component'!U18","v":0},{"$f":"'Random Variance Component'!V18","v":0},{"$f":"'Random Variance Component'!W18","v":0},{"$f":"'Random Variance Component'!X18","v":0}]
[{"$f":"'Random Variance Component'!A19","v":{"$error":"#REF!"}},{"$f":"'Random Variance Component'!B19","v":0},{"$f":"'Random Variance Component'!N19","v":0},{"$f":"'Random Variance Component'!O19","v":0},{"$f":"'Random Variance Component'!P19","v":0},{"$f":"'Random Variance Component'!Q19","v":0},{"$f":"'Random Variance Component'!R19","v":0},{"$f":"'Random Variance Component'!S19","v":0},{"$f":"'Random Variance Component'!T19","v":0},{"$f":"'Random Variance Component'!U19","v":0},{"$f":"'Random Variance Component'!V19","v":0},{"$f":"'Random Variance Component'!W19","v":0},{"$f":"'Random Variance Component'!X19","v":0}]
[{"$f":"'Random Variance Component'!A20","v":{"$error":"#REF!"}},{"$f":"'Random Variance Component'!B20","v":0},{"$f":"'Random Variance Component'!N20","v":0},{"$f":"'Random Variance Component'!O20","v":0},{"$f":"'Random Variance Component'!P20","v":0},{"$f":"'Random Variance Component'!Q20","v":0},{"$f":"'Random Variance Component'!R20","v":0},{"$f":"'Random Variance Component'!S20","v":0},{"$f":"'Random Variance Component'!T20","v":0},{"$f":"'Random Variance Component'!U20","v":0},{"$f":"'Random Variance Component'!V20","v":0},{"$f":"'Random Variance Component'!W20","v":0},{"$f":"'Random Variance Component'!X20","v":0}]
[{"$f":"'Random Variance Component'!A21","v":{"$error":"#REF!"}},{"$f":"'Random Variance Component'!B21","v":0},{"$f":"'Random Variance Component'!N21","v":0},{"$f":"'Random Variance Component'!O21","v":0},{"$f":"'Random Variance Component'!P21","v":0},{"$f":"'Random Variance Component'!Q21","v":0},{"$f":"'Random Variance Component'!R21","v":0},{"$f":"'Random Variance Component'!S21","v":0},{"$f":"'Random Variance Component'!T21","v":0},{"$f":"'Random Variance Component'!U21","v":0},{"$f":"'Random Variance Component'!V21","v":0},{"$f":"'Random Variance Component'!W21","v":0},{"$f":"'Random Variance Component'!X21","v":0}]
[{"$f":"'Random Variance Component'!A22","v":{"$error":"#REF!"}},{"$f":"'Random Variance Component'!B22","v":0},{"$f":"'Random Variance Component'!N22","v":0},{"$f":"'Random Variance Component'!O22","v":0},{"$f":"'Random Variance Component'!P22","v":0},{"$f":"'Random Variance Component'!Q22","v":0},{"$f":"'Random Variance Component'!R22","v":0},{"$f":"'Random Variance Component'!S22","v":0},{"$f":"'Random Variance Component'!T22","v":0},{"$f":"'Random Variance Component'!U22","v":0},{"$f":"'Random Variance Component'!V22","v":0},{"$f":"'Random Variance Component'!W22","v":0},{"$f":"'Random Variance Component'!X22","v":0}]
[{"$f":"'Random Variance Component'!A23","v":{"$error":"#REF!"}},{"$f":"'Random Variance Component'!B23","v":0},{"$f":"'Random Variance Component'!N23","v":0},{"$f":"'Random Variance Component'!O23","v":0},{"$f":"'Random Variance Component'!P23","v":0},{"$f":"'Random Variance Component'!Q23","v":0},{"$f":"'Random Variance Component'!R23","v":0},{"$f":"'Random Variance Component'!S23","v":0},{"$f":"'Random Variance Component'!T23","v":0},{"$f":"'Random Variance Component'!U23","v":0},{"$f":"'Random Variance Component'!V23","v":0},{"$f":"'Random Variance Component'!W23","v":0},{"$f":"'Random Variance Component'!X23","v":0}]
[{"$f":"'Random Variance Component'!A24","v":{"$error":"#REF!"}},{"$f":"'Random Variance Component'!B24","v":0},{"$f":"'Random Variance Component'!N24","v":0},{"$f":"'Random Variance Component'!O24","v":0},{"$f":"'Random Variance Component'!P24","v":0},{"$f":"'Random Variance Component'!Q24","v":0},{"$f":"'Random Variance Component'!R24","v":0},{"$f":"'Random Variance Component'!S24","v":0},{"$f":"'Random Variance Component'!T24","v":0},{"$f":"'Random Variance Component'!U24","v":0},{"$f":"'Random Variance Component'!V24","v":0},{"$f":"'Random Variance Component'!W24","v":0},{"$f":"'Random Variance Component'!X24","v":0}]
[{"$f":"'Random Variance Component'!A25","v":{"$error":"#REF!"}},{"$f":"'Random Variance Component'!B25","v":0},{"$f":"'Random Variance Component'!N25","v":0},{"$f":"'Random Variance Component'!O25","v":0},{"$f":"'Random Variance Component'!P25","v":0},{"$f":"'Random Variance Component'!Q25","v":0},{"$f":"'Random Variance Component'!R25","v":0},{"$f":"'Random Variance Component'!S25","v":0},{"$f":"'Random Variance Component'!T25","v":0},{"$f":"'Random Variance Component'!U25","v":0},{"$f":"'Random Variance Component'!V25","v":0},{"$f":"'Random Variance Component'!W25","v":0},{"$f":"'Random Variance Component'!X25","v":0}]
[{"$f":"'Random Variance Component'!A26","v":{"$error":"#REF!"}},{"$f":"'Random Variance Component'!B26","v":0},{"$f":"'Random Variance Component'!N26","v":0},{"$f":"'Random Variance Component'!O26","v":0},{"$f":"'Random Variance Component'!P26","v":0},{"$f":"'Random Variance Component'!Q26","v":0},{"$f":"'Random Variance Component'!R26","v":0},{"$f":"'Random Variance Component'!S26","v":0},{"$f":"'Random Variance Component'!T26","v":0},{"$f":"'Random Variance Component'!U26","v":0},{"$f":"'Random Variance Component'!V26","v":0},{"$f":"'Random Variance Component'!W26","v":0},{"$f":"'Random Variance Component'!X26","v":0}]
[{"$f":"'Random Variance Component'!A27","v":{"$error":"#REF!"}},{"$f":"'Random Variance Component'!B27","v":0},{"$f":"'Random Variance Component'!N27","v":0},{"$f":"'Random Variance Component'!O27","v":0},{"$f":"'Random Variance Component'!P27","v":0},{"$f":"'Random Variance Component'!Q27","v":0},{"$f":"'Random Variance Component'!R27","v":0},{"$f":"'Random Variance Component'!S27","v":0},{"$f":"'Random Variance Component'!T27","v":0},{"$f":"'Random Variance Component'!U27","v":0},{"$f":"'Random Variance Component'!V27","v":0},{"$f":"'Random Variance Component'!W27","v":0},{"$f":"'Random Variance Component'!X27","v":0}]
[{"$f":"'Random Variance Component'!A28","v":{"$error":"#REF!"}},{"$f":"'Random Variance Component'!B28","v":0},{"$f":"'Random Variance Component'!N28","v":0},{"$f":"'Random Variance Component'!O28","v":0},{"$f":"'Random Variance Component'!P28","v":0},{"$f":"'Random Variance Component'!Q28","v":0},{"$f":"'Random Variance Component'!R28","v":0},{"$f":"'Random Variance Component'!S28","v":0},{"$f":"'Random Variance Component'!T28","v":0},{"$f":"'Random Variance Component'!U28","v":0},{"$f":"'Random Variance Component'!V28","v":0},{"$f":"'Random Variance Component'!W28","v":0},{"$f":"'Random Variance Component'!X28","v":0}]
[{"$f":"'Random Variance Component'!A29","v":{"$error":"#REF!"}},{"$f":"'Random Variance Component'!B29","v":0},{"$f":"'Random Variance Component'!N29","v":0},{"$f":"'Random Variance Component'!O29","v":0},{"$f":"'Random Variance Component'!P29","v":0},{"$f":"'Random Variance Component'!Q29","v":0},{"$f":"'Random Variance Component'!R29","v":0},{"$f":"'Random Variance Component'!S29","v":0},{"$f":"'Random Variance Component'!T29","v":0},{"$f":"'Random Variance Component'!U29","v":0},{"$f":"'Random Variance Component'!V29","v":0},{"$f":"'Random Variance Component'!W29","v":0},{"$f":"'Random Variance Component'!X29","v":0}]
[{"$f":"'Random Variance Component'!A30","v":{"$error":"#REF!"}},{"$f":"'Random Variance Component'!B30","v":0},{"$f":"'Random Variance Component'!N30","v":0},{"$f":"'Random Variance Component'!O30","v":0},{"$f":"'Random Variance Component'!P30","v":0},{"$f":"'Random Variance Component'!Q30","v":0},{"$f":"'Random Variance Component'!R30","v":0},{"$f":"'Random Variance Component'!S30","v":0},{"$f":"'Random Variance Component'!T30","v":0},{"$f":"'Random Variance Component'!U30","v":0},{"$f":"'Random Variance Component'!V30","v":0},{"$f":"'Random Variance Component'!W30","v":0},{"$f":"'Random Variance Component'!X30","v":0}]
[{"$f":"'Random Variance Component'!A31","v":{"$error":"#REF!"}},{"$f":"'Random Variance Component'!B31","v":0},{"$f":"'Random Variance Component'!N31","v":0},{"$f":"'Random Variance Component'!O31","v":0},{"$f":"'Random Variance Component'!P31","v":0},{"$f":"'Random Variance Component'!Q31","v":0},{"$f":"'Random Variance Component'!R31","v":0},{"$f":"'Random Variance Component'!S31","v":0},{"$f":"'Random Variance Component'!T31","v":0},{"$f":"'Random Variance Component'!U31","v":0},{"$f":"'Random Variance Component'!V31","v":0},{"$f":"'Random Variance Component'!W31","v":0},{"$f":"'Random Variance Component'!X31","v":0}]
[{"$f":"'Random Variance Component'!A32","v":{"$error":"#REF!"}},{"$f":"'Random Variance Component'!B32","v":0},{"$f":"'Random Variance Component'!N32","v":0},{"$f":"'Random Variance Component'!O32","v":0},{"$f":"'Random Variance Component'!P32","v":0},{"$f":"'Random Variance Component'!Q32","v":0},{"$f":"'Random Variance Component'!R32","v":0},{"$f":"'Random Variance Component'!S32","v":0},{"$f":"'Random Variance Component'!T32","v":0},{"$f":"'Random Variance Component'!U32","v":0},{"$f":"'Random Variance Component'!V32","v":0},{"$f":"'Random Variance Component'!W32","v":0},{"$f":"'Random Variance Component'!X32","v":0}]
[{"$f":"'Random Variance Component'!A33","v":{"$error":"#REF!"}},{"$f":"'Random Variance Component'!B33","v":0},{"$f":"'Random Variance Component'!N33","v":0},{"$f":"'Random Variance Component'!O33","v":0},{"$f":"'Random Variance Component'!P33","v":0},{"$f":"'Random Variance Component'!Q33","v":0},{"$f":"'Random Variance Component'!R33","v":0},{"$f":"'Random Variance Component'!S33","v":0},{"$f":"'Random Variance Component'!T33","v":0},{"$f":"'Random Variance Component'!U33","v":0},{"$f":"'Random Variance Component'!V33","v":0},{"$f":"'Random Variance Component'!W33","v":0},{"$f":"'Random Variance Component'!X33","v":0}]
[{"$f":"'Random Variance Component'!A34","v":{"$error":"#REF!"}},{"$f":"'Random Variance Component'!B34","v":0},{"$f":"'Random Variance Component'!N34","v":0},{"$f":"'Random Variance Component'!O34","v":0},{"$f":"'Random Variance Component'!P34","v":0},{"$f":"'Random Variance Component'!Q34","v":0},{"$f":"'Random Variance Component'!R34","v":0},{"$f":"'Random Variance Component'!S34","v":0},{"$f":"'Random Variance Component'!T34","v":0},{"$f":"'Random Variance Component'!U34","v":0},{"$f":"'Random Variance Component'!V34","v":0},{"$f":"'Random Variance Component'!W34","v":0},{"$f":"'Random Variance Component'!X34","v":0}]
[{"$f":"'Random Variance Component'!A35","v":{"$error":"#REF!"}},{"$f":"'Random Variance Component'!B35","v":0},{"$f":"'Random Variance Component'!N35","v":0},{"$f":"'Random Variance Component'!O35","v":0},{"$f":"'Random Variance Component'!P35","v":0},{"$f":"'Random Variance Component'!Q35","v":0},{"$f":"'Random Variance Component'!R35","v":0},{"$f":"'Random Variance Component'!S35","v":0},{"$f":"'Random Variance Component'!T35","v":0},{"$f":"'Random Variance Component'!U35","v":0},{"$f":"'Random Variance Component'!V35","v":0},{"$f":"'Random Variance Component'!W35","v":0},{"$f":"'Random Variance Component'!X35","v":0}]
[{"$f":"'Random Variance Component'!A36","v":{"$error":"#REF!"}},{"$f":"'Random Variance Component'!B36","v":0},{"$f":"'Random Variance Component'!N36","v":0},{"$f":"'Random Variance Component'!O36","v":0},{"$f":"'Random Variance Component'!P36","v":0},{"$f":"'Random Variance Component'!Q36","v":0},{"$f":"'Random Variance Component'!R36","v":0},{"$f":"'Random Variance Component'!S36","v":0},{"$f":"'Random Variance Component'!T36","v":0},{"$f":"'Random Variance Component'!U36","v":0},{"$f":"'Random Variance Component'!V36","v":0},{"$f":"'Random Variance Component'!W36","v":0},{"$f":"'Random Variance Component'!X36","v":0}]
[{"$f":"'Random Variance Component'!A37","v":{"$error":"#REF!"}},{"$f":"'Random Variance Component'!B37","v":0},{"$f":"'Random Variance Component'!N37","v":0},{"$f":"'Random Variance Component'!O37","v":0},{"$f":"'Random Variance Component'!P37","v":0},{"$f":"'Random Variance Component'!Q37","v":0},{"$f":"'Random Variance Component'!R37","v":0},{"$f":"'Random Variance Component'!S37","v":0},{"$f":"'Random Variance Component'!T37","v":0},{"$f":"'Random Variance Component'!U37","v":0},{"$f":"'Random Variance Component'!V37","v":0},{"$f":"'Random Variance Component'!W37","v":0},{"$f":"'Random Variance Component'!X37","v":0}]
[{"$f":"'Random Variance Component'!A38","v":{"$error":"#REF!"}},{"$f":"'Random Variance Component'!B38","v":0},{"$f":"'Random Variance Component'!N38","v":0},{"$f":"'Random Variance Component'!O38","v":0},{"$f":"'Random Variance Component'!P38","v":0},{"$f":"'Random Variance Component'!Q38","v":0},{"$f":"'Random Variance Component'!R38","v":0},{"$f":"'Random Variance Component'!S38","v":0},{"$f":"'Random Variance Component'!T38","v":0},{"$f":"'Random Variance Component'!U38","v":0},{"$f":"'Random Variance Component'!V38","v":0},{"$f":"'Random Variance Component'!W38","v":0},{"$f":"'Random Variance Component'!X38","v":0}]
[{"$f":"'Random Variance Component'!A39","v":{"$error":"#REF!"}},{"$f":"'Random Variance Component'!B39","v":0},{"$f":"'Random Variance Component'!N39","v":0},{"$f":"'Random Variance Component'!O39","v":0},{"$f":"'Random Variance Component'!P39","v":0},{"$f":"'Random Variance Component'!Q39","v":0},{"$f":"'Random Variance Component'!R39","v":0},{"$f":"'Random Variance Component'!S39","v":0},{"$f":"'Random Variance Component'!T39","v":0},{"$f":"'Random Variance Component'!U39","v":0},{"$f":"'Random Variance Component'!V39","v":0},{"$f":"'Random Variance Component'!W39","v":0},{"$f":"'Random Variance Component'!X39","v":0}]
[{"$f":"'Random Variance Component'!A40","v":{"$error":"#REF!"}},{"$f":"'Random Variance Component'!B40","v":0},{"$f":"'Random Variance Component'!N40","v":0},{"$f":"'Random Variance Component'!O40","v":0},{"$f":"'Random Variance Component'!P40","v":0},{"$f":"'Random Variance Component'!Q40","v":0},{"$f":"'Random Variance Component'!R40","v":0},{"$f":"'Random Variance Component'!S40","v":0},{"$f":"'Random Variance Component'!T40","v":0},{"$f":"'Random Variance Component'!U40","v":0},{"$f":"'Random Variance Component'!V40","v":0},{"$f":"'Random Variance Component'!W40","v":0},{"$f":"'Random Variance Component'!X40","v":0}]
[{"$f":"'Random Variance Component'!A41","v":{"$error":"#REF!"}},{"$f":"'Random Variance Component'!B41","v":0},{"$f":"'Random Variance Component'!N41","v":0},{"$f":"'Random Variance Component'!O41","v":0},{"$f":"'Random Variance Component'!P41","v":0},{"$f":"'Random Variance Component'!Q41","v":0},{"$f":"'Random Variance Component'!R41","v":0},{"$f":"'Random Variance Component'!S41","v":0},{"$f":"'Random Variance Component'!T41","v":0},{"$f":"'Random Variance Component'!U41","v":0},{"$f":"'Random Variance Component'!V41","v":0},{"$f":"'Random Variance Component'!W41","v":0},{"$f":"'Random Variance Component'!X41","v":0}]
[{"$f":"'Random Variance Component'!A42","v":{"$error":"#REF!"}},{"$f":"'Random Variance Component'!B42","v":0},{"$f":"'Random Variance Component'!N42","v":0},{"$f":"'Random Variance Component'!O42","v":0},{"$f":"'Random Variance Component'!P42","v":0},{"$f":"'Random Variance Component'!Q42","v":0},{"$f":"'Random Variance Component'!R42","v":0},{"$f":"'Random Variance Component'!S42","v":0},{"$f":"'Random Variance Component'!T42","v":0},{"$f":"'Random Variance Component'!U42","v":0},{"$f":"'Random Variance Component'!V42","v":0},{"$f":"'Random Variance Component'!W42","v":0},{"$f":"'Random Variance Component'!X42","v":0}]
[{"$f":"'Random Variance Component'!A43","v":{"$error":"#REF!"}},{"$f":"'Random Variance Component'!B43","v":0},{"$f":"'Random Variance Component'!N43","v":0},{"$f":"'Random Variance Component'!O43","v":0},{"$f":"'Random Variance Component'!P43","v":0},{"$f":"'Random Variance Component'!Q43","v":0},{"$f":"'Random Variance Component'!R43","v":0},{"$f":"'Random Variance Component'!S43","v":0},{"$f":"'Random Variance Component'!T43","v":0},{"$f":"'Random Variance Component'!U43","v":0},{"$f":"'Random Variance Component'!V43","v":0},{"$f":"'Random Variance Component'!W43","v":0},{"$f":"'Random Variance Component'!X43","v":0}]
[{"$f":"'Random Variance Component'!A44","v":{"$error":"#REF!"}},{"$f":"'Random Variance Component'!B44","v":0},{"$f":"'Random Variance Component'!N44","v":0},{"$f":"'Random Variance Component'!O44","v":0},{"$f":"'Random Variance Component'!P44","v":0},{"$f":"'Random Variance Component'!Q44","v":0},{"$f":"'Random Variance Component'!R44","v":0},{"$f":"'Random Variance Component'!S44","v":0},{"$f":"'Random Variance Component'!T44","v":0},{"$f":"'Random Variance Component'!U44","v":0},{"$f":"'Random Variance Component'!V44","v":0},{"$f":"'Random Variance Component'!W44","v":0},{"$f":"'Random Variance Component'!X44","v":0}]
[{"$f":"'Random Variance Component'!A45","v":{"$error":"#REF!"}},{"$f":"'Random Variance Component'!B45","v":0},{"$f":"'Random Variance Component'!N45","v":0},{"$f":"'Random Variance Component'!O45","v":0},{"$f":"'Random Variance Component'!P45","v":0},{"$f":"'Random Variance Component'!Q45","v":0},{"$f":"'Random Variance Component'!R45","v":0},{"$f":"'Random Variance Component'!S45","v":0},{"$f":"'Random Variance Component'!T45","v":0},{"$f":"'Random Variance Component'!U45","v":0},{"$f":"'Random Variance Component'!V45","v":0},{"$f":"'Random Variance Component'!W45","v":0},{"$f":"'Random Variance Component'!X45","v":0}]
[{"$f":"'Random Variance Component'!A46","v":{"$error":"#REF!"}},{"$f":"'Random Variance Component'!B46","v":0},{"$f":"'Random Variance Component'!N46","v":0},{"$f":"'Random Variance Component'!O46","v":0},{"$f":"'Random Variance Component'!P46","v":0},{"$f":"'Random Variance Component'!Q46","v":0},{"$f":"'Random Variance Component'!R46","v":0},{"$f":"'Random Variance Component'!S46","v":0},{"$f":"'Random Variance Component'!T46","v":0},{"$f":"'Random Variance Component'!U46","v":0},{"$f":"'Random Variance Component'!V46","v":0},{"$f":"'Random Variance Component'!W46","v":0},{"$f":"'Random Variance Component'!X46","v":0}]
[{"$f":"'Random Variance Component'!A47","v":{"$error":"#REF!"}},{"$f":"'Random Variance Component'!B47","v":0},{"$f":"'Random Variance Component'!N47","v":0},{"$f":"'Random Variance Component'!O47","v":0},{"$f":"'Random Variance Component'!P47","v":0},{"$f":"'Random Variance Component'!Q47","v":0},{"$f":"'Random Variance Component'!R47","v":0},{"$f":"'Random Variance Component'!S47","v":0},{"$f":"'Random Variance Component'!T47","v":0},{"$f":"'Random Variance Component'!U47","v":0},{"$f":"'Random Variance Component'!V47","v":0},{"$f":"'Random Variance Component'!W47","v":0},{"$f":"'Random Variance Component'!X47","v":0}]
[{"$f":"'Random Variance Component'!A48","v":{"$error":"#REF!"}},{"$f":"'Random Variance Component'!B48","v":0},{"$f":"'Random Variance Component'!N48","v":0},{"$f":"'Random Variance Component'!O48","v":0},{"$f":"'Random Variance Component'!P48","v":0},{"$f":"'Random Variance Component'!Q48","v":0},{"$f":"'Random Variance Component'!R48","v":0},{"$f":"'Random Variance Component'!S48","v":0},{"$f":"'Random Variance Component'!T48","v":0},{"$f":"'Random Variance Component'!U48","v":0},{"$f":"'Random Variance Component'!V48","v":0},{"$f":"'Random Variance Component'!W48","v":0},{"$f":"'Random Variance Component'!X48","v":0}]
[{"$f":"'Random Variance Component'!A49","v":{"$error":"#REF!"}},{"$f":"'Random Variance Component'!B49","v":0},{"$f":"'Random Variance Component'!N49","v":0},{"$f":"'Random Variance Component'!O49","v":0},{"$f":"'Random Variance Component'!P49","v":0},{"$f":"'Random Variance Component'!Q49","v":0},{"$f":"'Random Variance Component'!R49","v":0},{"$f":"'Random Variance Component'!S49","v":0},{"$f":"'Random Variance Component'!T49","v":0},{"$f":"'Random Variance Component'!U49","v":0},{"$f":"'Random Variance Component'!V49","v":0},{"$f":"'Random Variance Component'!W49","v":0},{"$f":"'Random Variance Component'!X49","v":0}]
[{"$f":"'Random Variance Component'!A50","v":{"$error":"#REF!"}},{"$f":"'Random Variance Component'!B50","v":0},{"$f":"'Random Variance Component'!N50","v":0},{"$f":"'Random Variance Component'!O50","v":0},{"$f":"'Random Variance Component'!P50","v":0},{"$f":"'Random Variance Component'!Q50","v":0},{"$f":"'Random Variance Component'!R50","v":0},{"$f":"'Random Variance Component'!S50","v":0},{"$f":"'Random Variance Component'!T50","v":0},{"$f":"'Random Variance Component'!U50","v":0},{"$f":"'Random Variance Component'!V50","v":0},{"$f":"'Random Variance Component'!W50","v":0},{"$f":"'Random Variance Component'!X50","v":0}]
[{"$f":"'Random Variance Component'!A51","v":{"$error":"#REF!"}},{"$f":"'Random Variance Component'!B51","v":0},{"$f":"'Random Variance Component'!N51","v":0},{"$f":"'Random Variance Component'!O51","v":0},{"$f":"'Random Variance Component'!P51","v":0},{"$f":"'Random Variance Component'!Q51","v":0},{"$f":"'Random Variance Component'!R51","v":0},{"$f":"'Random Variance Component'!S51","v":0},{"$f":"'Random Variance Component'!T51","v":0},{"$f":"'Random Variance Component'!U51","v":0},{"$f":"'Random Variance Component'!V51","v":0},{"$f":"'Random Variance Component'!W51","v":0},{"$f":"'Random Variance Component'!X51","v":0}]
[{"$f":"'Random Variance Component'!A52","v":{"$error":"#REF!"}},{"$f":"'Random Variance Component'!B52","v":0},{"$f":"'Random Variance Component'!N52","v":0},{"$f":"'Random Variance Component'!O52","v":0},{"$f":"'Random Variance Component'!P52","v":0},{"$f":"'Random Variance Component'!Q52","v":0},{"$f":"'Random Variance Component'!R52","v":0},{"$f":"'Random Variance Component'!S52","v":0},{"$f":"'Random Variance Component'!T52","v":0},{"$f":"'Random Variance Component'!U52","v":0},{"$f":"'Random Variance Component'!V52","v":0},{"$f":"'Random Variance Component'!W52","v":0},{"$f":"'Random Variance Component'!X52","v":0}]
[{"$f":"'Random Variance Component'!A53","v":{"$error":"#REF!"}},{"$f":"'Random Variance Component'!B53","v":0},{"$f":"'Random Variance Component'!N53","v":0},{"$f":"'Random Variance Component'!O53","v":0},{"$f":"'Random Variance Component'!P53","v":0},{"$f":"'Random Variance Component'!Q53","v":0},{"$f":"'Random Variance Component'!R53","v":0},{"$f":"'Random Variance Component'!S53","v":0},{"$f":"'Random Variance Component'!T53","v":0},{"$f":"'Random Variance Component'!U53","v":0},{"$f":"'Random Variance Component'!V53","v":0},{"$f":"'Random Variance Component'!W53","v":0},{"$f":"'Random Variance Component'!X53","v":0}]
[{"$f":"'Random Variance Component'!A54","v":{"$error":"#REF!"}},{"$f":"'Random Variance Component'!B54","v":0},{"$f":"'Random Variance Component'!N54","v":0},{"$f":"'Random Variance Component'!O54","v":0},{"$f":"'Random Variance Component'!P54","v":0},{"$f":"'Random Variance Component'!Q54","v":0},{"$f":"'Random Variance Component'!R54","v":0},{"$f":"'Random Variance Component'!S54","v":0},{"$f":"'Random Variance Component'!T54","v":0},{"$f":"'Random Variance Component'!U54","v":0},{"$f":"'Random Variance Component'!V54","v":0},{"$f":"'Random Variance Component'!W54","v":0},{"$f":"'Random Variance Component'!X54","v":0}]
[{"$f":"'Random Variance Component'!A55","v":{"$error":"#REF!"}},{"$f":"'Random Variance Component'!B55","v":0},{"$f":"'Random Variance Component'!N55","v":0},{"$f":"'Random Variance Component'!O55","v":0},{"$f":"'Random Variance Component'!P55","v":0},{"$f":"'Random Variance Component'!Q55","v":0},{"$f":"'Random Variance Component'!R55","v":0},{"$f":"'Random Variance Component'!S55","v":0},{"$f":"'Random Variance Component'!T55","v":0},{"$f":"'Random Variance Component'!U55","v":0},{"$f":"'Random Variance Component'!V55","v":0},{"$f":"'Random Variance Component'!W55","v":0},{"$f":"'Random Variance Component'!X55","v":0}]
[{"$f":"'Random Variance Component'!A56","v":{"$error":"#REF!"}},{"$f":"'Random Variance Component'!B56","v":0},{"$f":"'Random Variance Component'!N56","v":0},{"$f":"'Random Variance Component'!O56","v":0},{"$f":"'Random Variance Component'!P56","v":0},{"$f":"'Random Variance Component'!Q56","v":0},{"$f":"'Random Variance Component'!R56","v":0},{"$f":"'Random Variance Component'!S56","v":0},{"$f":"'Random Variance Component'!T56","v":0},{"$f":"'Random Variance Component'!U56","v":0},{"$f":"'Random Variance Component'!V56","v":0},{"$f":"'Random Variance Component'!W56","v":0},{"$f":"'Random Variance Component'!X56","v":0}]
[{"$f":"'Random Variance Component'!A57","v":{"$error":"#REF!"}},{"$f":"'Random Variance Component'!B57","v":0},{"$f":"'Random Variance Component'!N57","v":0},{"$f":"'Random Variance Component'!O57","v":0},{"$f":"'Random Variance Component'!P57","v":0},{"$f":"'Random Variance Component'!Q57","v":0},{"$f":"'Random Variance Component'!R57","v":0},{"$f":"'Random Variance Component'!S57","v":0},{"$f":"'Random Variance Component'!T57","v":0},{"$f":"'Random Variance Component'!U57","v":0},{"$f":"'Random Variance Component'!V57","v":0},{"$f":"'Random Variance Component'!W57","v":0},{"$f":"'Random Variance Component'!X57","v":0}]
[{"$f":"'Random Variance Component'!A58","v":{"$error":"#REF!"}},{"$f":"'Random Variance Component'!B58","v":0},{"$f":"'Random Variance Component'!N58","v":0},{"$f":"'Random Variance Component'!O58","v":0},{"$f":"'Random Variance Component'!P58","v":0},{"$f":"'Random Variance Component'!Q58","v":0},{"$f":"'Random Variance Component'!R58","v":0},{"$f":"'Random Variance Component'!S58","v":0},{"$f":"'Random Variance Component'!T58","v":0},{"$f":"'Random Variance Component'!U58","v":0},{"$f":"'Random Variance Component'!V58","v":0},{"$f":"'Random Variance Component'!W58","v":0},{"$f":"'Random Variance Component'!X58","v":0}]
[{"$f":"'Random Variance Component'!A59","v":{"$error":"#REF!"}},{"$f":"'Random Variance Component'!B59","v":0},{"$f":"'Random Variance Component'!N59","v":0},{"$f":"'Random Variance Component'!O59","v":0},{"$f":"'Random Variance Component'!P59","v":0},{"$f":"'Random Variance Component'!Q59","v":0},{"$f":"'Random Variance Component'!R59","v":0},{"$f":"'Random Variance Component'!S59","v":0},{"$f":"'Random Variance Component'!T59","v":0},{"$f":"'Random Variance Component'!U59","v":0},{"$f":"'Random Variance Component'!V59","v":0},{"$f":"'Random Variance Component'!W59","v":0},{"$f":"'Random Variance Component'!X59","v":0}]
[{"$f":"'Random Variance Component'!A60","v":{"$error":"#REF!"}},{"$f":"'Random Variance Component'!B60","v":0},{"$f":"'Random Variance Component'!N60","v":0},{"$f":"'Random Variance Component'!O60","v":0},{"$f":"'Random Variance Component'!P60","v":0},{"$f":"'Random Variance Component'!Q60","v":0},{"$f":"'Random Variance Component'!R60","v":0},{"$f":"'Random Variance Component'!S60","v":0},{"$f":"'Random Variance Component'!T60","v":0},{"$f":"'Random Variance Component'!U60","v":0},{"$f":"'Random Variance Component'!V60","v":0},{"$f":"'Random Variance Component'!W60","v":0},{"$f":"'Random Variance Component'!X60","v":0}]
[{"$f":"'Random Variance Component'!A61","v":{"$error":"#REF!"}},{"$f":"'Random Variance Component'!B61","v":0},{"$f":"'Random Variance Component'!N61","v":0},{"$f":"'Random Variance Component'!O61","v":0},{"$f":"'Random Variance Component'!P61","v":0},{"$f":"'Random Variance Component'!Q61","v":0},{"$f":"'Random Variance Component'!R61","v":0},{"$f":"'Random Variance Component'!S61","v":0},{"$f":"'Random Variance Component'!T61","v":0},{"$f":"'Random Variance Component'!U61","v":0},{"$f":"'Random Variance Component'!V61","v":0},{"$f":"'Random Variance Component'!W61","v":0},{"$f":"'Random Variance Component'!X61","v":0}]
[{"$f":"'Random Variance Component'!A62","v":{"$error":"#REF!"}},{"$f":"'Random Variance Component'!B62","v":0},{"$f":"'Random Variance Component'!N62","v":0},{"$f":"'Random Variance Component'!O62","v":0},{"$f":"'Random Variance Component'!P62","v":0},{"$f":"'Random Variance Component'!Q62","v":0},{"$f":"'Random Variance Component'!R62","v":0},{"$f":"'Random Variance Component'!S62","v":0},{"$f":"'Random Variance Component'!T62","v":0},{"$f":"'Random Variance Component'!U62","v":0},{"$f":"'Random Variance Component'!V62","v":0},{"$f":"'Random Variance Component'!W62","v":0},{"$f":"'Random Variance Component'!X62","v":0}]
[{"$f":"'Random Variance Component'!A63","v":{"$error":"#REF!"}},{"$f":"'Random Variance Component'!B63","v":0},{"$f":"'Random Variance Component'!N63","v":0},{"$f":"'Random Variance Component'!O63","v":0},{"$f":"'Random Variance Component'!P63","v":0},{"$f":"'Random Variance Component'!Q63","v":0},{"$f":"'Random Variance Component'!R63","v":0},{"$f":"'Random Variance Component'!S63","v":0},{"$f":"'Random Variance Component'!T63","v":0},{"$f":"'Random Variance Component'!U63","v":0},{"$f":"'Random Variance Component'!V63","v":0},{"$f":"'Random Variance Component'!W63","v":0},{"$f":"'Random Variance Component'!X63","v":0}]
[{"$f":"'Random Variance Component'!A64","v":{"$error":"#REF!"}},{"$f":"'Random Variance Component'!B64","v":0},{"$f":"'Random Variance Component'!N64","v":0},{"$f":"'Random Variance Component'!O64","v":0},{"$f":"'Random Variance Component'!P64","v":0},{"$f":"'Random Variance Component'!Q64","v":0},{"$f":"'Random Variance Component'!R64","v":0},{"$f":"'Random Variance Component'!S64","v":0},{"$f":"'Random Variance Component'!T64","v":0},{"$f":"'Random Variance Component'!U64","v":0},{"$f":"'Random Variance Component'!V64","v":0},{"$f":"'Random Variance Component'!W64","v":0},{"$f":"'Random Variance Component'!X64","v":0}]
[{"$f":"'Random Variance Component'!A65","v":{"$error":"#REF!"}},{"$f":"'Random Variance Component'!B65","v":0},{"$f":"'Random Variance Component'!N65","v":0},{"$f":"'Random Variance Component'!O65","v":0},{"$f":"'Random Variance Component'!P65","v":0},{"$f":"'Random Variance Component'!Q65","v":0},{"$f":"'Random Variance Component'!R65","v":0},{"$f":"'Random Variance Component'!S65","v":0},{"$f":"'Random Variance Component'!T65","v":0},{"$f":"'Random Variance Component'!U65","v":0},{"$f":"'Random Variance Component'!V65","v":0},{"$f":"'Random Variance Component'!W65","v":0},{"$f":"'Random Variance Component'!X65","v":0}]
[{"$f":"'Random Variance Component'!A66","v":{"$error":"#REF!"}},{"$f":"'Random Variance Component'!B66","v":0},{"$f":"'Random Variance Component'!N66","v":0},{"$f":"'Random Variance Component'!O66","v":0},{"$f":"'Random Variance Component'!P66","v":0},{"$f":"'Random Variance Component'!Q66","v":0},{"$f":"'Random Variance Component'!R66","v":0},{"$f":"'Random Variance Component'!S66","v":0},{"$f":"'Random Variance Component'!T66","v":0},{"$f":"'Random Variance Component'!U66","v":0},{"$f":"'Random Variance Component'!V66","v":0},{"$f":"'Random Variance Component'!W66","v":0},{"$f":"'Random Variance Component'!X66","v":0}]
[{"$f":"'Random Variance Component'!A67","v":{"$error":"#REF!"}},{"$f":"'Random Variance Component'!B67","v":0},{"$f":"'Random Variance Component'!N67","v":0},{"$f":"'Random Variance Component'!O67","v":0},{"$f":"'Random Variance Component'!P67","v":0},{"$f":"'Random Variance Component'!Q67","v":0},{"$f":"'Random Variance Component'!R67","v":0},{"$f":"'Random Variance Component'!S67","v":0},{"$f":"'Random Variance Component'!T67","v":0},{"$f":"'Random Variance Component'!U67","v":0},{"$f":"'Random Variance Component'!V67","v":0},{"$f":"'Random Variance Component'!W67","v":0},{"$f":"'Random Variance Component'!X67","v":0}]
[{"$f":"'Random Variance Component'!A68","v":{"$error":"#REF!"}},{"$f":"'Random Variance Component'!B68","v":0},{"$f":"'Random Variance Component'!N68","v":0},{"$f":"'Random Variance Component'!O68","v":0},{"$f":"'Random Variance Component'!P68","v":0},{"$f":"'Random Variance Component'!Q68","v":0},{"$f":"'Random Variance Component'!R68","v":0},{"$f":"'Random Variance Component'!S68","v":0},{"$f":"'Random Variance Component'!T68","v":0},{"$f":"'Random Variance Component'!U68","v":0},{"$f":"'Random Variance Component'!V68","v":0},{"$f":"'Random Variance Component'!W68","v":0},{"$f":"'Random Variance Component'!X68","v":0}]
[{"$f":"'Random Variance Component'!A69","v":{"$error":"#REF!"}},{"$f":"'Random Variance Component'!B69","v":0},{"$f":"'Random Variance Component'!N69","v":0},{"$f":"'Random Variance Component'!O69","v":0},{"$f":"'Random Variance Component'!P69","v":0},{"$f":"'Random Variance Component'!Q69","v":0},{"$f":"'Random Variance Component'!R69","v":0},{"$f":"'Random Variance Component'!S69","v":0},{"$f":"'Random Variance Component'!T69","v":0},{"$f":"'Random Variance Component'!U69","v":0},{"$f":"'Random Variance Component'!V69","v":0},{"$f":"'Random Variance Component'!W69","v":0},{"$f":"'Random Variance Component'!X69","v":0}]
[{"$f":"'Random Variance Component'!A70","v":{"$error":"#REF!"}},{"$f":"'Random Variance Component'!B70","v":0},{"$f":"'Random Variance Component'!N70","v":0},{"$f":"'Random Variance Component'!O70","v":0},{"$f":"'Random Variance Component'!P70","v":0},{"$f":"'Random Variance Component'!Q70","v":0},{"$f":"'Random Variance Component'!R70","v":0},{"$f":"'Random Variance Component'!S70","v":0},{"$f":"'Random Variance Component'!T70","v":0},{"$f":"'Random Variance Component'!U70","v":0},{"$f":"'Random Variance Component'!V70","v":0},{"$f":"'Random Variance Component'!W70","v":0},{"$f":"'Random Variance Component'!X70","v":0}]
[{"$f":"'Random Variance Component'!A71","v":{"$error":"#REF!"}},{"$f":"'Random Variance Component'!B71","v":0},{"$f":"'Random Variance Component'!N71","v":0},{"$f":"'Random Variance Component'!O71","v":0},{"$f":"'Random Variance Component'!P71","v":0},{"$f":"'Random Variance Component'!Q71","v":0},{"$f":"'Random Variance Component'!R71","v":0},{"$f":"'Random Variance Component'!S71","v":0},{"$f":"'Random Variance Component'!T71","v":0},{"$f":"'Random Variance Component'!U71","v":0},{"$f":"'Random Variance Component'!V71","v":0},{"$f":"'Random Variance Component'!W71","v":0},{"$f":"'Random Variance Component'!X71","v":0}]
[{"$f":"'Random Variance Component'!A72","v":{"$error":"#REF!"}},{"$f":"'Random Variance Component'!B72","v":0},{"$f":"'Random Variance Component'!N72","v":0},{"$f":"'Random Variance Component'!O72","v":0},{"$f":"'Random Variance Component'!P72","v":0},{"$f":"'Random Variance Component'!Q72","v":0},{"$f":"'Random Variance Component'!R72","v":0},{"$f":"'Random Variance Component'!S72","v":0},{"$f":"'Random Variance Component'!T72","v":0},{"$f":"'Random Variance Component'!U72","v":0},{"$f":"'Random Variance Component'!V72","v":0},{"$f":"'Random Variance Component'!W72","v":0},{"$f":"'Random Variance Component'!X72","v":0}]
[{"$f":"'Random Variance Component'!A73","v":{"$error":"#REF!"}},{"$f":"'Random Variance Component'!B73","v":0},{"$f":"'Random Variance Component'!N73","v":0},{"$f":"'Random Variance Component'!O73","v":0},{"$f":"'Random Variance Component'!P73","v":0},{"$f":"'Random Variance Component'!Q73","v":0},{"$f":"'Random Variance Component'!R73","v":0},{"$f":"'Random Variance Component'!S73","v":0},{"$f":"'Random Variance Component'!T73","v":0},{"$f":"'Random Variance Component'!U73","v":0},{"$f":"'Random Variance Component'!V73","v":0},{"$f":"'Random Variance Component'!W73","v":0},{"$f":"'Random Variance Component'!X73","v":0}]
[{"$f":"'Random Variance Component'!A74","v":{"$error":"#REF!"}},{"$f":"'Random Variance Component'!B74","v":0},{"$f":"'Random Variance Component'!N74","v":0},{"$f":"'Random Variance Component'!O74","v":0},{"$f":"'Random Variance Component'!P74","v":0},{"$f":"'Random Variance Component'!Q74","v":0},{"$f":"'Random Variance Component'!R74","v":0},{"$f":"'Random Variance Component'!S74","v":0},{"$f":"'Random Variance Component'!T74","v":0},{"$f":"'Random Variance Component'!U74","v":0},{"$f":"'Random Variance Component'!V74","v":0},{"$f":"'Random Variance Component'!W74","v":0},{"$f":"'Random Variance Component'!X74","v":0}]
[{"$f":"'Random Variance Component'!A75","v":{"$error":"#REF!"}},{"$f":"'Random Variance Component'!B75","v":0},{"$f":"'Random Variance Component'!N75","v":0},{"$f":"'Random Variance Component'!O75","v":0},{"$f":"'Random Variance Component'!P75","v":0},{"$f":"'Random Variance Component'!Q75","v":0},{"$f":"'Random Variance Component'!R75","v":0},{"$f":"'Random Variance Component'!S75","v":0},{"$f":"'Random Variance Component'!T75","v":0},{"$f":"'Random Variance Component'!U75","v":0},{"$f":"'Random Variance Component'!V75","v":0},{"$f":"'Random Variance Component'!W75","v":0},{"$f":"'Random Variance Component'!X75","v":0}]
[{"$f":"'Random Variance Component'!A76","v":{"$error":"#REF!"}},{"$f":"'Random Variance Component'!B76","v":0},{"$f":"'Random Variance Component'!N76","v":0},{"$f":"'Random Variance Component'!O76","v":0},{"$f":"'Random Variance Component'!P76","v":0},{"$f":"'Random Variance Component'!Q76","v":0},{"$f":"'Random Variance Component'!R76","v":0},{"$f":"'Random Variance Component'!S76","v":0},{"$f":"'Random Variance Component'!T76","v":0},{"$f":"'Random Variance Component'!U76","v":0},{"$f":"'Random Variance Component'!V76","v":0},{"$f":"'Random Variance Component'!W76","v":0},{"$f":"'Random Variance Component'!X76","v":0}]
[{"$f":"'Random Variance Component'!A77","v":{"$error":"#REF!"}},{"$f":"'Random Variance Component'!B77","v":0},{"$f":"'Random Variance Component'!N77","v":0},{"$f":"'Random Variance Component'!O77","v":0},{"$f":"'Random Variance Component'!P77","v":0},{"$f":"'Random Variance Component'!Q77","v":0},{"$f":"'Random Variance Component'!R77","v":0},{"$f":"'Random Variance Component'!S77","v":0},{"$f":"'Random Variance Component'!T77","v":0},{"$f":"'Random Variance Component'!U77","v":0},{"$f":"'Random Variance Component'!V77","v":0},{"$f":"'Random Variance Component'!W77","v":0},{"$f":"'Random Variance Component'!X77","v":0}]
[{"$f":"'Random Variance Component'!A78","v":{"$error":"#REF!"}},{"$f":"'Random Variance Component'!B78","v":0},{"$f":"'Random Variance Component'!N78","v":0},{"$f":"'Random Variance Component'!O78","v":0},{"$f":"'Random Variance Component'!P78","v":0},{"$f":"'Random Variance Component'!Q78","v":0},{"$f":"'Random Variance Component'!R78","v":0},{"$f":"'Random Variance Component'!S78","v":0},{"$f":"'Random Variance Component'!T78","v":0},{"$f":"'Random Variance Component'!U78","v":0},{"$f":"'Random Variance Component'!V78","v":0},{"$f":"'Random Variance Component'!W78","v":0},{"$f":"'Random Variance Component'!X78","v":0}]
[{"$f":"'Random Variance Component'!A79","v":{"$error":"#REF!"}},{"$f":"'Random Variance Component'!B79","v":0},{"$f":"'Random Variance Component'!N79","v":0},{"$f":"'Random Variance Component'!O79","v":0},{"$f":"'Random Variance Component'!P79","v":0},{"$f":"'Random Variance Component'!Q79","v":0},{"$f":"'Random Variance Component'!R79","v":0},{"$f":"'Random Variance Component'!S79","v":0},{"$f":"'Random Variance Component'!T79","v":0},{"$f":"'Random Variance Component'!U79","v":0},{"$f":"'Random Variance Component'!V79","v":0},{"$f":"'Random Variance Component'!W79","v":0},{"$f":"'Random Variance Component'!X79","v":0}]
[{"$f":"'Random Variance Component'!A80","v":{"$error":"#REF!"}},{"$f":"'Random Variance Component'!B80","v":0},{"$f":"'Random Variance Component'!N80","v":0},{"$f":"'Random Variance Component'!O80","v":0},{"$f":"'Random Variance Component'!P80","v":0},{"$f":"'Random Variance Component'!Q80","v":0},{"$f":"'Random Variance Component'!R80","v":0},{"$f":"'Random Variance Component'!S80","v":0},{"$f":"'Random Variance Component'!T80","v":0},{"$f":"'Random Variance Component'!U80","v":0},{"$f":"'Random Variance Component'!V80","v":0},{"$f":"'Random Variance Component'!W80","v":0},{"$f":"'Random Variance Component'!X80","v":0}]
[{"$f":"'Random Variance Component'!A81","v":{"$error":"#REF!"}},{"$f":"'Random Variance Component'!B81","v":0},{"$f":"'Random Variance Component'!N81","v":0},{"$f":"'Random Variance Component'!O81","v":0},{"$f":"'Random Variance Component'!P81","v":0},{"$f":"'Random Variance Component'!Q81","v":0},{"$f":"'Random Variance Component'!R81","v":0},{"$f":"'Random Variance Component'!S81","v":0},{"$f":"'Random Variance Component'!T81","v":0},{"$f":"'Random Variance Component'!U81","v":0},{"$f":"'Random Variance Component'!V81","v":0},{"$f":"'Random Variance Component'!W81","v":0},{"$f":"'Random Variance Component'!X81","v":0}]
[{"$f":"'Random Variance Component'!A82","v":{"$error":"#REF!"}},{"$f":"'Random Variance Component'!B82","v":0},{"$f":"'Random Variance Component'!N82","v":0},{"$f":"'Random Variance Component'!O82","v":0},{"$f":"'Random Variance Component'!P82","v":0},{"$f":"'Random Variance Component'!Q82","v":0},{"$f":"'Random Variance Component'!R82","v":0},{"$f":"'Random Variance Component'!S82","v":0},{"$f":"'Random Variance Component'!T82","v":0},{"$f":"'Random Variance Component'!U82","v":0},{"$f":"'Random Variance Component'!V82","v":0},{"$f":"'Random Variance Component'!W82","v":0},{"$f":"'Random Variance Component'!X82","v":0}]
[{"$f":"'Random Variance Component'!A83","v":{"$error":"#REF!"}},{"$f":"'Random Variance Component'!B83","v":0},{"$f":"'Random Variance Component'!N83","v":0},{"$f":"'Random Variance Component'!O83","v":0},{"$f":"'Random Variance Component'!P83","v":0},{"$f":"'Random Variance Component'!Q83","v":0},{"$f":"'Random Variance Component'!R83","v":0},{"$f":"'Random Variance Component'!S83","v":0},{"$f":"'Random Variance Component'!T83","v":0},{"$f":"'Random Variance Component'!U83","v":0},{"$f":"'Random Variance Component'!V83","v":0},{"$f":"'Random Variance Component'!W83","v":0},{"$f":"'Random Variance Component'!X83","v":0}]
[{"$f":"'Random Variance Component'!A84","v":{"$error":"#REF!"}},{"$f":"'Random Variance Component'!B84","v":0},{"$f":"'Random Variance Component'!N84","v":0},{"$f":"'Random Variance Component'!O84","v":0},{"$f":"'Random Variance Component'!P84","v":0},{"$f":"'Random Variance Component'!Q84","v":0},{"$f":"'Random Variance Component'!R84","v":0},{"$f":"'Random Variance Component'!S84","v":0},{"$f":"'Random Variance Component'!T84","v":0},{"$f":"'Random Variance Component'!U84","v":0},{"$f":"'Random Variance Component'!V84","v":0},{"$f":"'Random Variance Component'!W84","v":0},{"$f":"'Random Variance Component'!X84","v":0}]
[{"$f":"'Random Variance Component'!A85","v":{"$error":"#REF!"}},{"$f":"'Random Variance Component'!B85","v":0},{"$f":"'Random Variance Component'!N85","v":0},{"$f":"'Random Variance Component'!O85","v":0},{"$f":"'Random Variance Component'!P85","v":0},{"$f":"'Random Variance Component'!Q85","v":0},{"$f":"'Random Variance Component'!R85","v":0},{"$f":"'Random Variance Component'!S85","v":0},{"$f":"'Random Variance Component'!T85","v":0},{"$f":"'Random Variance Component'!U85","v":0},{"$f":"'Random Variance Component'!V85","v":0},{"$f":"'Random Variance Component'!W85","v":0},{"$f":"'Random Variance Component'!X85","v":0}]
[{"$f":"'Random Variance Component'!A86","v":{"$error":"#REF!"}},{"$f":"'Random Variance Component'!B86","v":0},{"$f":"'Random Variance Component'!N86","v":0},{"$f":"'Random Variance Component'!O86","v":0},{"$f":"'Random Variance Component'!P86","v":0},{"$f":"'Random Variance Component'!Q86","v":0},{"$f":"'Random Variance Component'!R86","v":0},{"$f":"'Random Variance Component'!S86","v":0},{"$f":"'Random Variance Component'!T86","v":0},{"$f":"'Random Variance Component'!U86","v":0},{"$f":"'Random Variance Component'!V86","v":0},{"$f":"'Random Variance Component'!W86","v":0},{"$f":"'Random Variance Component'!X86","v":0}]
[{"$f":"'Random Variance Component'!A87","v":{"$error":"#REF!"}},{"$f":"'Random Variance Component'!B87","v":0},{"$f":"'Random Variance Component'!N87","v":0},{"$f":"'Random Variance Component'!O87","v":0},{"$f":"'Random Variance Component'!P87","v":0},{"$f":"'Random Variance Component'!Q87","v":0},{"$f":"'Random Variance Component'!R87","v":0},{"$f":"'Random Variance Component'!S87","v":0},{"$f":"'Random Variance Component'!T87","v":0},{"$f":"'Random Variance Component'!U87","v":0},{"$f":"'Random Variance Component'!V87","v":0},{"$f":"'Random Variance Component'!W87","v":0},{"$f":"'Random Variance Component'!X87","v":0}]
[{"$f":"'Random Variance Component'!A88","v":{"$error":"#REF!"}},{"$f":"'Random Variance Component'!B88","v":0},{"$f":"'Random Variance Component'!N88","v":0},{"$f":"'Random Variance Component'!O88","v":0},{"$f":"'Random Variance Component'!P88","v":0},{"$f":"'Random Variance Component'!Q88","v":0},{"$f":"'Random Variance Component'!R88","v":0},{"$f":"'Random Variance Component'!S88","v":0},{"$f":"'Random Variance Component'!T88","v":0},{"$f":"'Random Variance Component'!U88","v":0},{"$f":"'Random Variance Component'!V88","v":0},{"$f":"'Random Variance Component'!W88","v":0},{"$f":"'Random Variance Component'!X88","v":0}]
[{"$f":"'Random Variance Component'!A89","v":{"$error":"#REF!"}},{"$f":"'Random Variance Component'!B89","v":0},{"$f":"'Random Variance Component'!N89","v":0},{"$f":"'Random Variance Component'!O89","v":0},{"$f":"'Random Variance Component'!P89","v":0},{"$f":"'Random Variance Component'!Q89","v":0},{"$f":"'Random Variance Component'!R89","v":0},{"$f":"'Random Variance Component'!S89","v":0},{"$f":"'Random Variance Component'!T89","v":0},{"$f":"'Random Variance Component'!U89","v":0},{"$f":"'Random Variance Component'!V89","v":0},{"$f":"'Random Variance Component'!W89","v":0},{"$f":"'Random Variance Component'!X89","v":0}]
[{"$f":"'Random Variance Component'!A90","v":{"$error":"#REF!"}},{"$f":"'Random Variance Component'!B90","v":0},{"$f":"'Random Variance Component'!N90","v":0},{"$f":"'Random Variance Component'!O90","v":0},{"$f":"'Random Variance Component'!P90","v":0},{"$f":"'Random Variance Component'!Q90","v":0},{"$f":"'Random Variance Component'!R90","v":0},{"$f":"'Random Variance Component'!S90","v":0},{"$f":"'Random Variance Component'!T90","v":0},{"$f":"'Random Variance Component'!U90","v":0},{"$f":"'Random Variance Component'!V90","v":0},{"$f":"'Random Variance Component'!W90","v":0},{"$f":"'Random Variance Component'!X90","v":0}]
[{"$f":"'Random Variance Component'!A91","v":{"$error":"#REF!"}},{"$f":"'Random Variance Component'!B91","v":0},{"$f":"'Random Variance Component'!N91","v":0},{"$f":"'Random Variance Component'!O91","v":0},{"$f":"'Random Variance Component'!P91","v":0},{"$f":"'Random Variance Component'!Q91","v":0},{"$f":"'Random Variance Component'!R91","v":0},{"$f":"'Random Variance Component'!S91","v":0},{"$f":"'Random Variance Component'!T91","v":0},{"$f":"'Random Variance Component'!U91","v":0},{"$f":"'Random Variance Component'!V91","v":0},{"$f":"'Random Variance Component'!W91","v":0},{"$f":"'Random Variance Component'!X91","v":0}]
[{"$f":"'Random Variance Component'!A92","v":{"$error":"#REF!"}},{"$f":"'Random Variance Component'!B92","v":0},{"$f":"'Random Variance Component'!N92","v":0},{"$f":"'Random Variance Component'!O92","v":0},{"$f":"'Random Variance Component'!P92","v":0},{"$f":"'Random Variance Component'!Q92","v":0},{"$f":"'Random Variance Component'!R92","v":0},{"$f":"'Random Variance Component'!S92","v":0},{"$f":"'Random Variance Component'!T92","v":0},{"$f":"'Random Variance Component'!U92","v":0},{"$f":"'Random Variance Component'!V92","v":0},{"$f":"'Random Variance Component'!W92","v":0},{"$f":"'Random Variance Component'!X92","v":0}]
[{"$f":"'Random Variance Component'!A93","v":{"$error":"#REF!"}},{"$f":"'Random Variance Component'!B93","v":0},{"$f":"'Random Variance Component'!N93","v":0},{"$f":"'Random Variance Component'!O93","v":0},{"$f":"'Random Variance Component'!P93","v":0},{"$f":"'Random Variance Component'!Q93","v":0},{"$f":"'Random Variance Component'!R93","v":0},{"$f":"'Random Variance Component'!S93","v":0},{"$f":"'Random Variance Component'!T93","v":0},{"$f":"'Random Variance Component'!U93","v":0},{"$f":"'Random Variance Component'!V93","v":0},{"$f":"'Random Variance Component'!W93","v":0},{"$f":"'Random Variance Component'!X93","v":0}]
[{"$f":"'Random Variance Component'!A94","v":{"$error":"#REF!"}},{"$f":"'Random Variance Component'!B94","v":0},{"$f":"'Random Variance Component'!N94","v":0},{"$f":"'Random Variance Component'!O94","v":0},{"$f":"'Random Variance Component'!P94","v":0},{"$f":"'Random Variance Component'!Q94","v":0},{"$f":"'Random Variance Component'!R94","v":0},{"$f":"'Random Variance Component'!S94","v":0},{"$f":"'Random Variance Component'!T94","v":0},{"$f":"'Random Variance Component'!U94","v":0},{"$f":"'Random Variance Component'!V94","v":0},{"$f":"'Random Variance Component'!W94","v":0},{"$f":"'Random Variance Component'!X94","v":0}]
[{"$f":"'Random Variance Component'!A95","v":{"$error":"#REF!"}},{"$f":"'Random Variance Component'!B95","v":0},{"$f":"'Random Variance Component'!N95","v":0},{"$f":"'Random Variance Component'!O95","v":0},{"$f":"'Random Variance Component'!P95","v":0},{"$f":"'Random Variance Component'!Q95","v":0},{"$f":"'Random Variance Component'!R95","v":0},{"$f":"'Random Variance Component'!S95","v":0},{"$f":"'Random Variance Component'!T95","v":0},{"$f":"'Random Variance Component'!U95","v":0},{"$f":"'Random Variance Component'!V95","v":0},{"$f":"'Random Variance Component'!W95","v":0},{"$f":"'Random Variance Component'!X95","v":0}]
[{"$f":"'Random Variance Component'!A96","v":{"$error":"#REF!"}},{"$f":"'Random Variance Component'!B96","v":0},{"$f":"'Random Variance Component'!N96","v":0},{"$f":"'Random Variance Component'!O96","v":0},{"$f":"'Random Variance Component'!P96","v":0},{"$f":"'Random Variance Component'!Q96","v":0},{"$f":"'Random Variance Component'!R96","v":0},{"$f":"'Random Variance Component'!S96","v":0},{"$f":"'Random Variance Component'!T96","v":0},{"$f":"'Random Variance Component'!U96","v":0},{"$f":"'Random Variance Component'!V96","v":0},{"$f":"'Random Variance Component'!W96","v":0},{"$f":"'Random Variance Component'!X96","v":0}]
[{"$f":"'Random Variance Component'!A97","v":{"$error":"#REF!"}},{"$f":"'Random Variance Component'!B97","v":0},{"$f":"'Random Variance Component'!N97","v":0},{"$f":"'Random Variance Component'!O97","v":0},{"$f":"'Random Variance Component'!P97","v":0},{"$f":"'Random Variance Component'!Q97","v":0},{"$f":"'Random Variance Component'!R97","v":0},{"$f":"'Random Variance Component'!S97","v":0},{"$f":"'Random Variance Component'!T97","v":0},{"$f":"'Random Variance Component'!U97","v":0},{"$f":"'Random Variance Component'!V97","v":0},{"$f":"'Random Variance Component'!W97","v":0},{"$f":"'Random Variance Component'!X97","v":0}]
[{"$f":"'Random Variance Component'!A98","v":{"$error":"#REF!"}},{"$f":"'Random Variance Component'!B98","v":0},{"$f":"'Random Variance Component'!N98","v":0},{"$f":"'Random Variance Component'!O98","v":0},{"$f":"'Random Variance Component'!P98","v":0},{"$f":"'Random Variance Component'!Q98","v":0},{"$f":"'Random Variance Component'!R98","v":0},{"$f":"'Random Variance Component'!S98","v":0},{"$f":"'Random Variance Component'!T98","v":0},{"$f":"'Random Variance Component'!U98","v":0},{"$f":"'Random Variance Component'!V98","v":0},{"$f":"'Random Variance Component'!W98","v":0},{"$f":"'Random Variance Component'!X98","v":0}]
[{"$f":"'Random Variance Component'!A99","v":{"$error":"#REF!"}},{"$f":"'Random Variance Component'!B99","v":0},{"$f":"'Random Variance Component'!N99","v":0},{"$f":"'Random Variance Component'!O99","v":0},{"$f":"'Random Variance Component'!P99","v":0},{"$f":"'Random Variance Component'!Q99","v":0},{"$f":"'Random Variance Component'!R99","v":0},{"$f":"'Random Variance Component'!S99","v":0},{"$f":"'Random Variance Component'!T99","v":0},{"$f":"'Random Variance Component'!U99","v":0},{"$f":"'Random Variance Component'!V99","v":0},{"$f":"'Random Variance Component'!W99","v":0},{"$f":"'Random Variance Component'!X99","v":0}]
[{"$f":"'Random Variance Component'!A100","v":{"$error":"#REF!"}},{"$f":"'Random Variance Component'!B100","v":0},{"$f":"'Random Variance Component'!N100","v":0},{"$f":"'Random Variance Component'!O100","v":0},{"$f":"'Random Variance Component'!P100","v":0},{"$f":"'Random Variance Component'!Q100","v":0},{"$f":"'Random Variance Component'!R100","v":0},{"$f":"'Random Variance Component'!S100","v":0},{"$f":"'Random Variance Component'!T100","v":0},{"$f":"'Random Variance Component'!U100","v":0},{"$f":"'Random Variance Component'!V100","v":0},{"$f":"'Random Variance Component'!W100","v":0},{"$f":"'Random Variance Component'!X100","v":0}]
[{"$f":"'Random Variance Component'!A101","v":{"$error":"#REF!"}},{"$f":"'Random Variance Component'!B101","v":0},{"$f":"'Random Variance Component'!N101","v":0},{"$f":"'Random Variance Component'!O101","v":0},{"$f":"'Random Variance Component'!P101","v":0},{"$f":"'Random Variance Component'!Q101","v":0},{"$f":"'Random Variance Component'!R101","v":0},{"$f":"'Random Variance Component'!S101","v":0},{"$f":"'Random Variance Component'!T101","v":0},{"$f":"'Random Variance Component'!U101","v":0},{"$f":"'Random Variance Component'!V101","v":0},{"$f":"'Random Variance Component'!W101","v":0},{"$f":"'Random Variance Component'!X101","v":0}]
[{"$f":"'Random Variance Component'!A102","v":{"$error":"#REF!"}},{"$f":"'Random Variance Component'!B102","v":0},{"$f":"'Random Variance Component'!N102","v":0},{"$f":"'Random Variance Component'!O102","v":0},{"$f":"'Random Variance Component'!P102","v":0},{"$f":"'Random Variance Component'!Q102","v":0},{"$f":"'Random Variance Component'!R102","v":0},{"$f":"'Random Variance Component'!S102","v":0},{"$f":"'Random Variance Component'!T102","v":0},{"$f":"'Random Variance Component'!U102","v":0},{"$f":"'Random Variance Component'!V102","v":0},{"$f":"'Random Variance Component'!W102","v":0},{"$f":"'Random Variance Component'!X102","v":0}]
[{"$f":"'Random Variance Component'!A103","v":{"$error":"#REF!"}},{"$f":"'Random Variance Component'!B103","v":0},{"$f":"'Random Variance Component'!N103","v":0},{"$f":"'Random Variance Component'!O103","v":0},{"$f":"'Random Variance Component'!P103","v":0},{"$f":"'Random Variance Component'!Q103","v":0},{"$f":"'Random Variance Component'!R103","v":0},{"$f":"'Random Variance Component'!S103","v":0},{"$f":"'Random Variance Component'!T103","v":0},{"$f":"'Random Variance Component'!U103","v":0},{"$f":"'Random Variance Component'!V103","v":0},{"$f":"'Random Variance Component'!W103","v":0},{"$f":"'Random Variance Component'!X103","v":0}]
[{"$f":"'Random Variance Component'!A104","v":{"$error":"#REF!"}},{"$f":"'Random Variance Component'!B104","v":0},{"$f":"'Random Variance Component'!N104","v":0},{"$f":"'Random Variance Component'!O104","v":0},{"$f":"'Random Variance Component'!P104","v":0},{"$f":"'Random Variance Component'!Q104","v":0},{"$f":"'Random Variance Component'!R104","v":0},{"$f":"'Random Variance Component'!S104","v":0},{"$f":"'Random Variance Component'!T104","v":0},{"$f":"'Random Variance Component'!U104","v":0},{"$f":"'Random Variance Component'!V104","v":0},{"$f":"'Random Variance Component'!W104","v":0},{"$f":"'Random Variance Component'!X104","v":0}]
[{"$f":"'Random Variance Component'!A105","v":{"$error":"#REF!"}},{"$f":"'Random Variance Component'!B105","v":0},{"$f":"'Random Variance Component'!N105","v":0},{"$f":"'Random Variance Component'!O105","v":0},{"$f":"'Random Variance Component'!P105","v":0},{"$f":"'Random Variance Component'!Q105","v":0},{"$f":"'Random Variance Component'!R105","v":0},{"$f":"'Random Variance Component'!S105","v":0},{"$f":"'Random Variance Component'!T105","v":0},{"$f":"'Random Variance Component'!U105","v":0},{"$f":"'Random Variance Component'!V105","v":0},{"$f":"'Random Variance Component'!W105","v":0},{"$f":"'Random Variance Component'!X105","v":0}]
[{"$f":"'Random Variance Component'!A106","v":{"$error":"#REF!"}},{"$f":"'Random Variance Component'!B106","v":0},{"$f":"'Random Variance Component'!N106","v":0},{"$f":"'Random Variance Component'!O106","v":0},{"$f":"'Random Variance Component'!P106","v":0},{"$f":"'Random Variance Component'!Q106","v":0},{"$f":"'Random Variance Component'!R106","v":0},{"$f":"'Random Variance Component'!S106","v":0},{"$f":"'Random Variance Component'!T106","v":0},{"$f":"'Random Variance Component'!U106","v":0},{"$f":"'Random Variance Component'!V106","v":0},{"$f":"'Random Variance Component'!W106","v":0},{"$f":"'Random Variance Component'!X106","v":0}]
[{"$f":"'Random Variance Component'!A107","v":{"$error":"#REF!"}},{"$f":"'Random Variance Component'!B107","v":0},{"$f":"'Random Variance Component'!N107","v":0},{"$f":"'Random Variance Component'!O107","v":0},{"$f":"'Random Variance Component'!P107","v":0},{"$f":"'Random Variance Component'!Q107","v":0},{"$f":"'Random Variance Component'!R107","v":0},{"$f":"'Random Variance Component'!S107","v":0},{"$f":"'Random Variance Component'!T107","v":0},{"$f":"'Random Variance Component'!U107","v":0},{"$f":"'Random Variance Component'!V107","v":0},{"$f":"'Random Variance Component'!W107","v":0},{"$f":"'Random Variance Component'!X107","v":0}]
[{"$f":"'Random Variance Component'!A108","v":{"$error":"#REF!"}},{"$f":"'Random Variance Component'!B108","v":0},{"$f":"'Random Variance Component'!N108","v":0},{"$f":"'Random Variance Component'!O108","v":0},{"$f":"'Random Variance Component'!P108","v":0},{"$f":"'Random Variance Component'!Q108","v":0},{"$f":"'Random Variance Component'!R108","v":0},{"$f":"'Random Variance Component'!S108","v":0},{"$f":"'Random Variance Component'!T108","v":0},{"$f":"'Random Variance Component'!U108","v":0},{"$f":"'Random Variance Component'!V108","v":0},{"$f":"'Random Variance Component'!W108","v":0},{"$f":"'Random Variance Component'!X108","v":0}]
[{"$f":"'Random Variance Component'!A109","v":{"$error":"#REF!"}},{"$f":"'Random Variance Component'!B109","v":0},{"$f":"'Random Variance Component'!N109","v":0},{"$f":"'Random Variance Component'!O109","v":0},{"$f":"'Random Variance Component'!P109","v":0},{"$f":"'Random Variance Component'!Q109","v":0},{"$f":"'Random Variance Component'!R109","v":0},{"$f":"'Random Variance Component'!S109","v":0},{"$f":"'Random Variance Component'!T109","v":0},{"$f":"'Random Variance Component'!U109","v":0},{"$f":"'Random Variance Component'!V109","v":0},{"$f":"'Random Variance Component'!W109","v":0},{"$f":"'Random Variance Component'!X109","v":0}]
[{"$f":"'Random Variance Component'!A110","v":{"$error":"#REF!"}},{"$f":"'Random Variance Component'!B110","v":0},{"$f":"'Random Variance Component'!N110","v":0},{"$f":"'Random Variance Component'!O110","v":0},{"$f":"'Random Variance Component'!P110","v":0},{"$f":"'Random Variance Component'!Q110","v":0},{"$f":"'Random Variance Component'!R110","v":0},{"$f":"'Random Variance Component'!S110","v":0},{"$f":"'Random Variance Component'!T110","v":0},{"$f":"'Random Variance Component'!U110","v":0},{"$f":"'Random Variance Component'!V110","v":0},{"$f":"'Random Variance Component'!W110","v":0},{"$f":"'Random Variance Component'!X110","v":0}]
[{"$f":"'Random Variance Component'!A111","v":{"$error":"#REF!"}},{"$f":"'Random Variance Component'!B111","v":0},{"$f":"'Random Variance Component'!N111","v":0},{"$f":"'Random Variance Component'!O111","v":0},{"$f":"'Random Variance Component'!P111","v":0},{"$f":"'Random Variance Component'!Q111","v":0},{"$f":"'Random Variance Component'!R111","v":0},{"$f":"'Random Variance Component'!S111","v":0},{"$f":"'Random Variance Component'!T111","v":0},{"$f":"'Random Variance Component'!U111","v":0},{"$f":"'Random Variance Component'!V111","v":0},{"$f":"'Random Variance Component'!W111","v":0},{"$f":"'Random Variance Component'!X111","v":0}]
[{"$f":"'Random Variance Component'!A112","v":{"$error":"#REF!"}},{"$f":"'Random Variance Component'!B112","v":0},{"$f":"'Random Variance Component'!N112","v":0},{"$f":"'Random Variance Component'!O112","v":0},{"$f":"'Random Variance Component'!P112","v":0},{"$f":"'Random Variance Component'!Q112","v":0},{"$f":"'Random Variance Component'!R112","v":0},{"$f":"'Random Variance Component'!S112","v":0},{"$f":"'Random Variance Component'!T112","v":0},{"$f":"'Random Variance Component'!U112","v":0},{"$f":"'Random Variance Component'!V112","v":0},{"$f":"'Random Variance Component'!W112","v":0},{"$f":"'Random Variance Component'!X112","v":0}]
[{"$f":"'Random Variance Component'!A113","v":{"$error":"#REF!"}},{"$f":"'Random Variance Component'!B113","v":0},{"$f":"'Random Variance Component'!N113","v":0},{"$f":"'Random Variance Component'!O113","v":0},{"$f":"'Random Variance Component'!P113","v":0},{"$f":"'Random Variance Component'!Q113","v":0},{"$f":"'Random Variance Component'!R113","v":0},{"$f":"'Random Variance Component'!S113","v":0},{"$f":"'Random Variance Component'!T113","v":0},{"$f":"'Random Variance Component'!U113","v":0},{"$f":"'Random Variance Component'!V113","v":0},{"$f":"'Random Variance Component'!W113","v":0},{"$f":"'Random Variance Component'!X113","v":0}]
[{"$f":"'Random Variance Component'!A114","v":{"$error":"#REF!"}},{"$f":"'Random Variance Component'!B114","v":0},{"$f":"'Random Variance Component'!N114","v":0},{"$f":"'Random Variance Component'!O114","v":0},{"$f":"'Random Variance Component'!P114","v":0},{"$f":"'Random Variance Component'!Q114","v":0},{"$f":"'Random Variance Component'!R114","v":0},{"$f":"'Random Variance Component'!S114","v":0},{"$f":"'Random Variance Component'!T114","v":0},{"$f":"'Random Variance Component'!U114","v":0},{"$f":"'Random Variance Component'!V114","v":0},{"$f":"'Random Variance Component'!W114","v":0},{"$f":"'Random Variance Component'!X114","v":0}]
[{"$f":"'Random Variance Component'!A115","v":{"$error":"#REF!"}},{"$f":"'Random Variance Component'!B115","v":0},{"$f":"'Random Variance Component'!N115","v":0},{"$f":"'Random Variance Component'!O115","v":0},{"$f":"'Random Variance Component'!P115","v":0},{"$f":"'Random Variance Component'!Q115","v":0},{"$f":"'Random Variance Component'!R115","v":0},{"$f":"'Random Variance Component'!S115","v":0},{"$f":"'Random Variance Component'!T115","v":0},{"$f":"'Random Variance Component'!U115","v":0},{"$f":"'Random Variance Component'!V115","v":0},{"$f":"'Random Variance Component'!W115","v":0},{"$f":"'Random Variance Component'!X115","v":0}]
[{"$f":"'Random Variance Component'!A116","v":{"$error":"#REF!"}},{"$f":"'Random Variance Component'!B116","v":0},{"$f":"'Random Variance Component'!N116","v":0},{"$f":"'Random Variance Component'!O116","v":0},{"$f":"'Random Variance Component'!P116","v":0},{"$f":"'Random Variance Component'!Q116","v":0},{"$f":"'Random Variance Component'!R116","v":0},{"$f":"'Random Variance Component'!S116","v":0},{"$f":"'Random Variance Component'!T116","v":0},{"$f":"'Random Variance Component'!U116","v":0},{"$f":"'Random Variance Component'!V116","v":0},{"$f":"'Random Variance Component'!W116","v":0},{"$f":"'Random Variance Component'!X116","v":0}]
[{"$f":"'Random Variance Component'!A117","v":{"$error":"#REF!"}},{"$f":"'Random Variance Component'!B117","v":0},{"$f":"'Random Variance Component'!N117","v":0},{"$f":"'Random Variance Component'!O117","v":0},{"$f":"'Random Variance Component'!P117","v":0},{"$f":"'Random Variance Component'!Q117","v":0},{"$f":"'Random Variance Component'!R117","v":0},{"$f":"'Random Variance Component'!S117","v":0},{"$f":"'Random Variance Component'!T117","v":0},{"$f":"'Random Variance Component'!U117","v":0},{"$f":"'Random Variance Component'!V117","v":0},{"$f":"'Random Variance Component'!W117","v":0},{"$f":"'Random Variance Component'!X117","v":0}]
[{"$f":"'Random Variance Component'!A118","v":{"$error":"#REF!"}},{"$f":"'Random Variance Component'!B118","v":0},{"$f":"'Random Variance Component'!N118","v":0},{"$f":"'Random Variance Component'!O118","v":0},{"$f":"'Random Variance Component'!P118","v":0},{"$f":"'Random Variance Component'!Q118","v":0},{"$f":"'Random Variance Component'!R118","v":0},{"$f":"'Random Variance Component'!S118","v":0},{"$f":"'Random Variance Component'!T118","v":0},{"$f":"'Random Variance Component'!U118","v":0},{"$f":"'Random Variance Component'!V118","v":0},{"$f":"'Random Variance Component'!W118","v":0},{"$f":"'Random Variance Component'!X118","v":0}]
[{"$f":"'Random Variance Component'!A119","v":{"$error":"#REF!"}},{"$f":"'Random Variance Component'!B119","v":0},{"$f":"'Random Variance Component'!N119","v":0},{"$f":"'Random Variance Component'!O119","v":0},{"$f":"'Random Variance Component'!P119","v":0},{"$f":"'Random Variance Component'!Q119","v":0},{"$f":"'Random Variance Component'!R119","v":0},{"$f":"'Random Variance Component'!S119","v":0},{"$f":"'Random Variance Component'!T119","v":0},{"$f":"'Random Variance Component'!U119","v":0},{"$f":"'Random Variance Component'!V119","v":0},{"$f":"'Random Variance Component'!W119","v":0},{"$f":"'Random Variance Component'!X119","v":0}]
[{"$f":"'Random Variance Component'!A120","v":{"$error":"#REF!"}},{"$f":"'Random Variance Component'!B120","v":0},{"$f":"'Random Variance Component'!N120","v":0},{"$f":"'Random Variance Component'!O120","v":0},{"$f":"'Random Variance Component'!P120","v":0},{"$f":"'Random Variance Component'!Q120","v":0},{"$f":"'Random Variance Component'!R120","v":0},{"$f":"'Random Variance Component'!S120","v":0},{"$f":"'Random Variance Component'!T120","v":0},{"$f":"'Random Variance Component'!U120","v":0},{"$f":"'Random Variance Component'!V120","v":0},{"$f":"'Random Variance Component'!W120","v":0},{"$f":"'Random Variance Component'!X120","v":0}]
[{"$f":"'Random Variance Component'!A121","v":{"$error":"#REF!"}},{"$f":"'Random Variance Component'!B121","v":0},{"$f":"'Random Variance Component'!N121","v":0},{"$f":"'Random Variance Component'!O121","v":0},{"$f":"'Random Variance Component'!P121","v":0},{"$f":"'Random Variance Component'!Q121","v":0},{"$f":"'Random Variance Component'!R121","v":0},{"$f":"'Random Variance Component'!S121","v":0},{"$f":"'Random Variance Component'!T121","v":0},{"$f":"'Random Variance Component'!U121","v":0},{"$f":"'Random Variance Component'!V121","v":0},{"$f":"'Random Variance Component'!W121","v":0},{"$f":"'Random Variance Component'!X121","v":0}]
[{"$f":"'Random Variance Component'!A122","v":{"$error":"#REF!"}},{"$f":"'Random Variance Component'!B122","v":0},{"$f":"'Random Variance Component'!N122","v":0},{"$f":"'Random Variance Component'!O122","v":0},{"$f":"'Random Variance Component'!P122","v":0},{"$f":"'Random Variance Component'!Q122","v":0},{"$f":"'Random Variance Component'!R122","v":0},{"$f":"'Random Variance Component'!S122","v":0},{"$f":"'Random Variance Component'!T122","v":0},{"$f":"'Random Variance Component'!U122","v":0},{"$f":"'Random Variance Component'!V122","v":0},{"$f":"'Random Variance Component'!W122","v":0},{"$f":"'Random Variance Component'!X122","v":0}]
[{"$f":"'Random Variance Component'!A123","v":{"$error":"#REF!"}},{"$f":"'Random Variance Component'!B123","v":0},{"$f":"'Random Variance Component'!N123","v":0},{"$f":"'Random Variance Component'!O123","v":0},{"$f":"'Random Variance Component'!P123","v":0},{"$f":"'Random Variance Component'!Q123","v":0},{"$f":"'Random Variance Component'!R123","v":0},{"$f":"'Random Variance Component'!S123","v":0},{"$f":"'Random Variance Component'!T123","v":0},{"$f":"'Random Variance Component'!U123","v":0},{"$f":"'Random Variance Component'!V123","v":0},{"$f":"'Random Variance Component'!W123","v":0},{"$f":"'Random Variance Component'!X123","v":0}]
[{"$f":"'Random Variance Component'!A124","v":{"$error":"#REF!"}},{"$f":"'Random Variance Component'!B124","v":0},{"$f":"'Random Variance Component'!N124","v":0},{"$f":"'Random Variance Component'!O124","v":0},{"$f":"'Random Variance Component'!P124","v":0},{"$f":"'Random Variance Component'!Q124","v":0},{"$f":"'Random Variance Component'!R124","v":0},{"$f":"'Random Variance Component'!S124","v":0},{"$f":"'Random Variance Component'!T124","v":0},{"$f":"'Random Variance Component'!U124","v":0},{"$f":"'Random Variance Component'!V124","v":0},{"$f":"'Random Variance Component'!W124","v":0},{"$f":"'Random Variance Component'!X124","v":0}]
[{"$f":"'Random Variance Component'!A125","v":{"$error":"#REF!"}},{"$f":"'Random Variance Component'!B125","v":0},{"$f":"'Random Variance Component'!N125","v":0},{"$f":"'Random Variance Component'!O125","v":0},{"$f":"'Random Variance Component'!P125","v":0},{"$f":"'Random Variance Component'!Q125","v":0},{"$f":"'Random Variance Component'!R125","v":0},{"$f":"'Random Variance Component'!S125","v":0},{"$f":"'Random Variance Component'!T125","v":0},{"$f":"'Random Variance Component'!U125","v":0},{"$f":"'Random Variance Component'!V125","v":0},{"$f":"'Random Variance Component'!W125","v":0},{"$f":"'Random Variance Component'!X125","v":0}]
[{"$f":"'Random Variance Component'!A126","v":{"$error":"#REF!"}},{"$f":"'Random Variance Component'!B126","v":0},{"$f":"'Random Variance Component'!N126","v":0},{"$f":"'Random Variance Component'!O126","v":0},{"$f":"'Random Variance Component'!P126","v":0},{"$f":"'Random Variance Component'!Q126","v":0},{"$f":"'Random Variance Component'!R126","v":0},{"$f":"'Random Variance Component'!S126","v":0},{"$f":"'Random Variance Component'!T126","v":0},{"$f":"'Random Variance Component'!U126","v":0},{"$f":"'Random Variance Component'!V126","v":0},{"$f":"'Random Variance Component'!W126","v":0},{"$f":"'Random Variance Component'!X126","v":0}]
[{"$f":"'Random Variance Component'!A127","v":{"$error":"#REF!"}},{"$f":"'Random Variance Component'!B127","v":0},{"$f":"'Random Variance Component'!N127","v":0},{"$f":"'Random Variance Component'!O127","v":0},{"$f":"'Random Variance Component'!P127","v":0},{"$f":"'Random Variance Component'!Q127","v":0},{"$f":"'Random Variance Component'!R127","v":0},{"$f":"'Random Variance Component'!S127","v":0},{"$f":"'Random Variance Component'!T127","v":0},{"$f":"'Random Variance Component'!U127","v":0},{"$f":"'Random Variance Component'!V127","v":0},{"$f":"'Random Variance Component'!W127","v":0},{"$f":"'Random Variance Component'!X127","v":0}]
[{"$f":"'Random Variance Component'!A128","v":{"$error":"#REF!"}},{"$f":"'Random Variance Component'!B128","v":0},{"$f":"'Random Variance Component'!N128","v":0},{"$f":"'Random Variance Component'!O128","v":0},{"$f":"'Random Variance Component'!P128","v":0},{"$f":"'Random Variance Component'!Q128","v":0},{"$f":"'Random Variance Component'!R128","v":0},{"$f":"'Random Variance Component'!S128","v":0},{"$f":"'Random Variance Component'!T128","v":0},{"$f":"'Random Variance Component'!U128","v":0},{"$f":"'Random Variance Component'!V128","v":0},{"$f":"'Random Variance Component'!W128","v":0},{"$f":"'Random Variance Component'!X128","v":0}]
[{"$f":"'Random Variance Component'!A129","v":{"$error":"#REF!"}},{"$f":"'Random Variance Component'!B129","v":0},{"$f":"'Random Variance Component'!N129","v":0},{"$f":"'Random Variance Component'!O129","v":0},{"$f":"'Random Variance Component'!P129","v":0},{"$f":"'Random Variance Component'!Q129","v":0},{"$f":"'Random Variance Component'!R129","v":0},{"$f":"'Random Variance Component'!S129","v":0},{"$f":"'Random Variance Component'!T129","v":0},{"$f":"'Random Variance Component'!U129","v":0},{"$f":"'Random Variance Component'!V129","v":0},{"$f":"'Random Variance Component'!W129","v":0},{"$f":"'Random Variance Component'!X129","v":0}]
[{"$f":"'Random Variance Component'!A130","v":{"$error":"#REF!"}},{"$f":"'Random Variance Component'!B130","v":0},{"$f":"'Random Variance Component'!N130","v":0},{"$f":"'Random Variance Component'!O130","v":0},{"$f":"'Random Variance Component'!P130","v":0},{"$f":"'Random Variance Component'!Q130","v":0},{"$f":"'Random Variance Component'!R130","v":0},{"$f":"'Random Variance Component'!S130","v":0},{"$f":"'Random Variance Component'!T130","v":0},{"$f":"'Random Variance Component'!U130","v":0},{"$f":"'Random Variance Component'!V130","v":0},{"$f":"'Random Variance Component'!W130","v":0},{"$f":"'Random Variance Component'!X130","v":0}]
[{"$f":"'Random Variance Component'!A131","v":{"$error":"#REF!"}},{"$f":"'Random Variance Component'!B131","v":0},{"$f":"'Random Variance Component'!N131","v":0},{"$f":"'Random Variance Component'!O131","v":0},{"$f":"'Random Variance Component'!P131","v":0},{"$f":"'Random Variance Component'!Q131","v":0},{"$f":"'Random Variance Component'!R131","v":0},{"$f":"'Random Variance Component'!S131","v":0},{"$f":"'Random Variance Component'!T131","v":0},{"$f":"'Random Variance Component'!U131","v":0},{"$f":"'Random Variance Component'!V131","v":0},{"$f":"'Random Variance Component'!W131","v":0},{"$f":"'Random Variance Component'!X131","v":0}]
[{"$f":"'Random Variance Component'!A132","v":{"$error":"#REF!"}},{"$f":"'Random Variance Component'!B132","v":0},{"$f":"'Random Variance Component'!N132","v":0},{"$f":"'Random Variance Component'!O132","v":0},{"$f":"'Random Variance Component'!P132","v":0},{"$f":"'Random Variance Component'!Q132","v":0},{"$f":"'Random Variance Component'!R132","v":0},{"$f":"'Random Variance Component'!S132","v":0},{"$f":"'Random Variance Component'!T132","v":0},{"$f":"'Random Variance Component'!U132","v":0},{"$f":"'Random Variance Component'!V132","v":0},{"$f":"'Random Variance Component'!W132","v":0},{"$f":"'Random Variance Component'!X132","v":0}]
[{"$f":"'Random Variance Component'!A133","v":{"$error":"#REF!"}},{"$f":"'Random Variance Component'!B133","v":0},{"$f":"'Random Variance Component'!N133","v":0},{"$f":"'Random Variance Component'!O133","v":0},{"$f":"'Random Variance Component'!P133","v":0},{"$f":"'Random Variance Component'!Q133","v":0},{"$f":"'Random Variance Component'!R133","v":0},{"$f":"'Random Variance Component'!S133","v":0},{"$f":"'Random Variance Component'!T133","v":0},{"$f":"'Random Variance Component'!U133","v":0},{"$f":"'Random Variance Component'!V133","v":0},{"$f":"'Random Variance Component'!W133","v":0},{"$f":"'Random Variance Component'!X133","v":0}]
[{"$f":"'Random Variance Component'!A134","v":{"$error":"#REF!"}},{"$f":"'Random Variance Component'!B134","v":0},{"$f":"'Random Variance Component'!N134","v":0},{"$f":"'Random Variance Component'!O134","v":0},{"$f":"'Random Variance Component'!P134","v":0},{"$f":"'Random Variance Component'!Q134","v":0},{"$f":"'Random Variance Component'!R134","v":0},{"$f":"'Random Variance Component'!S134","v":0},{"$f":"'Random Variance Component'!T134","v":0},{"$f":"'Random Variance Component'!U134","v":0},{"$f":"'Random Variance Component'!V134","v":0},{"$f":"'Random Variance Component'!W134","v":0},{"$f":"'Random Variance Component'!X134","v":0}]
[{"$f":"'Random Variance Component'!A135","v":{"$error":"#REF!"}},{"$f":"'Random Variance Component'!B135","v":0},{"$f":"'Random Variance Component'!N135","v":0},{"$f":"'Random Variance Component'!O135","v":0},{"$f":"'Random Variance Component'!P135","v":0},{"$f":"'Random Variance Component'!Q135","v":0},{"$f":"'Random Variance Component'!R135","v":0},{"$f":"'Random Variance Component'!S135","v":0},{"$f":"'Random Variance Component'!T135","v":0},{"$f":"'Random Variance Component'!U135","v":0},{"$f":"'Random Variance Component'!V135","v":0},{"$f":"'Random Variance Component'!W135","v":0},{"$f":"'Random Variance Component'!X135","v":0}]
[{"$f":"'Random Variance Component'!A136","v":{"$error":"#REF!"}},{"$f":"'Random Variance Component'!B136","v":0},{"$f":"'Random Variance Component'!N136","v":0},{"$f":"'Random Variance Component'!O136","v":0},{"$f":"'Random Variance Component'!P136","v":0},{"$f":"'Random Variance Component'!Q136","v":0},{"$f":"'Random Variance Component'!R136","v":0},{"$f":"'Random Variance Component'!S136","v":0},{"$f":"'Random Variance Component'!T136","v":0},{"$f":"'Random Variance Component'!U136","v":0},{"$f":"'Random Variance Component'!V136","v":0},{"$f":"'Random Variance Component'!W136","v":0},{"$f":"'Random Variance Component'!X136","v":0}]
[{"$f":"'Random Variance Component'!A137","v":{"$error":"#REF!"}},{"$f":"'Random Variance Component'!B137","v":0},{"$f":"'Random Variance Component'!N137","v":0},{"$f":"'Random Variance Component'!O137","v":0},{"$f":"'Random Variance Component'!P137","v":0},{"$f":"'Random Variance Component'!Q137","v":0},{"$f":"'Random Variance Component'!R137","v":0},{"$f":"'Random Variance Component'!S137","v":0},{"$f":"'Random Variance Component'!T137","v":0},{"$f":"'Random Variance Component'!U137","v":0},{"$f":"'Random Variance Component'!V137","v":0},{"$f":"'Random Variance Component'!W137","v":0},{"$f":"'Random Variance Component'!X137","v":0}]
[{"$f":"'Random Variance Component'!A138","v":{"$error":"#REF!"}},{"$f":"'Random Variance Component'!B138","v":0},{"$f":"'Random Variance Component'!N138","v":0},{"$f":"'Random Variance Component'!O138","v":0},{"$f":"'Random Variance Component'!P138","v":0},{"$f":"'Random Variance Component'!Q138","v":0},{"$f":"'Random Variance Component'!R138","v":0},{"$f":"'Random Variance Component'!S138","v":0},{"$f":"'Random Variance Component'!T138","v":0},{"$f":"'Random Variance Component'!U138","v":0},{"$f":"'Random Variance Component'!V138","v":0},{"$f":"'Random Variance Component'!W138","v":0},{"$f":"'Random Variance Component'!X138","v":0}]
[{"$f":"'Random Variance Component'!A139","v":{"$error":"#REF!"}},{"$f":"'Random Variance Component'!B139","v":0},{"$f":"'Random Variance Component'!N139","v":0},{"$f":"'Random Variance Component'!O139","v":0},{"$f":"'Random Variance Component'!P139","v":0},{"$f":"'Random Variance Component'!Q139","v":0},{"$f":"'Random Variance Component'!R139","v":0},{"$f":"'Random Variance Component'!S139","v":0},{"$f":"'Random Variance Component'!T139","v":0},{"$f":"'Random Variance Component'!U139","v":0},{"$f":"'Random Variance Component'!V139","v":0},{"$f":"'Random Variance Component'!W139","v":0},{"$f":"'Random Variance Component'!X139","v":0}]
[{"$f":"'Random Variance Component'!A140","v":{"$error":"#REF!"}},{"$f":"'Random Variance Component'!B140","v":0},{"$f":"'Random Variance Component'!N140","v":0},{"$f":"'Random Variance Component'!O140","v":0},{"$f":"'Random Variance Component'!P140","v":0},{"$f":"'Random Variance Component'!Q140","v":0},{"$f":"'Random Variance Component'!R140","v":0},{"$f":"'Random Variance Component'!S140","v":0},{"$f":"'Random Variance Component'!T140","v":0},{"$f":"'Random Variance Component'!U140","v":0},{"$f":"'Random Variance Component'!V140","v":0},{"$f":"'Random Variance Component'!W140","v":0},{"$f":"'Random Variance Component'!X140","v":0}]
[{"$f":"'Random Variance Component'!A141","v":{"$error":"#REF!"}},{"$f":"'Random Variance Component'!B141","v":0},{"$f":"'Random Variance Component'!N141","v":0},{"$f":"'Random Variance Component'!O141","v":0},{"$f":"'Random Variance Component'!P141","v":0},{"$f":"'Random Variance Component'!Q141","v":0},{"$f":"'Random Variance Component'!R141","v":0},{"$f":"'Random Variance Component'!S141","v":0},{"$f":"'Random Variance Component'!T141","v":0},{"$f":"'Random Variance Component'!U141","v":0},{"$f":"'Random Variance Component'!V141","v":0},{"$f":"'Random Variance Component'!W141","v":0},{"$f":"'Random Variance Component'!X141","v":0}]
[{"$f":"'Random Variance Component'!A142","v":{"$error":"#REF!"}},{"$f":"'Random Variance Component'!B142","v":0},{"$f":"'Random Variance Component'!N142","v":0},{"$f":"'Random Variance Component'!O142","v":0},{"$f":"'Random Variance Component'!P142","v":0},{"$f":"'Random Variance Component'!Q142","v":0},{"$f":"'Random Variance Component'!R142","v":0},{"$f":"'Random Variance Component'!S142","v":0},{"$f":"'Random Variance Component'!T142","v":0},{"$f":"'Random Variance Component'!U142","v":0},{"$f":"'Random Variance Component'!V142","v":0},{"$f":"'Random Variance Component'!W142","v":0},{"$f":"'Random Variance Component'!X142","v":0}]
[{"$f":"'Random Variance Component'!A143","v":{"$error":"#REF!"}},{"$f":"'Random Variance Component'!B143","v":0},{"$f":"'Random Variance Component'!N143","v":0},{"$f":"'Random Variance Component'!O143","v":0},{"$f":"'Random Variance Component'!P143","v":0},{"$f":"'Random Variance Component'!Q143","v":0},{"$f":"'Random Variance Component'!R143","v":0},{"$f":"'Random Variance Component'!S143","v":0},{"$f":"'Random Variance Component'!T143","v":0},{"$f":"'Random Variance Component'!U143","v":0},{"$f":"'Random Variance Component'!V143","v":0},{"$f":"'Random Variance Component'!W143","v":0},{"$f":"'Random Variance Component'!X143","v":0}]
[{"$f":"'Random Variance Component'!A144","v":{"$error":"#REF!"}},{"$f":"'Random Variance Component'!B144","v":0},{"$f":"'Random Variance Component'!N144","v":0},{"$f":"'Random Variance Component'!O144","v":0},{"$f":"'Random Variance Component'!P144","v":0},{"$f":"'Random Variance Component'!Q144","v":0},{"$f":"'Random Variance Component'!R144","v":0},{"$f":"'Random Variance Component'!S144","v":0},{"$f":"'Random Variance Component'!T144","v":0},{"$f":"'Random Variance Component'!U144","v":0},{"$f":"'Random Variance Component'!V144","v":0},{"$f":"'Random Variance Component'!W144","v":0},{"$f":"'Random Variance Component'!X144","v":0}]
[{"$f":"'Random Variance Component'!A145","v":{"$error":"#REF!"}},{"$f":"'Random Variance Component'!B145","v":0},{"$f":"'Random Variance Component'!N145","v":0},{"$f":"'Random Variance Component'!O145","v":0},{"$f":"'Random Variance Component'!P145","v":0},{"$f":"'Random Variance Component'!Q145","v":0},{"$f":"'Random Variance Component'!R145","v":0},{"$f":"'Random Variance Component'!S145","v":0},{"$f":"'Random Variance Component'!T145","v":0},{"$f":"'Random Variance Component'!U145","v":0},{"$f":"'Random Variance Component'!V145","v":0},{"$f":"'Random Variance Component'!W145","v":0},{"$f":"'Random Variance Component'!X145","v":0}]
[{"$f":"'Random Variance Component'!A146","v":{"$error":"#REF!"}},{"$f":"'Random Variance Component'!B146","v":0},{"$f":"'Random Variance Component'!N146","v":0},{"$f":"'Random Variance Component'!O146","v":0},{"$f":"'Random Variance Component'!P146","v":0},{"$f":"'Random Variance Component'!Q146","v":0},{"$f":"'Random Variance Component'!R146","v":0},{"$f":"'Random Variance Component'!S146","v":0},{"$f":"'Random Variance Component'!T146","v":0},{"$f":"'Random Variance Component'!U146","v":0},{"$f":"'Random Variance Component'!V146","v":0},{"$f":"'Random Variance Component'!W146","v":0},{"$f":"'Random Variance Component'!X146","v":0}]
[{"$f":"'Random Variance Component'!A147","v":{"$error":"#REF!"}},{"$f":"'Random Variance Component'!B147","v":0},{"$f":"'Random Variance Component'!N147","v":0},{"$f":"'Random Variance Component'!O147","v":0},{"$f":"'Random Variance Component'!P147","v":0},{"$f":"'Random Variance Component'!Q147","v":0},{"$f":"'Random Variance Component'!R147","v":0},{"$f":"'Random Variance Component'!S147","v":0},{"$f":"'Random Variance Component'!T147","v":0},{"$f":"'Random Variance Component'!U147","v":0},{"$f":"'Random Variance Component'!V147","v":0},{"$f":"'Random Variance Component'!W147","v":0},{"$f":"'Random Variance Component'!X147","v":0}]
[{"$f":"'Random Variance Component'!A148","v":{"$error":"#REF!"}},{"$f":"'Random Variance Component'!B148","v":0},{"$f":"'Random Variance Component'!N148","v":0},{"$f":"'Random Variance Component'!O148","v":0},{"$f":"'Random Variance Component'!P148","v":0},{"$f":"'Random Variance Component'!Q148","v":0},{"$f":"'Random Variance Component'!R148","v":0},{"$f":"'Random Variance Component'!S148","v":0},{"$f":"'Random Variance Component'!T148","v":0},{"$f":"'Random Variance Component'!U148","v":0},{"$f":"'Random Variance Component'!V148","v":0},{"$f":"'Random Variance Component'!W148","v":0},{"$f":"'Random Variance Component'!X148","v":0}]
[{"$f":"'Random Variance Component'!A149","v":{"$error":"#REF!"}},{"$f":"'Random Variance Component'!B149","v":0},{"$f":"'Random Variance Component'!N149","v":0},{"$f":"'Random Variance Component'!O149","v":0},{"$f":"'Random Variance Component'!P149","v":0},{"$f":"'Random Variance Component'!Q149","v":0},{"$f":"'Random Variance Component'!R149","v":0},{"$f":"'Random Variance Component'!S149","v":0},{"$f":"'Random Variance Component'!T149","v":0},{"$f":"'Random Variance Component'!U149","v":0},{"$f":"'Random Variance Component'!V149","v":0},{"$f":"'Random Variance Component'!W149","v":0},{"$f":"'Random Variance Component'!X149","v":0}]
[{"$f":"'Random Variance Component'!A150","v":{"$error":"#REF!"}},{"$f":"'Random Variance Component'!B150","v":0},{"$f":"'Random Variance Component'!N150","v":0},{"$f":"'Random Variance Component'!O150","v":0},{"$f":"'Random Variance Component'!P150","v":0},{"$f":"'Random Variance Component'!Q150","v":0},{"$f":"'Random Variance Component'!R150","v":0},{"$f":"'Random Variance Component'!S150","v":0},{"$f":"'Random Variance Component'!T150","v":0},{"$f":"'Random Variance Component'!U150","v":0},{"$f":"'Random Variance Component'!V150","v":0},{"$f":"'Random Variance Component'!W150","v":0},{"$f":"'Random Variance Component'!X150","v":0}]
[{"$f":"'Random Variance Component'!A151","v":{"$error":"#REF!"}},{"$f":"'Random Variance Component'!B151","v":0},{"$f":"'Random Variance Component'!N151","v":0},{"$f":"'Random Variance Component'!O151","v":0},{"$f":"'Random Variance Component'!P151","v":0},{"$f":"'Random Variance Component'!Q151","v":0},{"$f":"'Random Variance Component'!R151","v":0},{"$f":"'Random Variance Component'!S151","v":0},{"$f":"'Random Variance Component'!T151","v":0},{"$f":"'Random Variance Component'!U151","v":0},{"$f":"'Random Variance Component'!V151","v":0},{"$f":"'Random Variance Component'!W151","v":0},{"$f":"'Random Variance Component'!X151","v":0}]
[{"$f":"'Random Variance Component'!A152","v":{"$error":"#REF!"}},{"$f":"'Random Variance Component'!B152","v":0},{"$f":"'Random Variance Component'!N152","v":0},{"$f":"'Random Variance Component'!O152","v":0},{"$f":"'Random Variance Component'!P152","v":0},{"$f":"'Random Variance Component'!Q152","v":0},{"$f":"'Random Variance Component'!R152","v":0},{"$f":"'Random Variance Component'!S152","v":0},{"$f":"'Random Variance Component'!T152","v":0},{"$f":"'Random Variance Component'!U152","v":0},{"$f":"'Random Variance Component'!V152","v":0},{"$f":"'Random Variance Component'!W152","v":0},{"$f":"'Random Variance Component'!X152","v":0}]
[{"$f":"'Random Variance Component'!A153","v":{"$error":"#REF!"}},{"$f":"'Random Variance Component'!B153","v":0},{"$f":"'Random Variance Component'!N153","v":0},{"$f":"'Random Variance Component'!O153","v":0},{"$f":"'Random Variance Component'!P153","v":0},{"$f":"'Random Variance Component'!Q153","v":0},{"$f":"'Random Variance Component'!R153","v":0},{"$f":"'Random Variance Component'!S153","v":0},{"$f":"'Random Variance Component'!T153","v":0},{"$f":"'Random Variance Component'!U153","v":0},{"$f":"'Random Variance Component'!V153","v":0},{"$f":"'Random Variance Component'!W153","v":0},{"$f":"'Random Variance Component'!X153","v":0}]
[{"$f":"'Random Variance Component'!A154","v":{"$error":"#REF!"}},{"$f":"'Random Variance Component'!B154","v":0},{"$f":"'Random Variance Component'!N154","v":0},{"$f":"'Random Variance Component'!O154","v":0},{"$f":"'Random Variance Component'!P154","v":0},{"$f":"'Random Variance Component'!Q154","v":0},{"$f":"'Random Variance Component'!R154","v":0},{"$f":"'Random Variance Component'!S154","v":0},{"$f":"'Random Variance Component'!T154","v":0},{"$f":"'Random Variance Component'!U154","v":0},{"$f":"'Random Variance Component'!V154","v":0},{"$f":"'Random Variance Component'!W154","v":0},{"$f":"'Random Variance Component'!X154","v":0}]
[{"$f":"'Random Variance Component'!A155","v":{"$error":"#REF!"}},{"$f":"'Random Variance Component'!B155","v":0},{"$f":"'Random Variance Component'!N155","v":0},{"$f":"'Random Variance Component'!O155","v":0},{"$f":"'Random Variance Component'!P155","v":0},{"$f":"'Random Variance Component'!Q155","v":0},{"$f":"'Random Variance Component'!R155","v":0},{"$f":"'Random Variance Component'!S155","v":0},{"$f":"'Random Variance Component'!T155","v":0},{"$f":"'Random Variance Component'!U155","v":0},{"$f":"'Random Variance Component'!V155","v":0},{"$f":"'Random Variance Component'!W155","v":0},{"$f":"'Random Variance Component'!X155","v":0}]
[{"$f":"'Random Variance Component'!A156","v":{"$error":"#REF!"}},{"$f":"'Random Variance Component'!B156","v":0},{"$f":"'Random Variance Component'!N156","v":0},{"$f":"'Random Variance Component'!O156","v":0},{"$f":"'Random Variance Component'!P156","v":0},{"$f":"'Random Variance Component'!Q156","v":0},{"$f":"'Random Variance Component'!R156","v":0},{"$f":"'Random Variance Component'!S156","v":0},{"$f":"'Random Variance Component'!T156","v":0},{"$f":"'Random Variance Component'!U156","v":0},{"$f":"'Random Variance Component'!V156","v":0},{"$f":"'Random Variance Component'!W156","v":0},{"$f":"'Random Variance Component'!X156","v":0}]
[{"$f":"'Random Variance Component'!A157","v":{"$error":"#REF!"}},{"$f":"'Random Variance Component'!B157","v":0},{"$f":"'Random Variance Component'!N157","v":0},{"$f":"'Random Variance Component'!O157","v":0},{"$f":"'Random Variance Component'!P157","v":0},{"$f":"'Random Variance Component'!Q157","v":0},{"$f":"'Random Variance Component'!R157","v":0},{"$f":"'Random Variance Component'!S157","v":0},{"$f":"'Random Variance Component'!T157","v":0},{"$f":"'Random Variance Component'!U157","v":0},{"$f":"'Random Variance Component'!V157","v":0},{"$f":"'Random Variance Component'!W157","v":0},{"$f":"'Random Variance Component'!X157","v":0}]
[{"$f":"'Random Variance Component'!A158","v":{"$error":"#REF!"}},{"$f":"'Random Variance Component'!B158","v":0},{"$f":"'Random Variance Component'!N158","v":0},{"$f":"'Random Variance Component'!O158","v":0},{"$f":"'Random Variance Component'!P158","v":0},{"$f":"'Random Variance Component'!Q158","v":0},{"$f":"'Random Variance Component'!R158","v":0},{"$f":"'Random Variance Component'!S158","v":0},{"$f":"'Random Variance Component'!T158","v":0},{"$f":"'Random Variance Component'!U158","v":0},{"$f":"'Random Variance Component'!V158","v":0},{"$f":"'Random Variance Component'!W158","v":0},{"$f":"'Random Variance Component'!X158","v":0}]
[{"$f":"'Random Variance Component'!A159","v":{"$error":"#REF!"}},{"$f":"'Random Variance Component'!B159","v":0},{"$f":"'Random Variance Component'!N159","v":0},{"$f":"'Random Variance Component'!O159","v":0},{"$f":"'Random Variance Component'!P159","v":0},{"$f":"'Random Variance Component'!Q159","v":0},{"$f":"'Random Variance Component'!R159","v":0},{"$f":"'Random Variance Component'!S159","v":0},{"$f":"'Random Variance Component'!T159","v":0},{"$f":"'Random Variance Component'!U159","v":0},{"$f":"'Random Variance Component'!V159","v":0},{"$f":"'Random Variance Component'!W159","v":0},{"$f":"'Random Variance Component'!X159","v":0}]
[{"$f":"'Random Variance Component'!A160","v":{"$error":"#REF!"}},{"$f":"'Random Variance Component'!B160","v":0},{"$f":"'Random Variance Component'!N160","v":0},{"$f":"'Random Variance Component'!O160","v":0},{"$f":"'Random Variance Component'!P160","v":0},{"$f":"'Random Variance Component'!Q160","v":0},{"$f":"'Random Variance Component'!R160","v":0},{"$f":"'Random Variance Component'!S160","v":0},{"$f":"'Random Variance Component'!T160","v":0},{"$f":"'Random Variance Component'!U160","v":0},{"$f":"'Random Variance Component'!V160","v":0},{"$f":"'Random Variance Component'!W160","v":0},{"$f":"'Random Variance Component'!X160","v":0}]
[{"$f":"'Random Variance Component'!A161","v":{"$error":"#REF!"}},{"$f":"'Random Variance Component'!B161","v":0},{"$f":"'Random Variance Component'!N161","v":0},{"$f":"'Random Variance Component'!O161","v":0},{"$f":"'Random Variance Component'!P161","v":0},{"$f":"'Random Variance Component'!Q161","v":0},{"$f":"'Random Variance Component'!R161","v":0},{"$f":"'Random Variance Component'!S161","v":0},{"$f":"'Random Variance Component'!T161","v":0},{"$f":"'Random Variance Component'!U161","v":0},{"$f":"'Random Variance Component'!V161","v":0},{"$f":"'Random Variance Component'!W161","v":0},{"$f":"'Random Variance Component'!X161","v":0}]
[{"$f":"'Random Variance Component'!A162","v":{"$error":"#REF!"}},{"$f":"'Random Variance Component'!B162","v":0},{"$f":"'Random Variance Component'!N162","v":0},{"$f":"'Random Variance Component'!O162","v":0},{"$f":"'Random Variance Component'!P162","v":0},{"$f":"'Random Variance Component'!Q162","v":0},{"$f":"'Random Variance Component'!R162","v":0},{"$f":"'Random Variance Component'!S162","v":0},{"$f":"'Random Variance Component'!T162","v":0},{"$f":"'Random Variance Component'!U162","v":0},{"$f":"'Random Variance Component'!V162","v":0},{"$f":"'Random Variance Component'!W162","v":0},{"$f":"'Random Variance Component'!X162","v":0}]
[{"$f":"'Random Variance Component'!A163","v":{"$error":"#REF!"}},{"$f":"'Random Variance Component'!B163","v":0},{"$f":"'Random Variance Component'!N163","v":0},{"$f":"'Random Variance Component'!O163","v":0},{"$f":"'Random Variance Component'!P163","v":0},{"$f":"'Random Variance Component'!Q163","v":0},{"$f":"'Random Variance Component'!R163","v":0},{"$f":"'Random Variance Component'!S163","v":0},{"$f":"'Random Variance Component'!T163","v":0},{"$f":"'Random Variance Component'!U163","v":0},{"$f":"'Random Variance Component'!V163","v":0},{"$f":"'Random Variance Component'!W163","v":0},{"$f":"'Random Variance Component'!X163","v":0}]
[{"$f":"'Random Variance Component'!A164","v":{"$error":"#REF!"}},{"$f":"'Random Variance Component'!B164","v":0},{"$f":"'Random Variance Component'!N164","v":0},{"$f":"'Random Variance Component'!O164","v":0},{"$f":"'Random Variance Component'!P164","v":0},{"$f":"'Random Variance Component'!Q164","v":0},{"$f":"'Random Variance Component'!R164","v":0},{"$f":"'Random Variance Component'!S164","v":0},{"$f":"'Random Variance Component'!T164","v":0},{"$f":"'Random Variance Component'!U164","v":0},{"$f":"'Random Variance Component'!V164","v":0},{"$f":"'Random Variance Component'!W164","v":0},{"$f":"'Random Variance Component'!X164","v":0}]
[{"$f":"'Random Variance Component'!A165","v":{"$error":"#REF!"}},{"$f":"'Random Variance Component'!B165","v":0},{"$f":"'Random Variance Component'!N165","v":0},{"$f":"'Random Variance Component'!O165","v":0},{"$f":"'Random Variance Component'!P165","v":0},{"$f":"'Random Variance Component'!Q165","v":0},{"$f":"'Random Variance Component'!R165","v":0},{"$f":"'Random Variance Component'!S165","v":0},{"$f":"'Random Variance Component'!T165","v":0},{"$f":"'Random Variance Component'!U165","v":0},{"$f":"'Random Variance Component'!V165","v":0},{"$f":"'Random Variance Component'!W165","v":0},{"$f":"'Random Variance Component'!X165","v":0}]
[{"$f":"'Random Variance Component'!A166","v":{"$error":"#REF!"}},{"$f":"'Random Variance Component'!B166","v":0},{"$f":"'Random Variance Component'!N166","v":0},{"$f":"'Random Variance Component'!O166","v":0},{"$f":"'Random Variance Component'!P166","v":0},{"$f":"'Random Variance Component'!Q166","v":0},{"$f":"'Random Variance Component'!R166","v":0},{"$f":"'Random Variance Component'!S166","v":0},{"$f":"'Random Variance Component'!T166","v":0},{"$f":"'Random Variance Component'!U166","v":0},{"$f":"'Random Variance Component'!V166","v":0},{"$f":"'Random Variance Component'!W166","v":0},{"$f":"'Random Variance Component'!X166","v":0}]
[{"$f":"'Random Variance Component'!A167","v":{"$error":"#REF!"}},{"$f":"'Random Variance Component'!B167","v":0},{"$f":"'Random Variance Component'!N167","v":0},{"$f":"'Random Variance Component'!O167","v":0},{"$f":"'Random Variance Component'!P167","v":0},{"$f":"'Random Variance Component'!Q167","v":0},{"$f":"'Random Variance Component'!R167","v":0},{"$f":"'Random Variance Component'!S167","v":0},{"$f":"'Random Variance Component'!T167","v":0},{"$f":"'Random Variance Component'!U167","v":0},{"$f":"'Random Variance Component'!V167","v":0},{"$f":"'Random Variance Component'!W167","v":0},{"$f":"'Random Variance Component'!X167","v":0}]
[{"$f":"'Random Variance Component'!A168","v":{"$error":"#REF!"}},{"$f":"'Random Variance Component'!B168","v":0},{"$f":"'Random Variance Component'!N168","v":0},{"$f":"'Random Variance Component'!O168","v":0},{"$f":"'Random Variance Component'!P168","v":0},{"$f":"'Random Variance Component'!Q168","v":0},{"$f":"'Random Variance Component'!R168","v":0},{"$f":"'Random Variance Component'!S168","v":0},{"$f":"'Random Variance Component'!T168","v":0},{"$f":"'Random Variance Component'!U168","v":0},{"$f":"'Random Variance Component'!V168","v":0},{"$f":"'Random Variance Component'!W168","v":0},{"$f":"'Random Variance Component'!X168","v":0}]
[{"$f":"'Random Variance Component'!A169","v":{"$error":"#REF!"}},{"$f":"'Random Variance Component'!B169","v":0},{"$f":"'Random Variance Component'!N169","v":0},{"$f":"'Random Variance Component'!O169","v":0},{"$f":"'Random Variance Component'!P169","v":0},{"$f":"'Random Variance Component'!Q169","v":0},{"$f":"'Random Variance Component'!R169","v":0},{"$f":"'Random Variance Component'!S169","v":0},{"$f":"'Random Variance Component'!T169","v":0},{"$f":"'Random Variance Component'!U169","v":0},{"$f":"'Random Variance Component'!V169","v":0},{"$f":"'Random Variance Component'!W169","v":0},{"$f":"'Random Variance Component'!X169","v":0}]
[{"$f":"'Random Variance Component'!A170","v":{"$error":"#REF!"}},{"$f":"'Random Variance Component'!B170","v":0},{"$f":"'Random Variance Component'!N170","v":0},{"$f":"'Random Variance Component'!O170","v":0},{"$f":"'Random Variance Component'!P170","v":0},{"$f":"'Random Variance Component'!Q170","v":0},{"$f":"'Random Variance Component'!R170","v":0},{"$f":"'Random Variance Component'!S170","v":0},{"$f":"'Random Variance Component'!T170","v":0},{"$f":"'Random Variance Component'!U170","v":0},{"$f":"'Random Variance Component'!V170","v":0},{"$f":"'Random Variance Component'!W170","v":0},{"$f":"'Random Variance Component'!X170","v":0}]
[{"$f":"'Random Variance Component'!A171","v":{"$error":"#REF!"}},{"$f":"'Random Variance Component'!B171","v":0},{"$f":"'Random Variance Component'!N171","v":0},{"$f":"'Random Variance Component'!O171","v":0},{"$f":"'Random Variance Component'!P171","v":0},{"$f":"'Random Variance Component'!Q171","v":0},{"$f":"'Random Variance Component'!R171","v":0},{"$f":"'Random Variance Component'!S171","v":0},{"$f":"'Random Variance Component'!T171","v":0},{"$f":"'Random Variance Component'!U171","v":0},{"$f":"'Random Variance Component'!V171","v":0},{"$f":"'Random Variance Component'!W171","v":0},{"$f":"'Random Variance Component'!X171","v":0}]
[{"$f":"'Random Variance Component'!A172","v":{"$error":"#REF!"}},{"$f":"'Random Variance Component'!B172","v":0},{"$f":"'Random Variance Component'!N172","v":0},{"$f":"'Random Variance Component'!O172","v":0},{"$f":"'Random Variance Component'!P172","v":0},{"$f":"'Random Variance Component'!Q172","v":0},{"$f":"'Random Variance Component'!R172","v":0},{"$f":"'Random Variance Component'!S172","v":0},{"$f":"'Random Variance Component'!T172","v":0},{"$f":"'Random Variance Component'!U172","v":0},{"$f":"'Random Variance Component'!V172","v":0},{"$f":"'Random Variance Component'!W172","v":0},{"$f":"'Random Variance Component'!X172","v":0}]
[{"$f":"'Random Variance Component'!A173","v":{"$error":"#REF!"}},{"$f":"'Random Variance Component'!B173","v":0},{"$f":"'Random Variance Component'!N173","v":0},{"$f":"'Random Variance Component'!O173","v":0},{"$f":"'Random Variance Component'!P173","v":0},{"$f":"'Random Variance Component'!Q173","v":0},{"$f":"'Random Variance Component'!R173","v":0},{"$f":"'Random Variance Component'!S173","v":0},{"$f":"'Random Variance Component'!T173","v":0},{"$f":"'Random Variance Component'!U173","v":0},{"$f":"'Random Variance Component'!V173","v":0},{"$f":"'Random Variance Component'!W173","v":0},{"$f":"'Random Variance Component'!X173","v":0}]
[{"$f":"'Random Variance Component'!A174","v":{"$error":"#REF!"}},{"$f":"'Random Variance Component'!B174","v":0},{"$f":"'Random Variance Component'!N174","v":0},{"$f":"'Random Variance Component'!O174","v":0},{"$f":"'Random Variance Component'!P174","v":0},{"$f":"'Random Variance Component'!Q174","v":0},{"$f":"'Random Variance Component'!R174","v":0},{"$f":"'Random Variance Component'!S174","v":0},{"$f":"'Random Variance Component'!T174","v":0},{"$f":"'Random Variance Component'!U174","v":0},{"$f":"'Random Variance Component'!V174","v":0},{"$f":"'Random Variance Component'!W174","v":0},{"$f":"'Random Variance Component'!X174","v":0}]
[{"$f":"'Random Variance Component'!A175","v":{"$error":"#REF!"}},{"$f":"'Random Variance Component'!B175","v":0},{"$f":"'Random Variance Component'!N175","v":0},{"$f":"'Random Variance Component'!O175","v":0},{"$f":"'Random Variance Component'!P175","v":0},{"$f":"'Random Variance Component'!Q175","v":0},{"$f":"'Random Variance Component'!R175","v":0},{"$f":"'Random Variance Component'!S175","v":0},{"$f":"'Random Variance Component'!T175","v":0},{"$f":"'Random Variance Component'!U175","v":0},{"$f":"'Random Variance Component'!V175","v":0},{"$f":"'Random Variance Component'!W175","v":0},{"$f":"'Random Variance Component'!X175","v":0}]
[{"$f":"'Random Variance Component'!A176","v":{"$error":"#REF!"}},{"$f":"'Random Variance Component'!B176","v":0},{"$f":"'Random Variance Component'!N176","v":0},{"$f":"'Random Variance Component'!O176","v":0},{"$f":"'Random Variance Component'!P176","v":0},{"$f":"'Random Variance Component'!Q176","v":0},{"$f":"'Random Variance Component'!R176","v":0},{"$f":"'Random Variance Component'!S176","v":0},{"$f":"'Random Variance Component'!T176","v":0},{"$f":"'Random Variance Component'!U176","v":0},{"$f":"'Random Variance Component'!V176","v":0},{"$f":"'Random Variance Component'!W176","v":0},{"$f":"'Random Variance Component'!X176","v":0}]
[{"$f":"'Random Variance Component'!A177","v":{"$error":"#REF!"}},{"$f":"'Random Variance Component'!B177","v":0},{"$f":"'Random Variance Component'!N177","v":0},{"$f":"'Random Variance Component'!O177","v":0},{"$f":"'Random Variance Component'!P177","v":0},{"$f":"'Random Variance Component'!Q177","v":0},{"$f":"'Random Variance Component'!R177","v":0},{"$f":"'Random Variance Component'!S177","v":0},{"$f":"'Random Variance Component'!T177","v":0},{"$f":"'Random Variance Component'!U177","v":0},{"$f":"'Random Variance Component'!V177","v":0},{"$f":"'Random Variance Component'!W177","v":0},{"$f":"'Random Variance Component'!X177","v":0}]
[{"$f":"'Random Variance Component'!A178","v":{"$error":"#REF!"}},{"$f":"'Random Variance Component'!B178","v":0},{"$f":"'Random Variance Component'!N178","v":0},{"$f":"'Random Variance Component'!O178","v":0},{"$f":"'Random Variance Component'!P178","v":0},{"$f":"'Random Variance Component'!Q178","v":0},{"$f":"'Random Variance Component'!R178","v":0},{"$f":"'Random Variance Component'!S178","v":0},{"$f":"'Random Variance Component'!T178","v":0},{"$f":"'Random Variance Component'!U178","v":0},{"$f":"'Random Variance Component'!V178","v":0},{"$f":"'Random Variance Component'!W178","v":0},{"$f":"'Random Variance Component'!X178","v":0}]
[{"$f":"'Random Variance Component'!A179","v":{"$error":"#REF!"}},{"$f":"'Random Variance Component'!B179","v":0},{"$f":"'Random Variance Component'!N179","v":0},{"$f":"'Random Variance Component'!O179","v":0},{"$f":"'Random Variance Component'!P179","v":0},{"$f":"'Random Variance Component'!Q179","v":0},{"$f":"'Random Variance Component'!R179","v":0},{"$f":"'Random Variance Component'!S179","v":0},{"$f":"'Random Variance Component'!T179","v":0},{"$f":"'Random Variance Component'!U179","v":0},{"$f":"'Random Variance Component'!V179","v":0},{"$f":"'Random Variance Component'!W179","v":0},{"$f":"'Random Variance Component'!X179","v":0}]
[{"$f":"'Random Variance Component'!A180","v":{"$error":"#REF!"}},{"$f":"'Random Variance Component'!B180","v":0},{"$f":"'Random Variance Component'!N180","v":0},{"$f":"'Random Variance Component'!O180","v":0},{"$f":"'Random Variance Component'!P180","v":0},{"$f":"'Random Variance Component'!Q180","v":0},{"$f":"'Random Variance Component'!R180","v":0},{"$f":"'Random Variance Component'!S180","v":0},{"$f":"'Random Variance Component'!T180","v":0},{"$f":"'Random Variance Component'!U180","v":0},{"$f":"'Random Variance Component'!V180","v":0},{"$f":"'Random Variance Component'!W180","v":0},{"$f":"'Random Variance Component'!X180","v":0}]
[{"$f":"'Random Variance Component'!A181","v":{"$error":"#REF!"}},{"$f":"'Random Variance Component'!B181","v":0},{"$f":"'Random Variance Component'!N181","v":0},{"$f":"'Random Variance Component'!O181","v":0},{"$f":"'Random Variance Component'!P181","v":0},{"$f":"'Random Variance Component'!Q181","v":0},{"$f":"'Random Variance Component'!R181","v":0},{"$f":"'Random Variance Component'!S181","v":0},{"$f":"'Random Variance Component'!T181","v":0},{"$f":"'Random Variance Component'!U181","v":0},{"$f":"'Random Variance Component'!V181","v":0},{"$f":"'Random Variance Component'!W181","v":0},{"$f":"'Random Variance Component'!X181","v":0}]
[{"$f":"'Random Variance Component'!A182","v":{"$error":"#REF!"}},{"$f":"'Random Variance Component'!B182","v":0},{"$f":"'Random Variance Component'!N182","v":0},{"$f":"'Random Variance Component'!O182","v":0},{"$f":"'Random Variance Component'!P182","v":0},{"$f":"'Random Variance Component'!Q182","v":0},{"$f":"'Random Variance Component'!R182","v":0},{"$f":"'Random Variance Component'!S182","v":0},{"$f":"'Random Variance Component'!T182","v":0},{"$f":"'Random Variance Component'!U182","v":0},{"$f":"'Random Variance Component'!V182","v":0},{"$f":"'Random Variance Component'!W182","v":0},{"$f":"'Random Variance Component'!X182","v":0}]
[{"$f":"'Random Variance Component'!A183","v":{"$error":"#REF!"}},{"$f":"'Random Variance Component'!B183","v":0},{"$f":"'Random Variance Component'!N183","v":0},{"$f":"'Random Variance Component'!O183","v":0},{"$f":"'Random Variance Component'!P183","v":0},{"$f":"'Random Variance Component'!Q183","v":0},{"$f":"'Random Variance Component'!R183","v":0},{"$f":"'Random Variance Component'!S183","v":0},{"$f":"'Random Variance Component'!T183","v":0},{"$f":"'Random Variance Component'!U183","v":0},{"$f":"'Random Variance Component'!V183","v":0},{"$f":"'Random Variance Component'!W183","v":0},{"$f":"'Random Variance Component'!X183","v":0}]
[null,"Sums:",{"$f":"'Random Variance Component'!N184","v":0},{"$f":"'Random Variance Component'!O184","v":0},null,null,{"$f":"'Random Variance Component'!R184","v":0},{"$f":"'Random Variance Component'!S184","v":0}]